BEGIN:VCALENDAR
VERSION:2.0
PRODID:-//Municipalité de Saint-Fabien - ECPv6.15.20//NONSGML v1.0//EN
CALSCALE:GREGORIAN
METHOD:PUBLISH
X-ORIGINAL-URL:https://www.saint-fabien.ca
X-WR-CALDESC:Évènements pour Municipalité de Saint-Fabien
REFRESH-INTERVAL;VALUE=DURATION:PT1H
X-Robots-Tag:noindex
X-PUBLISHED-TTL:PT1H
BEGIN:VTIMEZONE
TZID:America/Toronto
BEGIN:DAYLIGHT
TZOFFSETFROM:-0500
TZOFFSETTO:-0400
TZNAME:EDT
DTSTART:20230312T070000
END:DAYLIGHT
BEGIN:STANDARD
TZOFFSETFROM:-0400
TZOFFSETTO:-0500
TZNAME:EST
DTSTART:20231105T060000
END:STANDARD
BEGIN:DAYLIGHT
TZOFFSETFROM:-0500
TZOFFSETTO:-0400
TZNAME:EDT
DTSTART:20240310T070000
END:DAYLIGHT
BEGIN:STANDARD
TZOFFSETFROM:-0400
TZOFFSETTO:-0500
TZNAME:EST
DTSTART:20241103T060000
END:STANDARD
BEGIN:DAYLIGHT
TZOFFSETFROM:-0500
TZOFFSETTO:-0400
TZNAME:EDT
DTSTART:20250309T070000
END:DAYLIGHT
BEGIN:STANDARD
TZOFFSETFROM:-0400
TZOFFSETTO:-0500
TZNAME:EST
DTSTART:20251102T060000
END:STANDARD
END:VTIMEZONE
BEGIN:VEVENT
DTSTART;VALUE=DATE:20240229
DTEND;VALUE=DATE:20240304
DTSTAMP:20260421T103231
CREATED:20240206T194542Z
LAST-MODIFIED:20240206T194542Z
UID:10025642-1709247600-1709506799@www.saint-fabien.ca
SUMMARY:Tournoi de balle donnée sur glace
DESCRIPTION:Le Tournoi de balle donnée sur glace est de retour ! Allez encourager les joueurs les 1er\, 2 et 3 mars\, au Pavillon des loisirs.  \nLe Comité prépare une édition hyper festive et promet un volet musical qui déménage avec Francis Degrandpré\, gagnant de l’album country de l’année au Gala de l’ADISQ 2023\, qui foulera les planches du Pavillon des Loisirs le samedi 2 mars. \nLes vendredi et samedi\, c’est le très apprécié chanteur Rioux\, du groupe Lendemain de veille\, qui sera de retour chez nous en formule chansonnier afin de faire danser et chanter la foule! \nPour couronner le tout\, Disco Mobile Dany Bouffard sera également de la partie. \nAbonnez-vous à la page Facebook du Tournoi pour ne rien manquer ! \nLe comité tient à remercier l’ensemble des partenaires\, commanditaires\, bénévoles et participants. Un merci particulier aux organismes du milieu qui apporte leur contribution en participant à l’organisation de l’événement : Les Loisirs St-Fabien\, l’école de karaté Kyokushin\, l’école l’Écho-des-Montagnes\, le Club de patinage artistique.
URL:https://www.saint-fabien.ca/event-calendar/tournoi-de-balle-donnee-sur-glace-2/
LOCATION:pavillon des loisirs\, 32 8e Avenue Ouest\, Saint-Fabien\, Québec\, G0L2Z0\, Canada
CATEGORIES:Sports et loisirs
GEO:48.2924537;-68.8624063
X-APPLE-STRUCTURED-LOCATION;VALUE=URI;X-ADDRESS=pavillon des loisirs 32 8e Avenue Ouest Saint-Fabien Québec G0L2Z0 Canada;X-APPLE-RADIUS=500;X-TITLE=32 8e Avenue Ouest:geo:-68.8624063,48.2924537
END:VEVENT
BEGIN:VEVENT
DTSTART;TZID=America/Toronto:20240303T080000
DTEND;TZID=America/Toronto:20240303T110000
DTSTAMP:20260421T103232
CREATED:20240206T194718Z
LAST-MODIFIED:20240206T194718Z
UID:10025643-1709452800-1709463600@www.saint-fabien.ca
SUMMARY:Brunch du Club de patinage artistique
DESCRIPTION:Le CPA de Saint-Fabien a le plaisir d’inviter toute la population à son brunch annuel le 3 mars de 9h à 12h au Pavillon des loisirs.  \nVoici les prix des billets  : \n13 ans et + : 18$ \n6-12 ans : 10 $ \n5 ans et – : 5$ \nTous les profits seront remis au Club : voilà une belle façon d’encourager nos jeunes sportifs ! Réservez vos billets auprès de Mélissa Bouchard\, présidente du CA\, ou des parents des patineurs.
URL:https://www.saint-fabien.ca/event-calendar/brunch-du-club-de-patinage-artistique/
LOCATION:pavillon des loisirs\, 32 8e Avenue Ouest\, Saint-Fabien\, Québec\, G0L2Z0\, Canada
CATEGORIES:Activités communautaires
GEO:48.2924537;-68.8624063
X-APPLE-STRUCTURED-LOCATION;VALUE=URI;X-ADDRESS=pavillon des loisirs 32 8e Avenue Ouest Saint-Fabien Québec G0L2Z0 Canada;X-APPLE-RADIUS=500;X-TITLE=32 8e Avenue Ouest:geo:-68.8624063,48.2924537
END:VEVENT
END:VCALENDAR