BEGIN:VCALENDAR
VERSION:2.0
PRODID:-//Municipalité de Saint-Fabien - ECPv6.15.20//NONSGML v1.0//EN
CALSCALE:GREGORIAN
METHOD:PUBLISH
X-WR-CALNAME:Municipalité de Saint-Fabien
X-ORIGINAL-URL:https://www.saint-fabien.ca
X-WR-CALDESC:Évènements pour Municipalité de Saint-Fabien
REFRESH-INTERVAL;VALUE=DURATION:PT1H
X-Robots-Tag:noindex
X-PUBLISHED-TTL:PT1H
BEGIN:VTIMEZONE
TZID:America/Toronto
BEGIN:DAYLIGHT
TZOFFSETFROM:-0500
TZOFFSETTO:-0400
TZNAME:EDT
DTSTART:20230312T070000
END:DAYLIGHT
BEGIN:STANDARD
TZOFFSETFROM:-0400
TZOFFSETTO:-0500
TZNAME:EST
DTSTART:20231105T060000
END:STANDARD
BEGIN:DAYLIGHT
TZOFFSETFROM:-0500
TZOFFSETTO:-0400
TZNAME:EDT
DTSTART:20240310T070000
END:DAYLIGHT
BEGIN:STANDARD
TZOFFSETFROM:-0400
TZOFFSETTO:-0500
TZNAME:EST
DTSTART:20241103T060000
END:STANDARD
BEGIN:DAYLIGHT
TZOFFSETFROM:-0500
TZOFFSETTO:-0400
TZNAME:EDT
DTSTART:20250309T070000
END:DAYLIGHT
BEGIN:STANDARD
TZOFFSETFROM:-0400
TZOFFSETTO:-0500
TZNAME:EST
DTSTART:20251102T060000
END:STANDARD
END:VTIMEZONE
BEGIN:VEVENT
DTSTART;TZID=America/Toronto:20240513T080000
DTEND;TZID=America/Toronto:20240513T170000
DTSTAMP:20260421T183400
CREATED:20240408T130737Z
LAST-MODIFIED:20240408T135155Z
UID:10025683-1715587200-1715619600@www.saint-fabien.ca
SUMMARY:Collecte des gros rebuts
DESCRIPTION:La collecte des gros rebuts se tient cette année le 13 mai. Vous êtes donc invités à déposer vos gros rebuts le long de la voie publique au plus tard la veille\, soit le 12 mai. Il est aussi très important de tenir compte de la liste des rebuts acceptés ou refusés : les rebuts qui ne sont pas acceptés seront laissés sur place. \nUn maximum de 3\,5 mètres cubes de rebuts par foyer est accepté. \nPour savoir où déposer les matières qui ne seront pas ramassées lors de la collecte des gros rebuts\, consultez www.infobac.ca
URL:https://www.saint-fabien.ca/event-calendar/collecte-des-gros-rebuts-13/
LOCATION:municipalité de Saint-Fabien\, 20-A 7 Avenue\, Saint-Fabien\, Québec\, G0L2Z0\, Canada
GEO:48.2935897;-68.8658383
X-APPLE-STRUCTURED-LOCATION;VALUE=URI;X-ADDRESS=municipalité de Saint-Fabien 20-A 7 Avenue Saint-Fabien Québec G0L2Z0 Canada;X-APPLE-RADIUS=500;X-TITLE=20-A 7 Avenue:geo:-68.8658383,48.2935897
END:VEVENT
END:VCALENDAR