BEGIN:VCALENDAR
VERSION:2.0
PRODID:-//Municipalité de Saint-Fabien - ECPv6.15.20//NONSGML v1.0//EN
CALSCALE:GREGORIAN
METHOD:PUBLISH
X-ORIGINAL-URL:https://www.saint-fabien.ca
X-WR-CALDESC:Évènements pour Municipalité de Saint-Fabien
REFRESH-INTERVAL;VALUE=DURATION:PT1H
X-Robots-Tag:noindex
X-PUBLISHED-TTL:PT1H
BEGIN:VTIMEZONE
TZID:America/Toronto
BEGIN:DAYLIGHT
TZOFFSETFROM:-0500
TZOFFSETTO:-0400
TZNAME:EDT
DTSTART:20230312T070000
END:DAYLIGHT
BEGIN:STANDARD
TZOFFSETFROM:-0400
TZOFFSETTO:-0500
TZNAME:EST
DTSTART:20231105T060000
END:STANDARD
BEGIN:DAYLIGHT
TZOFFSETFROM:-0500
TZOFFSETTO:-0400
TZNAME:EDT
DTSTART:20240310T070000
END:DAYLIGHT
BEGIN:STANDARD
TZOFFSETFROM:-0400
TZOFFSETTO:-0500
TZNAME:EST
DTSTART:20241103T060000
END:STANDARD
BEGIN:DAYLIGHT
TZOFFSETFROM:-0500
TZOFFSETTO:-0400
TZNAME:EDT
DTSTART:20250309T070000
END:DAYLIGHT
BEGIN:STANDARD
TZOFFSETFROM:-0400
TZOFFSETTO:-0500
TZNAME:EST
DTSTART:20251102T060000
END:STANDARD
END:VTIMEZONE
BEGIN:VEVENT
DTSTART;TZID=America/Toronto:20240609T090000
DTEND;TZID=America/Toronto:20240609T170000
DTSTAMP:20260425T115359
CREATED:20240509T184054Z
LAST-MODIFIED:20240509T184054Z
UID:10025692-1717923600-1717952400@www.saint-fabien.ca
SUMMARY:Corvée de nettoyage des berges
DESCRIPTION:CORVÉE DE NETTOYAGE DES BERGES\nQuand : Dimanche 9 juin 2024\, beau temps\, mauvais temps !\nLieu de rencontre : Stationnement du sentier des Coulombe à 9h00\nInscrivez-vous en répondant à l’événement Facebook ou en écrivant à Brigitte Crevier\, organisatrice\, à brigittecrevier@me.com\n\n\n\n\nLien vers l’événement Facebook : https://www.facebook.com/events/955300236604552?ref=newsfeed
URL:https://www.saint-fabien.ca/event-calendar/corvee-de-nettoyage-des-berges/
LOCATION:Sentier des Coulombe
CATEGORIES:Autres
ATTACH;FMTTYPE=image/jpeg:https://www.saint-fabien.ca/wp-content/uploads/2024/05/437056090_804539305032095_1759882702610186342_n.jpg
END:VEVENT
BEGIN:VEVENT
DTSTART;TZID=America/Toronto:20240609T103000
DTEND;TZID=America/Toronto:20240609T130000
DTSTAMP:20260425T115359
CREATED:20240607T135229Z
LAST-MODIFIED:20240608T192659Z
UID:10025699-1717929000-1717938000@www.saint-fabien.ca
SUMMARY:Manifestation au Pavillon des loisirs - Fermeture des centres de services Desjardins Neigette et Mitis Ouest
DESCRIPTION:Le comité citoyen et la municipalité de St-Fabien invitent tous les membres de la caisse Desjardins Neigette et Mitis Ouest à faire connaître leur désaccord par rapport aux ruptures de services annoncées par Desjardins en participant à une grande manifestation qui se tiendra dimanche le 9 juin de 10h30 à 13h sur la dalle de la patinoire du Pavillon des loisirs en raison de la pluie annoncée (32\, avenue de l’Aréna à St-Fabien).\nDes hot-dogs\, pizza et des rafraîchissements seront servis gratuitement sur les lieux. Une boîte sera laissée sur place pour recevoir les contributions volontaires. Tous les profits seront remis au Camp de jour estival de Saint-Fabien.\nÀ noter que les participant.e.s sont invité.e.s à laisser leur voiture sur le côté des rues avoisinantes ou sur les stationnements situés à proximité.\nLes Fabiennois.e.s sont bien sûr invité.e.s à rejoindre la manifestation\, mais l’ensemble des membres des caisses Desjardins Neigette et Mitis Ouest sont aussi conviés\, puisqu’ils sont tous concernés par ces ruptures de services qui vont à l’encontre de l’esprit coopératif sur lequel repose les valeurs de Desjardins.\nPour les membres qui ne l’auraient pas déjà fait\, ce sera aussi l’occasion de signer la requête demandant la tenue d’une assemblée générale extraordinaire ayant pour but de discuter des services aux membres et de la relation du conseil d’administration avec les membres.
URL:https://www.saint-fabien.ca/event-calendar/manifestation-fermeture-des-centres-de-services-desjardins-neigette-et-mitis-ouest/
LOCATION:pavillon des loisirs\, 32 8e Avenue Ouest\, Saint-Fabien\, Québec\, G0L2Z0\, Canada
CATEGORIES:Autres
ATTACH;FMTTYPE=image/jpeg:https://www.saint-fabien.ca/wp-content/uploads/2024/06/caissse.jpg
GEO:48.2924537;-68.8624063
X-APPLE-STRUCTURED-LOCATION;VALUE=URI;X-ADDRESS=pavillon des loisirs 32 8e Avenue Ouest Saint-Fabien Québec G0L2Z0 Canada;X-APPLE-RADIUS=500;X-TITLE=32 8e Avenue Ouest:geo:-68.8624063,48.2924537
END:VEVENT
END:VCALENDAR