BEGIN:VCALENDAR
VERSION:2.0
PRODID:-//Municipalité de Saint-Fabien - ECPv6.15.20//NONSGML v1.0//EN
CALSCALE:GREGORIAN
METHOD:PUBLISH
X-WR-CALNAME:Municipalité de Saint-Fabien
X-ORIGINAL-URL:https://www.saint-fabien.ca
X-WR-CALDESC:Évènements pour Municipalité de Saint-Fabien
REFRESH-INTERVAL;VALUE=DURATION:PT1H
X-Robots-Tag:noindex
X-PUBLISHED-TTL:PT1H
BEGIN:VTIMEZONE
TZID:America/Toronto
BEGIN:DAYLIGHT
TZOFFSETFROM:-0500
TZOFFSETTO:-0400
TZNAME:EDT
DTSTART:20240310T070000
END:DAYLIGHT
BEGIN:STANDARD
TZOFFSETFROM:-0400
TZOFFSETTO:-0500
TZNAME:EST
DTSTART:20241103T060000
END:STANDARD
BEGIN:DAYLIGHT
TZOFFSETFROM:-0500
TZOFFSETTO:-0400
TZNAME:EDT
DTSTART:20250309T070000
END:DAYLIGHT
BEGIN:STANDARD
TZOFFSETFROM:-0400
TZOFFSETTO:-0500
TZNAME:EST
DTSTART:20251102T060000
END:STANDARD
BEGIN:DAYLIGHT
TZOFFSETFROM:-0500
TZOFFSETTO:-0400
TZNAME:EDT
DTSTART:20260308T070000
END:DAYLIGHT
BEGIN:STANDARD
TZOFFSETFROM:-0400
TZOFFSETTO:-0500
TZNAME:EST
DTSTART:20261101T060000
END:STANDARD
END:VTIMEZONE
BEGIN:VEVENT
DTSTART;TZID=America/Toronto:20251116T090000
DTEND;TZID=America/Toronto:20251116T130000
DTSTAMP:20260421T095843
CREATED:20251028T131618Z
LAST-MODIFIED:20251028T131618Z
UID:10026021-1763283600-1763298000@www.saint-fabien.ca
SUMMARY:Marché de Noël !
DESCRIPTION:Le Club optimiste\, en collaboration avec Les Loisirs St-Fabien et la Municipalité\, est très fier de présenter encore cette année son très populaire Marché de Noël. \nDe 10h à 14h le 16 novembre prochain au Pavillon des loisirs\, il sera ainsi possible de visiter les kiosques de plus de trente artisan.ne.s et de dénicher des cadeaux originaux pour toute la famille. \nMunissez-vous toutefois d’argent comptant\, puisque les artisan.ne.s ne disposeront pas sytématiquement de terminaux de paiement. \nDes paniers remplis de produits des exposant.e.s participant.e.s feront aussi l’objet d’un tirage parmi les personnes qui se seront procuré des coupons de participation sur place. \nProfitez de cette belle occasion pour découvrir ou redécouvrir les talents d’ici ! \nL’entrée est gratuite.
URL:https://www.saint-fabien.ca/event-calendar/marche-de-noel-2/
LOCATION:pavillon des loisirs\, 32 8e Avenue Ouest\, Saint-Fabien\, Québec\, G0L2Z0\, Canada
CATEGORIES:Activités communautaires
GEO:48.2924537;-68.8624063
X-APPLE-STRUCTURED-LOCATION;VALUE=URI;X-ADDRESS=pavillon des loisirs 32 8e Avenue Ouest Saint-Fabien Québec G0L2Z0 Canada;X-APPLE-RADIUS=500;X-TITLE=32 8e Avenue Ouest:geo:-68.8624063,48.2924537
END:VEVENT
BEGIN:VEVENT
DTSTART;TZID=America/Toronto:20251116T154500
DTEND;TZID=America/Toronto:20251116T164500
DTSTAMP:20260421T095843
CREATED:20251112T161345Z
LAST-MODIFIED:20251112T161345Z
UID:10026035-1763307900-1763311500@www.saint-fabien.ca
SUMMARY:Hockey libre pour toutes et tous
DESCRIPTION:
URL:https://www.saint-fabien.ca/event-calendar/hockey-libre-pour-toutes-et-tous/
LOCATION:pavillon des loisirs\, 32 8e Avenue Ouest\, Saint-Fabien\, Québec\, G0L2Z0\, Canada
CATEGORIES:Sports et loisirs
ORGANIZER;CN="Les Loisirs St-Fabien Inc.":MAILTO:loisirss@cgocable.ca
GEO:48.2924537;-68.8624063
X-APPLE-STRUCTURED-LOCATION;VALUE=URI;X-ADDRESS=pavillon des loisirs 32 8e Avenue Ouest Saint-Fabien Québec G0L2Z0 Canada;X-APPLE-RADIUS=500;X-TITLE=32 8e Avenue Ouest:geo:-68.8624063,48.2924537
END:VEVENT
END:VCALENDAR