BEGIN:VCALENDAR
VERSION:2.0
PRODID:-//Municipalité de Saint-Fabien - ECPv6.15.20//NONSGML v1.0//EN
CALSCALE:GREGORIAN
METHOD:PUBLISH
X-WR-CALNAME:Municipalité de Saint-Fabien
X-ORIGINAL-URL:https://www.saint-fabien.ca
X-WR-CALDESC:Évènements pour Municipalité de Saint-Fabien
REFRESH-INTERVAL;VALUE=DURATION:PT1H
X-Robots-Tag:noindex
X-PUBLISHED-TTL:PT1H
BEGIN:VTIMEZONE
TZID:America/Toronto
BEGIN:DAYLIGHT
TZOFFSETFROM:-0500
TZOFFSETTO:-0400
TZNAME:EDT
DTSTART:20240310T070000
END:DAYLIGHT
BEGIN:STANDARD
TZOFFSETFROM:-0400
TZOFFSETTO:-0500
TZNAME:EST
DTSTART:20241103T060000
END:STANDARD
BEGIN:DAYLIGHT
TZOFFSETFROM:-0500
TZOFFSETTO:-0400
TZNAME:EDT
DTSTART:20250309T070000
END:DAYLIGHT
BEGIN:STANDARD
TZOFFSETFROM:-0400
TZOFFSETTO:-0500
TZNAME:EST
DTSTART:20251102T060000
END:STANDARD
BEGIN:DAYLIGHT
TZOFFSETFROM:-0500
TZOFFSETTO:-0400
TZNAME:EDT
DTSTART:20260308T070000
END:DAYLIGHT
BEGIN:STANDARD
TZOFFSETFROM:-0400
TZOFFSETTO:-0500
TZNAME:EST
DTSTART:20261101T060000
END:STANDARD
END:VTIMEZONE
BEGIN:VEVENT
DTSTART;TZID=America/Toronto:20250215T083000
DTEND;TZID=America/Toronto:20250215T093000
DTSTAMP:20260419T091506
CREATED:20250204T162448Z
LAST-MODIFIED:20250204T162448Z
UID:10025867-1739608200-1739611800@www.saint-fabien.ca
SUMMARY:Heure du conte - matinale - à la Biblio
DESCRIPTION:L’heure du conte de la St-Valentin est planiﬁée le samedi 15 février de 9h30 à 10h30 à la bibliothèque Jovette-Bernier. Pour l’occasion\, parents et enfants sont invités à se présenter en pyjama pour vivre ensemble la lecture animée d’un beau conte. Profitez-en\, c’est gratuit !
URL:https://www.saint-fabien.ca/event-calendar/heure-du-conte-matinale-a-la-biblio/
LOCATION:Bibliothèque Jovette-Bernier\, 30\, 7e Avenue\, Saint-Fabien\, Québec\, G0L2Z0\, Canada
CATEGORIES:Culture
ORGANIZER;CN="Biblioth%C3%A8que Jovette-Bernier":MAILTO:biblio.fabien@crsbp.net
GEO:48.2928805;-68.8651986
X-APPLE-STRUCTURED-LOCATION;VALUE=URI;X-ADDRESS=Bibliothèque Jovette-Bernier 30 7e Avenue Saint-Fabien Québec G0L2Z0 Canada;X-APPLE-RADIUS=500;X-TITLE=30\, 7e Avenue:geo:-68.8651986,48.2928805
END:VEVENT
BEGIN:VEVENT
DTSTART;TZID=America/Toronto:20250215T140000
DTEND;TZID=America/Toronto:20250215T160000
DTSTAMP:20260419T091506
CREATED:20250204T162302Z
LAST-MODIFIED:20250214T151016Z
UID:10025866-1739628000-1739635200@www.saint-fabien.ca
SUMMARY:ANNULÉ : Après-midis musicaux à la Biblio
DESCRIPTION:Malheureusement\, l’événement doit être annulé pour cause de maladie ! Restez aux aguets pour connaître la prochaine date ! \n  \nLe 15 février dès 15h\, joignez-vous aux musiciens\, Jean-Claude Voyer et François Dufresne\, pour un après-midi musical tout en douceur. Ça aussi\, c’est gratuit !
URL:https://www.saint-fabien.ca/event-calendar/apres-midis-musicaux-a-la-biblio/
LOCATION:Bibliothèque Jovette-Bernier\, 30\, 7e Avenue\, Saint-Fabien\, Québec\, G0L2Z0\, Canada
CATEGORIES:Culture
ORGANIZER;CN="Biblioth%C3%A8que Jovette-Bernier":MAILTO:biblio.fabien@crsbp.net
GEO:48.2928805;-68.8651986
X-APPLE-STRUCTURED-LOCATION;VALUE=URI;X-ADDRESS=Bibliothèque Jovette-Bernier 30 7e Avenue Saint-Fabien Québec G0L2Z0 Canada;X-APPLE-RADIUS=500;X-TITLE=30\, 7e Avenue:geo:-68.8651986,48.2928805
END:VEVENT
END:VCALENDAR