BEGIN:VCALENDAR
VERSION:2.0
PRODID:-//Municipalité de Saint-Fabien - ECPv6.15.20//NONSGML v1.0//EN
CALSCALE:GREGORIAN
METHOD:PUBLISH
X-WR-CALNAME:Municipalité de Saint-Fabien
X-ORIGINAL-URL:https://www.saint-fabien.ca
X-WR-CALDESC:Évènements pour Municipalité de Saint-Fabien
REFRESH-INTERVAL;VALUE=DURATION:PT1H
X-Robots-Tag:noindex
X-PUBLISHED-TTL:PT1H
BEGIN:VTIMEZONE
TZID:America/Toronto
BEGIN:DAYLIGHT
TZOFFSETFROM:-0500
TZOFFSETTO:-0400
TZNAME:EDT
DTSTART:20240310T070000
END:DAYLIGHT
BEGIN:STANDARD
TZOFFSETFROM:-0400
TZOFFSETTO:-0500
TZNAME:EST
DTSTART:20241103T060000
END:STANDARD
BEGIN:DAYLIGHT
TZOFFSETFROM:-0500
TZOFFSETTO:-0400
TZNAME:EDT
DTSTART:20250309T070000
END:DAYLIGHT
BEGIN:STANDARD
TZOFFSETFROM:-0400
TZOFFSETTO:-0500
TZNAME:EST
DTSTART:20251102T060000
END:STANDARD
BEGIN:DAYLIGHT
TZOFFSETFROM:-0500
TZOFFSETTO:-0400
TZNAME:EDT
DTSTART:20260308T070000
END:DAYLIGHT
BEGIN:STANDARD
TZOFFSETFROM:-0400
TZOFFSETTO:-0500
TZNAME:EST
DTSTART:20261101T060000
END:STANDARD
END:VTIMEZONE
BEGIN:VEVENT
DTSTART;TZID=America/Toronto:20250705T180000
DTEND;TZID=America/Toronto:20250705T200000
DTSTAMP:20260419T161042
CREATED:20250701T123651Z
LAST-MODIFIED:20250701T123651Z
UID:10025964-1751738400-1751745600@www.saint-fabien.ca
SUMMARY:Vieux Théâtre - Thomas Hellman
DESCRIPTION:**À la Chapelle de Saint-Fabien-sur-mer**Thomas Hellman est à la croisée des cultures comme des disciplines artistiques. Fils d’un père texan et d’une mère française\, il possède la langue et l’héritage de l’Hexagone et des Amériques. Il compte sept albums à son actif comme auteur-compositeur et une maîtrise en littérature. Il est également conteur\, écrivain et conférencier. Ses spectacles sont reconnus pour leur forme unique\, à mi-chemin entre le théâtre\, le concert et la littérature orale. Ils lui ont valu une reconnaissance internationale.\nThomas est chroniqueur à la radio de Radio-Canada. À l’émission « Plus on est de fous\, plus on lit »\, il a longtemps tenu la chronique « Le livre à lire en ce moment »\, expliquant comment des classiques éprouvés sont demeurés d’actualité. À l’émission « Dessine-moi un dimanche »\, il a raconté les mythes grecs à sa façon\, accompagné de la guitare\, du piano ou du banjo.\nEn 2022\, Thomas Hellman créé Mythomane\, un nouveau spectacle inspiré de ses capsules mythologiques\, mis en scène par le grand musicien et conteur Michel Faubert. Dans ce spectacle inspiré de ses capsules conte-musique portant sur la mythologie grecque à l’émission « Dessine-moi un dimanche » sur les ondes de ICI Radio-Canada première\, Thomas Hellman revisite à sa façon la galerie des dieux et déesses\, de Zeus à Athéna\, de Vénus à Prométhée. Accompagné sur scène par son fidèle ami et collaborateur le multi-instrumentiste Olaf Gundel\, Thomas offre à l’écran de nos imaginaires un voyage vivant\, actuel et très musical dans l’Olympe d’une grande tradition orale.
URL:https://www.saint-fabien.ca/event-calendar/vieux-theatre-thomas-hellman-2/
LOCATION:Chapelle Notre-Dame-des-Murailles\, 38\, chemin de la Mer Ouest\, Saint-Fabien-sur-Mer\, Québec\, G0L2Z0\, Canada
CATEGORIES:Culture
ATTACH;FMTTYPE=image/jpeg:https://www.saint-fabien.ca/wp-content/uploads/2025/07/498139083_1305049414955116_8779632753444502337_n.jpg
GEO:48.315836;-68.8713882
X-APPLE-STRUCTURED-LOCATION;VALUE=URI;X-ADDRESS=Chapelle Notre-Dame-des-Murailles 38 chemin de la Mer Ouest Saint-Fabien-sur-Mer Québec G0L2Z0 Canada;X-APPLE-RADIUS=500;X-TITLE=38\, chemin de la Mer Ouest:geo:-68.8713882,48.315836
END:VEVENT
BEGIN:VEVENT
DTSTART;TZID=America/Toronto:20250712T150000
DTEND;TZID=America/Toronto:20250712T163000
DTSTAMP:20260419T161042
CREATED:20250702T144147Z
LAST-MODIFIED:20250702T144217Z
UID:10025965-1752332400-1752337800@www.saint-fabien.ca
SUMMARY:Échos du Nord - Quatuor Al Fresco - Chapelle
DESCRIPTION:Le quatuor Al Fresco (avec Clara Gilbert\, Marie Jobin\, William Foy et Vincent Dorion) sera en spectacle à la Chapelle de St-Fabien-sur-Mer le samedi 12 juillet à 15h. Admission générale : 25$Étudiant : 15$Photo : Répertoire du patrimoine culturel du Québec
URL:https://www.saint-fabien.ca/event-calendar/echos-du-nord-quatuor-al-fresco-chapelle/
LOCATION:Chapelle Notre-Dame-des-Murailles\, 38\, chemin de la Mer Ouest\, Saint-Fabien-sur-Mer\, Québec\, G0L2Z0\, Canada
CATEGORIES:Culture
ATTACH;FMTTYPE=image/jpeg:https://www.saint-fabien.ca/wp-content/uploads/2025/07/rpcq_bien_125256_292505-scaled.jpg
GEO:48.315836;-68.8713882
X-APPLE-STRUCTURED-LOCATION;VALUE=URI;X-ADDRESS=Chapelle Notre-Dame-des-Murailles 38 chemin de la Mer Ouest Saint-Fabien-sur-Mer Québec G0L2Z0 Canada;X-APPLE-RADIUS=500;X-TITLE=38\, chemin de la Mer Ouest:geo:-68.8713882,48.315836
END:VEVENT
BEGIN:VEVENT
DTSTART;TZID=America/Toronto:20250715T150000
DTEND;TZID=America/Toronto:20250715T163000
DTSTAMP:20260419T161042
CREATED:20250702T144816Z
LAST-MODIFIED:20250702T153028Z
UID:10025966-1752591600-1752597000@www.saint-fabien.ca
SUMMARY:Conférence - Voyage au centre de la pollution - Chapelle
DESCRIPTION:Alexandra Duguay prononcera une conférence le mardi 15 juillet à 15h à la chapelle Notre-Dame-des-Murailles située à St-Fabien-sur-Mer. La conférence a pour titre : Voyage au centre de la pollution. L’entrée est gratuite. \nPhoto : Répertoire du patrimoine culturel du Québec
URL:https://www.saint-fabien.ca/event-calendar/conference-voyage-au-centre-de-la-pollution-chapelle/
LOCATION:Chapelle Notre-Dame-des-Murailles\, 38\, chemin de la Mer Ouest\, Saint-Fabien-sur-Mer\, Québec\, G0L2Z0\, Canada
CATEGORIES:Culture
ATTACH;FMTTYPE=image/jpeg:https://www.saint-fabien.ca/wp-content/uploads/2025/07/rpcq_bien_125256_292505-scaled.jpg
GEO:48.315836;-68.8713882
X-APPLE-STRUCTURED-LOCATION;VALUE=URI;X-ADDRESS=Chapelle Notre-Dame-des-Murailles 38 chemin de la Mer Ouest Saint-Fabien-sur-Mer Québec G0L2Z0 Canada;X-APPLE-RADIUS=500;X-TITLE=38\, chemin de la Mer Ouest:geo:-68.8713882,48.315836
END:VEVENT
BEGIN:VEVENT
DTSTART;TZID=America/Toronto:20250716T180000
DTEND;TZID=America/Toronto:20250716T200000
DTSTAMP:20260419T161042
CREATED:20250709T173617Z
LAST-MODIFIED:20250709T173711Z
UID:10025967-1752688800-1752696000@www.saint-fabien.ca
SUMMARY:Vieux Théâtre - Marie-Jo Therio
DESCRIPTION:À la Chapelle de Saint-Fabien-sur-merVoir Marie-Jo Thério sur scène est une expérience peu commune. L’auteure-compositrice-interprète s’y donne avec passion et singularité\, dans un élan artistique unique. Voilà pourquoi son retour sur scène\, après une absence de quelques années\, réjouit tous ceux qui ont assisté à une représentation de La maline\, 20 ans et quelques lunes.\nDevant tant d’originalité\, le public et les critiques avaient été unanimes : il fallait découvrir La Maline ainsi que le spectacle Arbre à Fruits présenté dans la foulée. Malgré les années qui passent\, ses chansons traversent le temps avec panache.\nQuelle est la marque du temps que porte La Maline? Elle n’a pas l’âge des calendriers ni du déroulement du vieillissement. Elle porte seulement la marque de l’humain et de l’intemporel.
URL:https://www.saint-fabien.ca/event-calendar/vieux-theatre-marie-jo-therio/
LOCATION:Chapelle Notre-Dame-des-Murailles\, 38\, chemin de la Mer Ouest\, Saint-Fabien-sur-Mer\, Québec\, G0L2Z0\, Canada
CATEGORIES:Culture
ATTACH;FMTTYPE=image/jpeg:https://www.saint-fabien.ca/wp-content/uploads/2025/07/497753162_1305052154954842_1586571230396808496_n.jpg
GEO:48.315836;-68.8713882
X-APPLE-STRUCTURED-LOCATION;VALUE=URI;X-ADDRESS=Chapelle Notre-Dame-des-Murailles 38 chemin de la Mer Ouest Saint-Fabien-sur-Mer Québec G0L2Z0 Canada;X-APPLE-RADIUS=500;X-TITLE=38\, chemin de la Mer Ouest:geo:-68.8713882,48.315836
END:VEVENT
BEGIN:VEVENT
DTSTART;TZID=America/Toronto:20250719T130000
DTEND;TZID=America/Toronto:20250719T150000
DTSTAMP:20260419T161042
CREATED:20250709T181304Z
LAST-MODIFIED:20250709T181818Z
UID:10025970-1752930000-1752937200@www.saint-fabien.ca
SUMMARY:Atelier - Les petites maisons oniriques
DESCRIPTION:Vous et vos petites mains êtes invités à faire un atelier de collage gratuit dans une petite chapelle sur le bord du fleuve.Donné par une artiste-enseignante en arts plastiques: ce sera facile\, promis!Tout le matériel est fourni.Et vous repartirez avec votre petit tableau. \nInscrivez-vous en m’écrivant sur messenger: Isabelle MasseyLes places sont limitées \nL’atelier sera suivi en soirée d’un concert (!)wow(!)MUSIQUE IMPROVISÉE ET COLLAGE GRAND FORMAT EN DIRECThttps://urls.fr/svxjeB \nCe projet est rendu possible grâce au support de la MRC de Rimouski dans le cadre de l’Entente de développement culturel\, de la Société Rimouskoise du patrimoine et de la municipalité de St-Fabien.
URL:https://www.saint-fabien.ca/event-calendar/atelier-les-petites-maisons-oniriques/
LOCATION:Chapelle Notre-Dame-des-Murailles\, 38\, chemin de la Mer Ouest\, Saint-Fabien-sur-Mer\, Québec\, G0L2Z0\, Canada
CATEGORIES:Culture
ATTACH;FMTTYPE=image/jpeg:https://www.saint-fabien.ca/wp-content/uploads/2025/07/IMG_1330-scaled.jpg
GEO:48.315836;-68.8713882
X-APPLE-STRUCTURED-LOCATION;VALUE=URI;X-ADDRESS=Chapelle Notre-Dame-des-Murailles 38 chemin de la Mer Ouest Saint-Fabien-sur-Mer Québec G0L2Z0 Canada;X-APPLE-RADIUS=500;X-TITLE=38\, chemin de la Mer Ouest:geo:-68.8713882,48.315836
END:VEVENT
BEGIN:VEVENT
DTSTART;TZID=America/Toronto:20250719T200000
DTEND;TZID=America/Toronto:20250719T204500
DTSTAMP:20260419T161042
CREATED:20250709T181653Z
LAST-MODIFIED:20250709T181752Z
UID:10025971-1752955200-1752957900@www.saint-fabien.ca
SUMMARY:Musique qui clique et collage onirique
DESCRIPTION:Allochtone + Isabelle Massey \nLe groupe Allochtone propose une musique expérimentale improvisée fascinante\, dont les sonorités semblent venir d’ailleurs. En écoutant leur musique\, on est transporté vers des univers sonores inexplorés. Les membres du groupe réagissent aux idées et aux impulsions de chacun\, créant ainsi des moments de pure spontanéité et de magie musicale.Avec l’artiste collagiste Isabelle Massey\, il vous invite dans un univers intemporel et ludique. Entre le sommeil et l’éveil\, Isabelle perçoit les images qui viennent à son esprit à travers le prisme d’un songe. Avec ce matériel\, elle explore librement ce thème universel qu’est la maison. Son univers onirique est réconfortant et doux\, mais se tient aussi parfois sur la limite du déstabilisant et du troublant. \nRémi Leclerc – batterie\, percussions\, électroniquesAndré Pelletier – piano\, claviers\, programmationRobin Servant – accordéon\, électroniquesEtienne Yockell – vidéoIsabelle Massey – collage \nContribution volontaire (suggéré 20$) \nALLOCHTONEhttps://www.youtube.com/watch?v=urBExdQphgA \nISABELLE MASSEY https://www.culturebsl.ca/nos-membres/isabelle-massey/ \n\nCe sera un spectacle inédit dans un lieu patrimonial drette sur le bord du fleuve. https://www.patrimoine-culturel.gouv.qc.ca/rpcq/detail.do… \nCe projet est rendu possible grâce au support de la MRC de Rimouski dans le cadre de l’Entente de développement culturel\, de la Société Rimouskoise du patrimoine et de la municipalité de St-Fabien.
URL:https://www.saint-fabien.ca/event-calendar/musique-qui-clique-et-collage-onirique/
LOCATION:Chapelle Notre-Dame-des-Murailles\, 38\, chemin de la Mer Ouest\, Saint-Fabien-sur-Mer\, Québec\, G0L2Z0\, Canada
CATEGORIES:Culture
ATTACH;FMTTYPE=image/jpeg:https://www.saint-fabien.ca/wp-content/uploads/2025/07/a24a75d0-89ec-455c-8658-655863162e2e-Copie-Copie.jpg
GEO:48.315836;-68.8713882
X-APPLE-STRUCTURED-LOCATION;VALUE=URI;X-ADDRESS=Chapelle Notre-Dame-des-Murailles 38 chemin de la Mer Ouest Saint-Fabien-sur-Mer Québec G0L2Z0 Canada;X-APPLE-RADIUS=500;X-TITLE=38\, chemin de la Mer Ouest:geo:-68.8713882,48.315836
END:VEVENT
BEGIN:VEVENT
DTSTART;TZID=America/Toronto:20250726T140000
DTEND;TZID=America/Toronto:20250726T160000
DTSTAMP:20260419T161042
CREATED:20250709T175651Z
LAST-MODIFIED:20250717T133358Z
UID:10025968-1753538400-1753545600@www.saint-fabien.ca
SUMMARY:Raconte-nous St-Fabien-sur-Mer avec Ghislaine Jean et Lorenzo Montminy
DESCRIPTION:Ghislaine Jean et Lorenzo Montminy\, auteur.e.s du livre St-Fabien-sur-Mer… raconté\, seront les invité.e.s d’honneur de cette belle rencontre animée par Stéphanie Duguay.
URL:https://www.saint-fabien.ca/event-calendar/raconte-nous-st-fabien-sur-mer-avec-ghislaine-jean-et-lorenzo-montminy/
LOCATION:Chapelle Notre-Dame-des-Murailles\, 38\, chemin de la Mer Ouest\, Saint-Fabien-sur-Mer\, Québec\, G0L2Z0\, Canada
CATEGORIES:Culture
GEO:48.315836;-68.8713882
X-APPLE-STRUCTURED-LOCATION;VALUE=URI;X-ADDRESS=Chapelle Notre-Dame-des-Murailles 38 chemin de la Mer Ouest Saint-Fabien-sur-Mer Québec G0L2Z0 Canada;X-APPLE-RADIUS=500;X-TITLE=38\, chemin de la Mer Ouest:geo:-68.8713882,48.315836
END:VEVENT
BEGIN:VEVENT
DTSTART;TZID=America/Toronto:20250731T200000
DTEND;TZID=America/Toronto:20250731T220000
DTSTAMP:20260419T161042
CREATED:20250717T185744Z
LAST-MODIFIED:20250717T185744Z
UID:10025974-1753992000-1753999200@www.saint-fabien.ca
SUMMARY:Soirée cinéma en plein-air - Paraloeil
DESCRIPTION:Paraloeil\, en collaboration avec la bibliothèque Jovette-Bernier et Les Loisirs St-Fabien\, propose une belle soirée cinéma à vivre en famille le 31 juillet dès 20h. L’activité se déroulera sur les plateaux sportifs situés derrière le Pavillon des loisirs. En cas de pluie ou de forts vents\, la projection se déroulera plutôt à l’intérieur\, dans la salle Desjardins.Merci à la MRC Rimouski-Neigette qui finance cette activité via le Fonds région et ruralité.
URL:https://www.saint-fabien.ca/event-calendar/soiree-cinema-en-plein-air-paraloeil/
LOCATION:pavillon des loisirs\, 32 8e Avenue Ouest\, Saint-Fabien\, Québec\, G0L2Z0\, Canada
CATEGORIES:Culture
ATTACH;FMTTYPE=image/jpeg:https://www.saint-fabien.ca/wp-content/uploads/2025/07/4-projection-estivale.jpeg
ORGANIZER;CN="Biblioth%C3%A8que Jovette-Bernier":MAILTO:biblio.fabien@crsbp.net
GEO:48.2924537;-68.8624063
X-APPLE-STRUCTURED-LOCATION;VALUE=URI;X-ADDRESS=pavillon des loisirs 32 8e Avenue Ouest Saint-Fabien Québec G0L2Z0 Canada;X-APPLE-RADIUS=500;X-TITLE=32 8e Avenue Ouest:geo:-68.8624063,48.2924537
END:VEVENT
END:VCALENDAR