BEGIN:VCALENDAR
VERSION:2.0
PRODID:-//Municipalité de Saint-Fabien - ECPv6.15.20//NONSGML v1.0//EN
CALSCALE:GREGORIAN
METHOD:PUBLISH
X-WR-CALNAME:Municipalité de Saint-Fabien
X-ORIGINAL-URL:https://www.saint-fabien.ca
X-WR-CALDESC:Évènements pour Municipalité de Saint-Fabien
REFRESH-INTERVAL;VALUE=DURATION:PT1H
X-Robots-Tag:noindex
X-PUBLISHED-TTL:PT1H
BEGIN:VTIMEZONE
TZID:America/Toronto
BEGIN:DAYLIGHT
TZOFFSETFROM:-0500
TZOFFSETTO:-0400
TZNAME:EDT
DTSTART:20250309T070000
END:DAYLIGHT
BEGIN:STANDARD
TZOFFSETFROM:-0400
TZOFFSETTO:-0500
TZNAME:EST
DTSTART:20251102T060000
END:STANDARD
BEGIN:DAYLIGHT
TZOFFSETFROM:-0500
TZOFFSETTO:-0400
TZNAME:EDT
DTSTART:20260308T070000
END:DAYLIGHT
BEGIN:STANDARD
TZOFFSETFROM:-0400
TZOFFSETTO:-0500
TZNAME:EST
DTSTART:20261101T060000
END:STANDARD
BEGIN:DAYLIGHT
TZOFFSETFROM:-0500
TZOFFSETTO:-0400
TZNAME:EDT
DTSTART:20270314T070000
END:DAYLIGHT
BEGIN:STANDARD
TZOFFSETFROM:-0400
TZOFFSETTO:-0500
TZNAME:EST
DTSTART:20271107T060000
END:STANDARD
END:VTIMEZONE
BEGIN:VEVENT
DTSTART;TZID=America/Toronto:20260302T093000
DTEND;TZID=America/Toronto:20260302T113000
DTSTAMP:20260425T064918
CREATED:20260225T183602Z
LAST-MODIFIED:20260225T183741Z
UID:10026285-1772443800-1772451000@www.saint-fabien.ca
SUMMARY:Relâche - Conte en pyjama
DESCRIPTION:Conte en pyjama à la Bibliothèque ! Muffins et chocolat chaud. Venez en famille !
URL:https://www.saint-fabien.ca/event-calendar/relache-conte-en-pyjama/
LOCATION:Bibliothèque Jovette-Bernier\, 30\, 7e Avenue\, Saint-Fabien\, Québec\, G0L2Z0\, Canada
CATEGORIES:Culture
ATTACH;FMTTYPE=image/png:https://www.saint-fabien.ca/wp-content/uploads/2026/02/Bannière_FB-copie-scaled.png
ORGANIZER;CN="Biblioth%C3%A8que Jovette-Bernier":MAILTO:biblio.fabien@crsbp.net
GEO:48.2928805;-68.8651986
X-APPLE-STRUCTURED-LOCATION;VALUE=URI;X-ADDRESS=Bibliothèque Jovette-Bernier 30 7e Avenue Saint-Fabien Québec G0L2Z0 Canada;X-APPLE-RADIUS=500;X-TITLE=30\, 7e Avenue:geo:-68.8651986,48.2928805
END:VEVENT
BEGIN:VEVENT
DTSTART;TZID=America/Toronto:20260302T193000
DTEND;TZID=America/Toronto:20260302T213000
DTSTAMP:20260425T064918
CREATED:20260225T190217Z
LAST-MODIFIED:20260228T161436Z
UID:10026287-1772479800-1772487000@www.saint-fabien.ca
SUMMARY:Relâche - Soirée cinéma !
DESCRIPTION:Soirée cinéma à 19h30 à la salle Desjardins du Pavillon des loisirs. Entrée gratuite !
URL:https://www.saint-fabien.ca/event-calendar/relache-soiree-cinema/
LOCATION:pavillon des loisirs\, 32 8e Avenue Ouest\, Saint-Fabien\, Québec\, G0L2Z0\, Canada
CATEGORIES:Culture,Sports et loisirs
ATTACH;FMTTYPE=image/jpeg:https://www.saint-fabien.ca/wp-content/uploads/2026/02/top-view-tasty-popcorn-with-movie-clapperboard-scaled.jpg
ORGANIZER;CN="Les Loisirs St-Fabien Inc.":MAILTO:loisirss@cgocable.ca
GEO:48.2924537;-68.8624063
X-APPLE-STRUCTURED-LOCATION;VALUE=URI;X-ADDRESS=pavillon des loisirs 32 8e Avenue Ouest Saint-Fabien Québec G0L2Z0 Canada;X-APPLE-RADIUS=500;X-TITLE=32 8e Avenue Ouest:geo:-68.8624063,48.2924537
END:VEVENT
BEGIN:VEVENT
DTSTART;TZID=America/Toronto:20260303T130000
DTEND;TZID=America/Toronto:20260303T170000
DTSTAMP:20260425T064918
CREATED:20260225T192214Z
LAST-MODIFIED:20260225T192214Z
UID:10026288-1772542800-1772557200@www.saint-fabien.ca
SUMMARY:Relâche à la Biblio - Retrogaming avec Arcade des Monts
DESCRIPTION:Le temps d’une demie journée\, la Bibliothèque sortira de sa zone de confort pour accueillir les retrogamers et retrogameuses de tout poil !Jouez – ou rejouez\, si vous êtes un vieux ! : ) – au Atari\, à la NES ou découvrez la toute première console Nintendo\, importée directement du Japon.L’activité se déroule de 13h à 17h. Entrée : 5$/personne
URL:https://www.saint-fabien.ca/event-calendar/relache-a-la-biblio-retrogaming-avec-arcade-des-monts/
LOCATION:Bibliothèque Jovette-Bernier\, 30\, 7e Avenue\, Saint-Fabien\, Québec\, G0L2Z0\, Canada
CATEGORIES:Culture
ATTACH;FMTTYPE=image/jpeg:https://www.saint-fabien.ca/wp-content/uploads/2026/02/media-255.jpg
ORGANIZER;CN="Biblioth%C3%A8que Jovette-Bernier":MAILTO:biblio.fabien@crsbp.net
GEO:48.2928805;-68.8651986
X-APPLE-STRUCTURED-LOCATION;VALUE=URI;X-ADDRESS=Bibliothèque Jovette-Bernier 30 7e Avenue Saint-Fabien Québec G0L2Z0 Canada;X-APPLE-RADIUS=500;X-TITLE=30\, 7e Avenue:geo:-68.8651986,48.2928805
END:VEVENT
BEGIN:VEVENT
DTSTART;TZID=America/Toronto:20260304T133000
DTEND;TZID=America/Toronto:20260304T150000
DTSTAMP:20260425T064918
CREATED:20260225T193121Z
LAST-MODIFIED:20260225T193121Z
UID:10026289-1772631000-1772636400@www.saint-fabien.ca
SUMMARY:Relâche à la Biblio - Atelier textile "Il suffit de tirer sur un fil"
DESCRIPTION:́  ‘́      ̂  ́   \n Mercredi le 4 mars | à partir de 13h30 à la Bibliothèque Jovette-Bernier de St-Fabien (30\, 7e Avenue)\n  En formule intergénérationnelle\, cet atelier commence par une jasette sur l’industrie des vêtements et de la mode\, animée par le CIBLES. Puis\, place à la création avec l’artiste    ! Vous réaliserez une petite œuvre en tissus récupérés\, transformant des vêtements usagés en créations durables.\n ́  Inscription suggérée pour réserver votre place (limite de 15 personnes): https://forms.gle/xPDnfugmbeSRq1WM7 Ou communiquez avec Catherine Berger (CIBLES) : communication@cibles.org / cell. : 418-556-3062\n Cette animation est une activité complémentaire à l’exposition nomade “Il suffit de tirer sur un fil” présentée à la bibliothèque Jovette-Bernier   ́   \, sur les heures régulières d’ouverture ( https://www.saint-fabien.ca/bibliotheque-municipale/ ). Passez faire un tour avant qu’elle ne poursuive sa route! \n   | Basée au Bic (Rimouski)\, cette artiste textile multidisciplinaire crée des œuvres à partir de fibres choisies avec soin\, portant des préoccupations politiques\, sociales et environnementales. En opposition à la production rapide\, elle revendique la lenteur\, la valeur du geste et le travail bien fait comme actes de résistance.\n       est un projet du CIBLES (un organisme région d’éducation à l’écocitoyenneté mondiale) réalisé en collaboration avec le Réseau BIBLIO du Bas-Saint-Laurent et avec le soutien de la MRC de Rimouski-Neigette\, l’AÉCQ\, le MRIF et le MELCCFP.\nPour en savoir plus : https://cibles.org/activit%C3%A9-campagne/expo-textile/
URL:https://www.saint-fabien.ca/event-calendar/relache-a-la-biblio-atelier-textile-il-suffit-de-tirer-sur-un-fil/
LOCATION:Bibliothèque Jovette-Bernier\, 30\, 7e Avenue\, Saint-Fabien\, Québec\, G0L2Z0\, Canada
CATEGORIES:Culture
ATTACH;FMTTYPE=image/png:https://www.saint-fabien.ca/wp-content/uploads/2026/02/Info_atelier_expo_nomade_St-Fabien_4mars.png
ORGANIZER;CN="Biblioth%C3%A8que Jovette-Bernier":MAILTO:biblio.fabien@crsbp.net
GEO:48.2928805;-68.8651986
X-APPLE-STRUCTURED-LOCATION;VALUE=URI;X-ADDRESS=Bibliothèque Jovette-Bernier 30 7e Avenue Saint-Fabien Québec G0L2Z0 Canada;X-APPLE-RADIUS=500;X-TITLE=30\, 7e Avenue:geo:-68.8651986,48.2928805
END:VEVENT
BEGIN:VEVENT
DTSTART;TZID=America/Toronto:20260307T100000
DTEND;TZID=America/Toronto:20260307T110000
DTSTAMP:20260425T064918
CREATED:20260224T201417Z
LAST-MODIFIED:20260226T195118Z
UID:10026292-1772877600-1772881200@www.saint-fabien.ca
SUMMARY:Relâche - Conte et brico à la Biblio
DESCRIPTION:Conte et brico spécial relâche à la Bibliothèque ! L’activité se déroule de 10h à 11h. Les parents sont les bienvenus !
URL:https://www.saint-fabien.ca/event-calendar/relache-conte-et-brico-a-la-biblio-2/2026-03-07/
LOCATION:Bibliothèque Jovette-Bernier\, 30\, 7e Avenue\, Saint-Fabien\, Québec\, G0L2Z0\, Canada
CATEGORIES:Culture
ATTACH;FMTTYPE=image/png:https://www.saint-fabien.ca/wp-content/uploads/2026/02/Bannière_FB-copie-scaled.png
ORGANIZER;CN="Biblioth%C3%A8que Jovette-Bernier":MAILTO:biblio.fabien@crsbp.net
GEO:48.2928805;-68.8651986
X-APPLE-STRUCTURED-LOCATION;VALUE=URI;X-ADDRESS=Bibliothèque Jovette-Bernier 30 7e Avenue Saint-Fabien Québec G0L2Z0 Canada;X-APPLE-RADIUS=500;X-TITLE=30\, 7e Avenue:geo:-68.8651986,48.2928805
END:VEVENT
BEGIN:VEVENT
DTSTART;TZID=America/Toronto:20260329T160000
DTEND;TZID=America/Toronto:20260329T180000
DTSTAMP:20260425T064918
CREATED:20260316T130034Z
LAST-MODIFIED:20260327T162030Z
UID:10026297-1774800000-1774807200@www.saint-fabien.ca
SUMMARY:Ciné-Poutine par Paraloeil - Les Furies
DESCRIPTION:MÉLANIE CHARBONNEAU (2025) – FICTION – 107 MIN – VOF – QUÉBEC – COMÉDIE\n\nCet événement marque le lancement du ciné-club du Vieux Théâtre de Saint-Fabien\, actuellement en mode nomade. En attendant l’ouverture officielle du Vieux Théâtre le 1er mai prochain\, les projections se tiendront au Pavillon des loisirs. Un projet rendu possible grâce au soutien de la MRC Rimouski-Neigette\, qui souhaite faire rayonner la culture cinématographique en région et offrir des activités accessibles à toute la communauté.\nWaterloo aura désormais son équipe de hockey semi-pro masculine expulsant ainsi les ligues féminines amateures de l’aréna. Pour venger leur temps de glace perdu\, une joueuse de hockey impulsive et une impitoyable octogénaire – ancienne championne de derby – ont un plan : recruter les laissées pour compte de la ville et mettre sur pied une équipe de roller derby clandestine. Avec la complicité du Cercle de fermières\, elles prouveront que le sport féminin peut aussi soulever les foules et que la sororité est l’ultime acte de résistance.\n Gratuit
URL:https://www.saint-fabien.ca/event-calendar/cine-poutine-par-paraloeil-les-furies/
LOCATION:pavillon des loisirs\, 32 8e Avenue Ouest\, Saint-Fabien\, Québec\, G0L2Z0\, Canada
CATEGORIES:Culture
GEO:48.2924537;-68.8624063
X-APPLE-STRUCTURED-LOCATION;VALUE=URI;X-ADDRESS=pavillon des loisirs 32 8e Avenue Ouest Saint-Fabien Québec G0L2Z0 Canada;X-APPLE-RADIUS=500;X-TITLE=32 8e Avenue Ouest:geo:-68.8624063,48.2924537
END:VEVENT
END:VCALENDAR