BEGIN:VCALENDAR
VERSION:2.0
PRODID:-//Municipalité de Saint-Fabien - ECPv6.15.20//NONSGML v1.0//EN
CALSCALE:GREGORIAN
METHOD:PUBLISH
X-WR-CALNAME:Municipalité de Saint-Fabien
X-ORIGINAL-URL:https://www.saint-fabien.ca
X-WR-CALDESC:Évènements pour Municipalité de Saint-Fabien
REFRESH-INTERVAL;VALUE=DURATION:PT1H
X-Robots-Tag:noindex
X-PUBLISHED-TTL:PT1H
BEGIN:VTIMEZONE
TZID:America/Toronto
BEGIN:DAYLIGHT
TZOFFSETFROM:-0500
TZOFFSETTO:-0400
TZNAME:EDT
DTSTART:20240310T070000
END:DAYLIGHT
BEGIN:STANDARD
TZOFFSETFROM:-0400
TZOFFSETTO:-0500
TZNAME:EST
DTSTART:20241103T060000
END:STANDARD
BEGIN:DAYLIGHT
TZOFFSETFROM:-0500
TZOFFSETTO:-0400
TZNAME:EDT
DTSTART:20250309T070000
END:DAYLIGHT
BEGIN:STANDARD
TZOFFSETFROM:-0400
TZOFFSETTO:-0500
TZNAME:EST
DTSTART:20251102T060000
END:STANDARD
BEGIN:DAYLIGHT
TZOFFSETFROM:-0500
TZOFFSETTO:-0400
TZNAME:EDT
DTSTART:20260308T070000
END:DAYLIGHT
BEGIN:STANDARD
TZOFFSETFROM:-0400
TZOFFSETTO:-0500
TZNAME:EST
DTSTART:20261101T060000
END:STANDARD
END:VTIMEZONE
BEGIN:VEVENT
DTSTART;TZID=America/Toronto:20250716T180000
DTEND;TZID=America/Toronto:20250716T200000
DTSTAMP:20260419T161310
CREATED:20250709T173617Z
LAST-MODIFIED:20250709T173711Z
UID:10025967-1752688800-1752696000@www.saint-fabien.ca
SUMMARY:Vieux Théâtre - Marie-Jo Therio
DESCRIPTION:À la Chapelle de Saint-Fabien-sur-merVoir Marie-Jo Thério sur scène est une expérience peu commune. L’auteure-compositrice-interprète s’y donne avec passion et singularité\, dans un élan artistique unique. Voilà pourquoi son retour sur scène\, après une absence de quelques années\, réjouit tous ceux qui ont assisté à une représentation de La maline\, 20 ans et quelques lunes.\nDevant tant d’originalité\, le public et les critiques avaient été unanimes : il fallait découvrir La Maline ainsi que le spectacle Arbre à Fruits présenté dans la foulée. Malgré les années qui passent\, ses chansons traversent le temps avec panache.\nQuelle est la marque du temps que porte La Maline? Elle n’a pas l’âge des calendriers ni du déroulement du vieillissement. Elle porte seulement la marque de l’humain et de l’intemporel.
URL:https://www.saint-fabien.ca/event-calendar/vieux-theatre-marie-jo-therio/
LOCATION:Chapelle Notre-Dame-des-Murailles\, 38\, chemin de la Mer Ouest\, Saint-Fabien-sur-Mer\, Québec\, G0L2Z0\, Canada
CATEGORIES:Culture
ATTACH;FMTTYPE=image/jpeg:https://www.saint-fabien.ca/wp-content/uploads/2025/07/497753162_1305052154954842_1586571230396808496_n.jpg
GEO:48.315836;-68.8713882
X-APPLE-STRUCTURED-LOCATION;VALUE=URI;X-ADDRESS=Chapelle Notre-Dame-des-Murailles 38 chemin de la Mer Ouest Saint-Fabien-sur-Mer Québec G0L2Z0 Canada;X-APPLE-RADIUS=500;X-TITLE=38\, chemin de la Mer Ouest:geo:-68.8713882,48.315836
END:VEVENT
END:VCALENDAR