BEGIN:VCALENDAR
VERSION:2.0
PRODID:-//Municipalité de Saint-Fabien - ECPv6.15.20//NONSGML v1.0//EN
CALSCALE:GREGORIAN
METHOD:PUBLISH
X-WR-CALNAME:Municipalité de Saint-Fabien
X-ORIGINAL-URL:https://www.saint-fabien.ca
X-WR-CALDESC:Évènements pour Municipalité de Saint-Fabien
REFRESH-INTERVAL;VALUE=DURATION:PT1H
X-Robots-Tag:noindex
X-PUBLISHED-TTL:PT1H
BEGIN:VTIMEZONE
TZID:America/Toronto
BEGIN:DAYLIGHT
TZOFFSETFROM:-0500
TZOFFSETTO:-0400
TZNAME:EDT
DTSTART:20240310T070000
END:DAYLIGHT
BEGIN:STANDARD
TZOFFSETFROM:-0400
TZOFFSETTO:-0500
TZNAME:EST
DTSTART:20241103T060000
END:STANDARD
BEGIN:DAYLIGHT
TZOFFSETFROM:-0500
TZOFFSETTO:-0400
TZNAME:EDT
DTSTART:20250309T070000
END:DAYLIGHT
BEGIN:STANDARD
TZOFFSETFROM:-0400
TZOFFSETTO:-0500
TZNAME:EST
DTSTART:20251102T060000
END:STANDARD
BEGIN:DAYLIGHT
TZOFFSETFROM:-0500
TZOFFSETTO:-0400
TZNAME:EDT
DTSTART:20260308T070000
END:DAYLIGHT
BEGIN:STANDARD
TZOFFSETFROM:-0400
TZOFFSETTO:-0500
TZNAME:EST
DTSTART:20261101T060000
END:STANDARD
END:VTIMEZONE
BEGIN:VEVENT
DTSTART;TZID=America/Toronto:20250814T180000
DTEND;TZID=America/Toronto:20250814T190000
DTSTAMP:20260422T165448
CREATED:20250813T183451Z
LAST-MODIFIED:20250813T183451Z
UID:10025976-1755194400-1755198000@www.saint-fabien.ca
SUMMARY:Vieux Théâtre - Mônica Freire
DESCRIPTION:Mônica Freire présente Ilhada en formule «Apéro musical » en extérieur au Centre Communautaire de Saint-Valérien\nUn moment entre chaleur du Brésil et rythme du monde\n\n\nQuelques infos pratiques :\nL’adresse : 120\, rue Principale\, St-Valérien\nHeure : 18h\nEn cas de mauvais temps\, le spectacle sera déplacé à l’intérieur.
URL:https://www.saint-fabien.ca/event-calendar/vieux-theatre-monica-freire/
LOCATION:Saint-Valérien
CATEGORIES:Culture
ATTACH;FMTTYPE=image/jpeg:https://www.saint-fabien.ca/wp-content/uploads/2025/08/530326430_1377604441032946_3318585812890797309_n.jpg
END:VEVENT
END:VCALENDAR