BEGIN:VCALENDAR
VERSION:2.0
PRODID:-//Municipalité de Saint-Fabien - ECPv6.15.20//NONSGML v1.0//EN
CALSCALE:GREGORIAN
METHOD:PUBLISH
X-WR-CALNAME:Municipalité de Saint-Fabien
X-ORIGINAL-URL:https://www.saint-fabien.ca
X-WR-CALDESC:Évènements pour Municipalité de Saint-Fabien
REFRESH-INTERVAL;VALUE=DURATION:PT1H
X-Robots-Tag:noindex
X-PUBLISHED-TTL:PT1H
BEGIN:VTIMEZONE
TZID:America/Toronto
BEGIN:DAYLIGHT
TZOFFSETFROM:-0500
TZOFFSETTO:-0400
TZNAME:EDT
DTSTART:20250309T070000
END:DAYLIGHT
BEGIN:STANDARD
TZOFFSETFROM:-0400
TZOFFSETTO:-0500
TZNAME:EST
DTSTART:20251102T060000
END:STANDARD
BEGIN:DAYLIGHT
TZOFFSETFROM:-0500
TZOFFSETTO:-0400
TZNAME:EDT
DTSTART:20260308T070000
END:DAYLIGHT
BEGIN:STANDARD
TZOFFSETFROM:-0400
TZOFFSETTO:-0500
TZNAME:EST
DTSTART:20261101T060000
END:STANDARD
BEGIN:DAYLIGHT
TZOFFSETFROM:-0500
TZOFFSETTO:-0400
TZNAME:EDT
DTSTART:20270314T070000
END:DAYLIGHT
BEGIN:STANDARD
TZOFFSETFROM:-0400
TZOFFSETTO:-0500
TZNAME:EST
DTSTART:20271107T060000
END:STANDARD
END:VTIMEZONE
BEGIN:VEVENT
DTSTART;TZID=America/Toronto:20260521T183000
DTEND;TZID=America/Toronto:20260521T203000
DTSTAMP:20260421T135457
CREATED:20260420T183008Z
LAST-MODIFIED:20260420T183053Z
UID:10026321-1779388200-1779395400@www.saint-fabien.ca
SUMMARY:Conférence - Le Japon\, un pays différent
DESCRIPTION:Les Petits Explorateurs est ﬁer de s’associer au Vieux Théâtre de St-Fabien et à Fibrose Kystique Canada pour présenter une conférence au profit de la recherche en ﬁbrose kystique. Régis Larouche présentera en eﬀet pour la première fois à St-Fabien la conférence : Le Japon\, un pays diﬀérent. \n\n\nC’est le jeudi 21 mai à 18h30 (accueil dès 17h30) au Vieux Théâtre de St-Fabien. Le prix du billet est ﬁxé à 25$ par adulte (gratuit pour les enfants). Vous pouvez réserver votre place en ligne ou simplement acheter votre billet à la porte. Un reçu de charité sera remis.
URL:https://www.saint-fabien.ca/event-calendar/conference-le-japon-un-pays-different/
LOCATION:Vieux Théâtre\, 112\, 1re Rue\, Saint-Fabien\, Québec\, G0L2Z0\, Canada
CATEGORIES:Culture
ATTACH;FMTTYPE=image/jpeg:https://www.saint-fabien.ca/wp-content/uploads/2026/04/Rizière-de-Maruyama-Senjida-scaled.jpg
GEO:48.2957724;-68.8668237
X-APPLE-STRUCTURED-LOCATION;VALUE=URI;X-ADDRESS=Vieux Théâtre 112 1re Rue Saint-Fabien Québec G0L2Z0 Canada;X-APPLE-RADIUS=500;X-TITLE=112\, 1re Rue:geo:-68.8668237,48.2957724
END:VEVENT
END:VCALENDAR