BEGIN:VCALENDAR
VERSION:2.0
PRODID:-//Municipalité de Saint-Fabien - ECPv6.15.20//NONSGML v1.0//EN
CALSCALE:GREGORIAN
METHOD:PUBLISH
X-WR-CALNAME:Municipalité de Saint-Fabien
X-ORIGINAL-URL:https://www.saint-fabien.ca
X-WR-CALDESC:Évènements pour Municipalité de Saint-Fabien
REFRESH-INTERVAL;VALUE=DURATION:PT1H
X-Robots-Tag:noindex
X-PUBLISHED-TTL:PT1H
BEGIN:VTIMEZONE
TZID:America/Toronto
BEGIN:DAYLIGHT
TZOFFSETFROM:-0500
TZOFFSETTO:-0400
TZNAME:EDT
DTSTART:20240310T070000
END:DAYLIGHT
BEGIN:STANDARD
TZOFFSETFROM:-0400
TZOFFSETTO:-0500
TZNAME:EST
DTSTART:20241103T060000
END:STANDARD
BEGIN:DAYLIGHT
TZOFFSETFROM:-0500
TZOFFSETTO:-0400
TZNAME:EDT
DTSTART:20250309T070000
END:DAYLIGHT
BEGIN:STANDARD
TZOFFSETFROM:-0400
TZOFFSETTO:-0500
TZNAME:EST
DTSTART:20251102T060000
END:STANDARD
BEGIN:DAYLIGHT
TZOFFSETFROM:-0500
TZOFFSETTO:-0400
TZNAME:EDT
DTSTART:20260308T070000
END:DAYLIGHT
BEGIN:STANDARD
TZOFFSETFROM:-0400
TZOFFSETTO:-0500
TZNAME:EST
DTSTART:20261101T060000
END:STANDARD
END:VTIMEZONE
BEGIN:VEVENT
DTSTART;TZID=America/Toronto:20250219T123000
DTEND;TZID=America/Toronto:20250219T143000
DTSTAMP:20260420T221929
CREATED:20250219T173409Z
LAST-MODIFIED:20250224T213922Z
UID:10025862-1739968200-1739975400@www.saint-fabien.ca
SUMMARY:ANNULÉ - Atelier sur les bienfaits du sommeil
DESCRIPTION:L’atelier du 19 février doit être annulé pour donner la priorité au déneigement des routes. La bibliothèque est donc aussi fermée. Merci de votre compréhension. \nYvette Ravenet\, naturopathe de formation\, oﬀre un atelier sur les bienfaits du sommeil à deux reprises à la Biblio\, soit le 19 février à 13h30 et 1er mars à 10h. Profitez-en\, c’est gratuit !
URL:https://www.saint-fabien.ca/event-calendar/atelier-sur-les-bienfaits-du-sommeil-2/
LOCATION:Bibliothèque Jovette-Bernier\, 30\, 7e Avenue\, Saint-Fabien\, Québec\, G0L2Z0\, Canada
CATEGORIES:Autres
ORGANIZER;CN="Biblioth%C3%A8que Jovette-Bernier":MAILTO:biblio.fabien@crsbp.net
GEO:48.2928805;-68.8651986
X-APPLE-STRUCTURED-LOCATION;VALUE=URI;X-ADDRESS=Bibliothèque Jovette-Bernier 30 7e Avenue Saint-Fabien Québec G0L2Z0 Canada;X-APPLE-RADIUS=500;X-TITLE=30\, 7e Avenue:geo:-68.8651986,48.2928805
END:VEVENT
END:VCALENDAR