BEGIN:VCALENDAR
VERSION:2.0
PRODID:-//Municipalité de Saint-Fabien - ECPv6.15.20//NONSGML v1.0//EN
CALSCALE:GREGORIAN
METHOD:PUBLISH
X-WR-CALNAME:Municipalité de Saint-Fabien
X-ORIGINAL-URL:https://www.saint-fabien.ca
X-WR-CALDESC:Évènements pour Municipalité de Saint-Fabien
REFRESH-INTERVAL;VALUE=DURATION:PT1H
X-Robots-Tag:noindex
X-PUBLISHED-TTL:PT1H
BEGIN:VTIMEZONE
TZID:America/Toronto
BEGIN:DAYLIGHT
TZOFFSETFROM:-0500
TZOFFSETTO:-0400
TZNAME:EDT
DTSTART:20250309T070000
END:DAYLIGHT
BEGIN:STANDARD
TZOFFSETFROM:-0400
TZOFFSETTO:-0500
TZNAME:EST
DTSTART:20251102T060000
END:STANDARD
BEGIN:DAYLIGHT
TZOFFSETFROM:-0500
TZOFFSETTO:-0400
TZNAME:EDT
DTSTART:20260308T070000
END:DAYLIGHT
BEGIN:STANDARD
TZOFFSETFROM:-0400
TZOFFSETTO:-0500
TZNAME:EST
DTSTART:20261101T060000
END:STANDARD
BEGIN:DAYLIGHT
TZOFFSETFROM:-0500
TZOFFSETTO:-0400
TZNAME:EDT
DTSTART:20270314T070000
END:DAYLIGHT
BEGIN:STANDARD
TZOFFSETFROM:-0400
TZOFFSETTO:-0500
TZNAME:EST
DTSTART:20271107T060000
END:STANDARD
END:VTIMEZONE
BEGIN:VEVENT
DTSTART;VALUE=DATE:20260501
DTEND;VALUE=DATE:20260502
DTSTAMP:20260419T160753
CREATED:20260415T192113Z
LAST-MODIFIED:20260415T192131Z
UID:10026313-1777593600-1777679999@www.saint-fabien.ca
SUMMARY:Portes-ouvertes au Vieux Théâtre !
DESCRIPTION:Le Vieux Théâtre rouvrira bientôt ses portes… et vous êtes invité.e.s à en faire partie!\nRéservez dès maintenant la date du 1er mai pour un événe-ment portes ouvertes festif et convivial. Ce sera l’occasion de (re)découvrir ce lieu emblématique\, de rencontrer l’équipe et de célébrer ensemble ce nouveau chapitre.\nLes détails de la programmation seront dévoilés prochaine-ment — restez à l’aﬀût en visitant notre site web et en suivant nos réseaux sociaux!
URL:https://www.saint-fabien.ca/event-calendar/portes-ouvertes-au-vieux-theatre/
LOCATION:Vieux Théâtre\, 112\, 1re Rue\, Saint-Fabien\, Québec\, G0L2Z0\, Canada
CATEGORIES:Culture
GEO:48.2957724;-68.8668237
X-APPLE-STRUCTURED-LOCATION;VALUE=URI;X-ADDRESS=Vieux Théâtre 112 1re Rue Saint-Fabien Québec G0L2Z0 Canada;X-APPLE-RADIUS=500;X-TITLE=112\, 1re Rue:geo:-68.8668237,48.2957724
END:VEVENT
BEGIN:VEVENT
DTSTART;VALUE=DATE:20260501
DTEND;VALUE=DATE:20260516
DTSTAMP:20260419T160753
CREATED:20260415T193351Z
LAST-MODIFIED:20260415T193351Z
UID:10026316-1777593600-1778889599@www.saint-fabien.ca
SUMMARY:Élections partielles - District 4 - Période de mise en candidature
DESCRIPTION:Suite à la démission de la conseillère Caroline Rioux\, le poste de conseillère ou de conseiller du district 4 sera prochainement à pourvoir.\nLa période de mise en candidature se tiendra du 1er au 15 mai 2026.\nSi plus d’un.e candidat.e se présente\, des élections se dérouleront le 7 juin (par anticipation) et le 14 juin (jour du scrutin).\nÀ noter que seul.e.s les électrices et électeurs résidant dans le district 4 seront appelé.e.s à voter.\nPour toute demande d’informations\, contactez le président d’élections\, Yves Galbrand\, au 418.869.2950 poste 205.
URL:https://www.saint-fabien.ca/event-calendar/elections-partielles-district-4-periode-de-mise-en-candidature/
LOCATION:municipalité de Saint-Fabien\, 20-A 7 Avenue\, Saint-Fabien\, Québec\, G0L2Z0\, Canada
CATEGORIES:Vie municipale
GEO:48.2935897;-68.8658383
X-APPLE-STRUCTURED-LOCATION;VALUE=URI;X-ADDRESS=municipalité de Saint-Fabien 20-A 7 Avenue Saint-Fabien Québec G0L2Z0 Canada;X-APPLE-RADIUS=500;X-TITLE=20-A 7 Avenue:geo:-68.8658383,48.2935897
END:VEVENT
END:VCALENDAR