BEGIN:VCALENDAR
VERSION:2.0
PRODID:-//Municipalité de Saint-Fabien - ECPv6.15.20//NONSGML v1.0//EN
CALSCALE:GREGORIAN
METHOD:PUBLISH
X-WR-CALNAME:Municipalité de Saint-Fabien
X-ORIGINAL-URL:https://www.saint-fabien.ca
X-WR-CALDESC:Évènements pour Municipalité de Saint-Fabien
REFRESH-INTERVAL;VALUE=DURATION:PT1H
X-Robots-Tag:noindex
X-PUBLISHED-TTL:PT1H
BEGIN:VTIMEZONE
TZID:America/Toronto
BEGIN:DAYLIGHT
TZOFFSETFROM:-0500
TZOFFSETTO:-0400
TZNAME:EDT
DTSTART:20250309T070000
END:DAYLIGHT
BEGIN:STANDARD
TZOFFSETFROM:-0400
TZOFFSETTO:-0500
TZNAME:EST
DTSTART:20251102T060000
END:STANDARD
BEGIN:DAYLIGHT
TZOFFSETFROM:-0500
TZOFFSETTO:-0400
TZNAME:EDT
DTSTART:20260308T070000
END:DAYLIGHT
BEGIN:STANDARD
TZOFFSETFROM:-0400
TZOFFSETTO:-0500
TZNAME:EST
DTSTART:20261101T060000
END:STANDARD
BEGIN:DAYLIGHT
TZOFFSETFROM:-0500
TZOFFSETTO:-0400
TZNAME:EDT
DTSTART:20270314T070000
END:DAYLIGHT
BEGIN:STANDARD
TZOFFSETFROM:-0400
TZOFFSETTO:-0500
TZNAME:EST
DTSTART:20271107T060000
END:STANDARD
END:VTIMEZONE
BEGIN:VEVENT
DTSTART;TZID=America/Toronto:20260217T093000
DTEND;TZID=America/Toronto:20260217T120000
DTSTAMP:20260424T022024
CREATED:20260204T194700Z
LAST-MODIFIED:20260205T164727Z
UID:10026248-1771320600-1771329600@www.saint-fabien.ca
SUMMARY:Sortie raquette au Sentier des Coulombe
DESCRIPTION:NOUVEAU – SORTIE RAQUETTES AU SENTIER DES COULOMBE\n Tous les mardis matins à 9h30 !\n RDV au stationnement municipal du sentier\, route de la Mer\, en face du belvédère Raoul-Roy (SEPAQ)\n Activité gratuite sur inscription (la randonnée sera adaptée au niveau des participant.e.s)\n Débutant.e.s bienvenu.e.s. Prêt de raquettes possible grâce au Club des 50 ans et +\n Pour tout renseignement\, contactez Yvette Ravenet :\ntéléphone: 514 550-5061 ou courriel: YRnaturopathe@icloud.com\nhttps://www.parcdubic.com/sentier-des-coulombe\nPhoto : Tourisme Bas-St-Laurent
URL:https://www.saint-fabien.ca/event-calendar/sortie-raquette-au-sentier-des-coulombe/2026-02-17/
LOCATION:Sentier des Coulombe
CATEGORIES:Sports et loisirs
ATTACH;FMTTYPE=image/jpeg:https://www.saint-fabien.ca/wp-content/uploads/2026/02/raquettes-mia-coulombe-2022-2048x1152-1.jpg
END:VEVENT
BEGIN:VEVENT
DTSTART;TZID=America/Toronto:20260218T140000
DTEND;TZID=America/Toronto:20260218T160000
DTSTAMP:20260424T022024
CREATED:20260203T203233Z
LAST-MODIFIED:20260203T203233Z
UID:10026241-1771423200-1771430400@www.saint-fabien.ca
SUMMARY:Ateliers-santé avec Yvette Ravenet - Bibliothèque Jovette-Bernier
DESCRIPTION:Les ateliers santé présentés par Yvette Ravenet\, naturopathe et ex-infirmière sont de retour à la bibliothèque Jovette-Bernier ! C’est gratuit et sans inscription. À chaque atelier\, retrouvez des infos sur l’actualité santé ainsi que des quizz sur l’étiquetage à l’épicerie\, la maison saine\, les habitudes de vie\, etc. \nMercredi 18 février à 14h et samedi 21 février à 10h : Jeûner\, une bonne idée? \nMercredi 18 mars à 14h et samedi 21 mars à 10h : Nettoyage de printemps – chouchouter votre foie \nMercredi 15 avril à 14h et samedi 18 avril à 10h : Les douleurs chroniques
URL:https://www.saint-fabien.ca/event-calendar/ateliers-sante-avec-yvette-ravenet-bibliotheque-jovette-bernier/2026-02-18/
LOCATION:Bibliothèque Jovette-Bernier\, 30\, 7e Avenue\, Saint-Fabien\, Québec\, G0L2Z0\, Canada
CATEGORIES:Autres
ORGANIZER;CN="Biblioth%C3%A8que Jovette-Bernier":MAILTO:biblio.fabien@crsbp.net
GEO:48.2928805;-68.8651986
X-APPLE-STRUCTURED-LOCATION;VALUE=URI;X-ADDRESS=Bibliothèque Jovette-Bernier 30 7e Avenue Saint-Fabien Québec G0L2Z0 Canada;X-APPLE-RADIUS=500;X-TITLE=30\, 7e Avenue:geo:-68.8651986,48.2928805
END:VEVENT
BEGIN:VEVENT
DTSTART;TZID=America/Toronto:20260218T180000
DTEND;TZID=America/Toronto:20260218T200000
DTSTAMP:20260424T022024
CREATED:20260204T195120Z
LAST-MODIFIED:20260205T190305Z
UID:10026252-1771437600-1771444800@www.saint-fabien.ca
SUMMARY:Tricot-jasette à la Bibliothèque !
DESCRIPTION:NOUVEAU ! TRICOT-JASETTE À LA BIBLIOTHÈQUE\n\n\n À la Bibliothèque Jovette-Bernier de Saint-Fabien chaque mercredi soir de 18h à 20h à partir du 4 février !\n Ouvert à toutes et à tous\, sans inscription (enfant accompagné d’un.e adulte)\n Crochet\, broderie et autres travaux d’aiguille. Débutant.e.s bienvenu.e.s\nInfos : @Yvette Ravenet
URL:https://www.saint-fabien.ca/event-calendar/tricot-jasette-a-la-bibliotheque/2026-02-18/
LOCATION:Bibliothèque Jovette-Bernier\, 30\, 7e Avenue\, Saint-Fabien\, Québec\, G0L2Z0\, Canada
CATEGORIES:Sports et loisirs
ATTACH;FMTTYPE=image/jpeg:https://www.saint-fabien.ca/wp-content/uploads/2026/02/627547544_892696276475532_6560713199417288709_n.jpg
GEO:48.2928805;-68.8651986
X-APPLE-STRUCTURED-LOCATION;VALUE=URI;X-ADDRESS=Bibliothèque Jovette-Bernier 30 7e Avenue Saint-Fabien Québec G0L2Z0 Canada;X-APPLE-RADIUS=500;X-TITLE=30\, 7e Avenue:geo:-68.8651986,48.2928805
END:VEVENT
BEGIN:VEVENT
DTSTART;TZID=America/Toronto:20260219T173000
DTEND;TZID=America/Toronto:20260219T183000
DTSTAMP:20260424T022024
CREATED:20260217T155618Z
LAST-MODIFIED:20260217T155618Z
UID:10026270-1771522200-1771525800@www.saint-fabien.ca
SUMMARY:Patinage libre
DESCRIPTION:
URL:https://www.saint-fabien.ca/event-calendar/patinage-libre-415/
LOCATION:pavillon des loisirs\, 32 8e Avenue Ouest\, Saint-Fabien\, Québec\, G0L2Z0\, Canada
CATEGORIES:Sports et loisirs
ORGANIZER;CN="Les Loisirs St-Fabien Inc.":MAILTO:loisirss@cgocable.ca
GEO:48.2924537;-68.8624063
X-APPLE-STRUCTURED-LOCATION;VALUE=URI;X-ADDRESS=pavillon des loisirs 32 8e Avenue Ouest Saint-Fabien Québec G0L2Z0 Canada;X-APPLE-RADIUS=500;X-TITLE=32 8e Avenue Ouest:geo:-68.8624063,48.2924537
END:VEVENT
BEGIN:VEVENT
DTSTART;TZID=America/Toronto:20260220T201500
DTEND;TZID=America/Toronto:20260220T211500
DTSTAMP:20260424T022024
CREATED:20260217T155709Z
LAST-MODIFIED:20260217T155709Z
UID:10026271-1771618500-1771622100@www.saint-fabien.ca
SUMMARY:Hockey libre pour toutes et tous
DESCRIPTION:
URL:https://www.saint-fabien.ca/event-calendar/hockey-libre-pour-toutes-et-tous-7/
LOCATION:pavillon des loisirs\, 32 8e Avenue Ouest\, Saint-Fabien\, Québec\, G0L2Z0\, Canada
CATEGORIES:Sports et loisirs
ORGANIZER;CN="Les Loisirs St-Fabien Inc.":MAILTO:loisirss@cgocable.ca
GEO:48.2924537;-68.8624063
X-APPLE-STRUCTURED-LOCATION;VALUE=URI;X-ADDRESS=pavillon des loisirs 32 8e Avenue Ouest Saint-Fabien Québec G0L2Z0 Canada;X-APPLE-RADIUS=500;X-TITLE=32 8e Avenue Ouest:geo:-68.8624063,48.2924537
END:VEVENT
BEGIN:VEVENT
DTSTART;TZID=America/Toronto:20260221T100000
DTEND;TZID=America/Toronto:20260221T120000
DTSTAMP:20260424T022024
CREATED:20260203T203233Z
LAST-MODIFIED:20260203T203233Z
UID:10026242-1771668000-1771675200@www.saint-fabien.ca
SUMMARY:Ateliers-santé avec Yvette Ravenet - Bibliothèque Jovette-Bernier
DESCRIPTION:Les ateliers santé présentés par Yvette Ravenet\, naturopathe et ex-infirmière sont de retour à la bibliothèque Jovette-Bernier ! C’est gratuit et sans inscription. À chaque atelier\, retrouvez des infos sur l’actualité santé ainsi que des quizz sur l’étiquetage à l’épicerie\, la maison saine\, les habitudes de vie\, etc. \nMercredi 18 février à 14h et samedi 21 février à 10h : Jeûner\, une bonne idée? \nMercredi 18 mars à 14h et samedi 21 mars à 10h : Nettoyage de printemps – chouchouter votre foie \nMercredi 15 avril à 14h et samedi 18 avril à 10h : Les douleurs chroniques
URL:https://www.saint-fabien.ca/event-calendar/ateliers-sante-avec-yvette-ravenet-bibliotheque-jovette-bernier/2026-02-21/
LOCATION:Bibliothèque Jovette-Bernier\, 30\, 7e Avenue\, Saint-Fabien\, Québec\, G0L2Z0\, Canada
CATEGORIES:Autres
ORGANIZER;CN="Biblioth%C3%A8que Jovette-Bernier":MAILTO:biblio.fabien@crsbp.net
GEO:48.2928805;-68.8651986
X-APPLE-STRUCTURED-LOCATION;VALUE=URI;X-ADDRESS=Bibliothèque Jovette-Bernier 30 7e Avenue Saint-Fabien Québec G0L2Z0 Canada;X-APPLE-RADIUS=500;X-TITLE=30\, 7e Avenue:geo:-68.8651986,48.2928805
END:VEVENT
BEGIN:VEVENT
DTSTART;TZID=America/Toronto:20260222T130000
DTEND;TZID=America/Toronto:20260222T140000
DTSTAMP:20260424T022024
CREATED:20260217T155751Z
LAST-MODIFIED:20260217T155751Z
UID:10026272-1771765200-1771768800@www.saint-fabien.ca
SUMMARY:Patinage libre
DESCRIPTION:
URL:https://www.saint-fabien.ca/event-calendar/patinage-libre-416/
LOCATION:pavillon des loisirs\, 32 8e Avenue Ouest\, Saint-Fabien\, Québec\, G0L2Z0\, Canada
CATEGORIES:Sports et loisirs
ORGANIZER;CN="Les Loisirs St-Fabien Inc.":MAILTO:loisirss@cgocable.ca
GEO:48.2924537;-68.8624063
X-APPLE-STRUCTURED-LOCATION;VALUE=URI;X-ADDRESS=pavillon des loisirs 32 8e Avenue Ouest Saint-Fabien Québec G0L2Z0 Canada;X-APPLE-RADIUS=500;X-TITLE=32 8e Avenue Ouest:geo:-68.8624063,48.2924537
END:VEVENT
END:VCALENDAR