BEGIN:VCALENDAR
VERSION:2.0
PRODID:-//Municipalité de Saint-Fabien - ECPv6.15.20//NONSGML v1.0//EN
CALSCALE:GREGORIAN
METHOD:PUBLISH
X-WR-CALNAME:Municipalité de Saint-Fabien
X-ORIGINAL-URL:https://www.saint-fabien.ca
X-WR-CALDESC:Évènements pour Municipalité de Saint-Fabien
REFRESH-INTERVAL;VALUE=DURATION:PT1H
X-Robots-Tag:noindex
X-PUBLISHED-TTL:PT1H
BEGIN:VTIMEZONE
TZID:America/Toronto
BEGIN:DAYLIGHT
TZOFFSETFROM:-0500
TZOFFSETTO:-0400
TZNAME:EDT
DTSTART:20250309T070000
END:DAYLIGHT
BEGIN:STANDARD
TZOFFSETFROM:-0400
TZOFFSETTO:-0500
TZNAME:EST
DTSTART:20251102T060000
END:STANDARD
BEGIN:DAYLIGHT
TZOFFSETFROM:-0500
TZOFFSETTO:-0400
TZNAME:EDT
DTSTART:20260308T070000
END:DAYLIGHT
BEGIN:STANDARD
TZOFFSETFROM:-0400
TZOFFSETTO:-0500
TZNAME:EST
DTSTART:20261101T060000
END:STANDARD
BEGIN:DAYLIGHT
TZOFFSETFROM:-0500
TZOFFSETTO:-0400
TZNAME:EDT
DTSTART:20270314T070000
END:DAYLIGHT
BEGIN:STANDARD
TZOFFSETFROM:-0400
TZOFFSETTO:-0500
TZNAME:EST
DTSTART:20271107T060000
END:STANDARD
END:VTIMEZONE
BEGIN:VEVENT
DTSTART;TZID=America/Toronto:20260413T190000
DTEND;TZID=America/Toronto:20260413T210000
DTSTAMP:20260419T135831
CREATED:20251215T193658Z
LAST-MODIFIED:20260129T211300Z
UID:10026161-1776106800-1776114000@www.saint-fabien.ca
SUMMARY:Séances ordinaires du conseil municipal
DESCRIPTION:Les séances publiques du conseil municipales se déroulent au sous-sol du bureau municipal situé au 20-A\, 7e Avenue.
URL:https://www.saint-fabien.ca/event-calendar/seances-ordinaires-du-conseil-municipal-3/2026-04-13/
LOCATION:municipalité de Saint-Fabien\, 20-A 7 Avenue\, Saint-Fabien\, Québec\, G0L2Z0\, Canada
CATEGORIES:Vie municipale
GEO:48.2935897;-68.8658383
X-APPLE-STRUCTURED-LOCATION;VALUE=URI;X-ADDRESS=municipalité de Saint-Fabien 20-A 7 Avenue Saint-Fabien Québec G0L2Z0 Canada;X-APPLE-RADIUS=500;X-TITLE=20-A 7 Avenue:geo:-68.8658383,48.2935897
END:VEVENT
BEGIN:VEVENT
DTSTART;TZID=America/Toronto:20260415T140000
DTEND;TZID=America/Toronto:20260415T160000
DTSTAMP:20260419T135831
CREATED:20260203T203233Z
LAST-MODIFIED:20260203T203233Z
UID:10026245-1776261600-1776268800@www.saint-fabien.ca
SUMMARY:Ateliers-santé avec Yvette Ravenet - Bibliothèque Jovette-Bernier
DESCRIPTION:Les ateliers santé présentés par Yvette Ravenet\, naturopathe et ex-infirmière sont de retour à la bibliothèque Jovette-Bernier ! C’est gratuit et sans inscription. À chaque atelier\, retrouvez des infos sur l’actualité santé ainsi que des quizz sur l’étiquetage à l’épicerie\, la maison saine\, les habitudes de vie\, etc. \nMercredi 18 février à 14h et samedi 21 février à 10h : Jeûner\, une bonne idée? \nMercredi 18 mars à 14h et samedi 21 mars à 10h : Nettoyage de printemps – chouchouter votre foie \nMercredi 15 avril à 14h et samedi 18 avril à 10h : Les douleurs chroniques
URL:https://www.saint-fabien.ca/event-calendar/ateliers-sante-avec-yvette-ravenet-bibliotheque-jovette-bernier/2026-04-15/
LOCATION:Bibliothèque Jovette-Bernier\, 30\, 7e Avenue\, Saint-Fabien\, Québec\, G0L2Z0\, Canada
CATEGORIES:Autres
ORGANIZER;CN="Biblioth%C3%A8que Jovette-Bernier":MAILTO:biblio.fabien@crsbp.net
GEO:48.2928805;-68.8651986
X-APPLE-STRUCTURED-LOCATION;VALUE=URI;X-ADDRESS=Bibliothèque Jovette-Bernier 30 7e Avenue Saint-Fabien Québec G0L2Z0 Canada;X-APPLE-RADIUS=500;X-TITLE=30\, 7e Avenue:geo:-68.8651986,48.2928805
END:VEVENT
BEGIN:VEVENT
DTSTART;TZID=America/Toronto:20260417T180000
DTEND;TZID=America/Toronto:20260417T185000
DTSTAMP:20260419T135831
CREATED:20260415T185604Z
LAST-MODIFIED:20260415T185604Z
UID:10026310-1776448800-1776451800@www.saint-fabien.ca
SUMMARY:Patinage libre
DESCRIPTION:
URL:https://www.saint-fabien.ca/event-calendar/patinage-libre-425/
LOCATION:pavillon des loisirs\, 32 8e Avenue Ouest\, Saint-Fabien\, Québec\, G0L2Z0\, Canada
CATEGORIES:Sports et loisirs
ORGANIZER;CN="Les Loisirs St-Fabien Inc.":MAILTO:loisirss@cgocable.ca
GEO:48.2924537;-68.8624063
X-APPLE-STRUCTURED-LOCATION;VALUE=URI;X-ADDRESS=pavillon des loisirs 32 8e Avenue Ouest Saint-Fabien Québec G0L2Z0 Canada;X-APPLE-RADIUS=500;X-TITLE=32 8e Avenue Ouest:geo:-68.8624063,48.2924537
END:VEVENT
BEGIN:VEVENT
DTSTART;TZID=America/Toronto:20260417T193000
DTEND;TZID=America/Toronto:20260417T220000
DTSTAMP:20260419T135831
CREATED:20260415T192647Z
LAST-MODIFIED:20260415T192647Z
UID:10026314-1776454200-1776463200@www.saint-fabien.ca
SUMMARY:Activité de clôture du Pavillon des loisirs - Entre la glace et les Tropiques
DESCRIPTION:Les activités hivernales et le service de restauration de la Cantine du Pavillon prendront ﬁn le 19 avril. Pour marquer la ﬁn de la saison\, le comité des Loisirs propose une sympathique activité extérieure le 17 avril de 20h à 22h : feu de joie et musique agrémenteront ainsi les derniers jours d’ouverture. Le très apprécié Festibus sera même de la partie !
URL:https://www.saint-fabien.ca/event-calendar/activite-de-cloture-du-pavillon-des-loisirs-entre-la-glace-et-les-tropiques/
LOCATION:pavillon des loisirs\, 32 8e Avenue Ouest\, Saint-Fabien\, Québec\, G0L2Z0\, Canada
CATEGORIES:Activités communautaires
ORGANIZER;CN="Les Loisirs St-Fabien Inc.":MAILTO:loisirss@cgocable.ca
GEO:48.2924537;-68.8624063
X-APPLE-STRUCTURED-LOCATION;VALUE=URI;X-ADDRESS=pavillon des loisirs 32 8e Avenue Ouest Saint-Fabien Québec G0L2Z0 Canada;X-APPLE-RADIUS=500;X-TITLE=32 8e Avenue Ouest:geo:-68.8624063,48.2924537
END:VEVENT
BEGIN:VEVENT
DTSTART;TZID=America/Toronto:20260418T100000
DTEND;TZID=America/Toronto:20260418T120000
DTSTAMP:20260419T135831
CREATED:20260203T203233Z
LAST-MODIFIED:20260203T203233Z
UID:10026246-1776506400-1776513600@www.saint-fabien.ca
SUMMARY:Ateliers-santé avec Yvette Ravenet - Bibliothèque Jovette-Bernier
DESCRIPTION:Les ateliers santé présentés par Yvette Ravenet\, naturopathe et ex-infirmière sont de retour à la bibliothèque Jovette-Bernier ! C’est gratuit et sans inscription. À chaque atelier\, retrouvez des infos sur l’actualité santé ainsi que des quizz sur l’étiquetage à l’épicerie\, la maison saine\, les habitudes de vie\, etc. \nMercredi 18 février à 14h et samedi 21 février à 10h : Jeûner\, une bonne idée? \nMercredi 18 mars à 14h et samedi 21 mars à 10h : Nettoyage de printemps – chouchouter votre foie \nMercredi 15 avril à 14h et samedi 18 avril à 10h : Les douleurs chroniques
URL:https://www.saint-fabien.ca/event-calendar/ateliers-sante-avec-yvette-ravenet-bibliotheque-jovette-bernier/2026-04-18/
LOCATION:Bibliothèque Jovette-Bernier\, 30\, 7e Avenue\, Saint-Fabien\, Québec\, G0L2Z0\, Canada
CATEGORIES:Autres
ORGANIZER;CN="Biblioth%C3%A8que Jovette-Bernier":MAILTO:biblio.fabien@crsbp.net
GEO:48.2928805;-68.8651986
X-APPLE-STRUCTURED-LOCATION;VALUE=URI;X-ADDRESS=Bibliothèque Jovette-Bernier 30 7e Avenue Saint-Fabien Québec G0L2Z0 Canada;X-APPLE-RADIUS=500;X-TITLE=30\, 7e Avenue:geo:-68.8651986,48.2928805
END:VEVENT
BEGIN:VEVENT
DTSTART;TZID=America/Toronto:20260418T133000
DTEND;TZID=America/Toronto:20260418T143000
DTSTAMP:20260419T135831
CREATED:20260415T185653Z
LAST-MODIFIED:20260415T185653Z
UID:10026311-1776519000-1776522600@www.saint-fabien.ca
SUMMARY:Patinage libre
DESCRIPTION:
URL:https://www.saint-fabien.ca/event-calendar/patinage-libre-426/
LOCATION:pavillon des loisirs\, 32 8e Avenue Ouest\, Saint-Fabien\, Québec\, G0L2Z0\, Canada
CATEGORIES:Sports et loisirs
ORGANIZER;CN="Les Loisirs St-Fabien Inc.":MAILTO:loisirss@cgocable.ca
GEO:48.2924537;-68.8624063
X-APPLE-STRUCTURED-LOCATION;VALUE=URI;X-ADDRESS=pavillon des loisirs 32 8e Avenue Ouest Saint-Fabien Québec G0L2Z0 Canada;X-APPLE-RADIUS=500;X-TITLE=32 8e Avenue Ouest:geo:-68.8624063,48.2924537
END:VEVENT
BEGIN:VEVENT
DTSTART;TZID=America/Toronto:20260418T143000
DTEND;TZID=America/Toronto:20260418T153000
DTSTAMP:20260419T135831
CREATED:20260415T185735Z
LAST-MODIFIED:20260415T185735Z
UID:10026312-1776522600-1776526200@www.saint-fabien.ca
SUMMARY:Hockey libre
DESCRIPTION:
URL:https://www.saint-fabien.ca/event-calendar/hockey-libre-340/
LOCATION:pavillon des loisirs\, 32 8e Avenue Ouest\, Saint-Fabien\, Québec\, G0L2Z0\, Canada
CATEGORIES:Sports et loisirs
ORGANIZER;CN="Les Loisirs St-Fabien Inc.":MAILTO:loisirss@cgocable.ca
GEO:48.2924537;-68.8624063
X-APPLE-STRUCTURED-LOCATION;VALUE=URI;X-ADDRESS=pavillon des loisirs 32 8e Avenue Ouest Saint-Fabien Québec G0L2Z0 Canada;X-APPLE-RADIUS=500;X-TITLE=32 8e Avenue Ouest:geo:-68.8624063,48.2924537
END:VEVENT
BEGIN:VEVENT
DTSTART;TZID=America/Toronto:20260419T160000
DTEND;TZID=America/Toronto:20260419T180000
DTSTAMP:20260419T135831
CREATED:20260416T195747Z
LAST-MODIFIED:20260416T200131Z
UID:10026318-1776614400-1776621600@www.saint-fabien.ca
SUMMARY:Ciné-poutine spécial ados avec Paraloeil!
DESCRIPTION:Ciné-Poutine : Nous\, les zombies \nDimanche 19 avril à 16h30 | Pavillon des loisirs\, St-Fabien | Projection gratuite \n\nUn monde sans conflit entre cohabitation humain- zombie + trois marginaux opportunistes + un employé manipulé = un trafic aussi improbable que risqué.\n\nArrivez dès 16h pour commander votre poutine avant le début de la projection !
URL:https://www.saint-fabien.ca/event-calendar/cine-poutine-avec-paraloeil/
LOCATION:pavillon des loisirs\, 32 8e Avenue Ouest\, Saint-Fabien\, Québec\, G0L2Z0\, Canada
CATEGORIES:Culture
ATTACH;FMTTYPE=image/jpeg:https://www.saint-fabien.ca/wp-content/uploads/2026/04/671697613_1576835214445182_2649829420749339963_n.jpg
GEO:48.2924537;-68.8624063
X-APPLE-STRUCTURED-LOCATION;VALUE=URI;X-ADDRESS=pavillon des loisirs 32 8e Avenue Ouest Saint-Fabien Québec G0L2Z0 Canada;X-APPLE-RADIUS=500;X-TITLE=32 8e Avenue Ouest:geo:-68.8624063,48.2924537
END:VEVENT
END:VCALENDAR