BEGIN:VCALENDAR
VERSION:2.0
PRODID:-//Municipalité de Saint-Fabien - ECPv6.15.20//NONSGML v1.0//EN
CALSCALE:GREGORIAN
METHOD:PUBLISH
X-ORIGINAL-URL:https://www.saint-fabien.ca
X-WR-CALDESC:Évènements pour Municipalité de Saint-Fabien
REFRESH-INTERVAL;VALUE=DURATION:PT1H
X-Robots-Tag:noindex
X-PUBLISHED-TTL:PT1H
BEGIN:VTIMEZONE
TZID:America/Toronto
BEGIN:DAYLIGHT
TZOFFSETFROM:-0500
TZOFFSETTO:-0400
TZNAME:EDT
DTSTART:20230312T070000
END:DAYLIGHT
BEGIN:STANDARD
TZOFFSETFROM:-0400
TZOFFSETTO:-0500
TZNAME:EST
DTSTART:20231105T060000
END:STANDARD
BEGIN:DAYLIGHT
TZOFFSETFROM:-0500
TZOFFSETTO:-0400
TZNAME:EDT
DTSTART:20240310T070000
END:DAYLIGHT
BEGIN:STANDARD
TZOFFSETFROM:-0400
TZOFFSETTO:-0500
TZNAME:EST
DTSTART:20241103T060000
END:STANDARD
BEGIN:DAYLIGHT
TZOFFSETFROM:-0500
TZOFFSETTO:-0400
TZNAME:EDT
DTSTART:20250309T070000
END:DAYLIGHT
BEGIN:STANDARD
TZOFFSETFROM:-0400
TZOFFSETTO:-0500
TZNAME:EST
DTSTART:20251102T060000
END:STANDARD
END:VTIMEZONE
BEGIN:VEVENT
DTSTART;VALUE=DATE:20240518
DTEND;VALUE=DATE:20240519
DTSTAMP:20260425T083130
CREATED:20240408T130012Z
LAST-MODIFIED:20240408T130012Z
UID:10025680-1715990400-1716076799@www.saint-fabien.ca
SUMMARY:50 ans des Commandos - Le grand débarquement !
DESCRIPTION:Le grand débarquement est à nos portes ! Ce sera l’occasion parfaite pour ceux qui ont entendu des récits\, ont vu circuler des photos ici et là\, de se réunir autour des Commandos\, ce club de moto fabiennois devenu mythique. Fondé en 1974\, le Club est né et s’est développé dans un esprit de partage\, de solidarité et de fraternité avec les gens du milieu (plus d’infos sur l’histoire du Club à la page suivante\, dans un article de Claire Lavoie publié en 2005 dans la revue Enfin). \nLe grand débarquement\, c’est donc une invitation lancée à tous ceux et celles qui ont le goût de rencontrer\, d’échanger avec les bâtisseurs que furent les membres du Commando\, et de revivre à travers eux une époque pas si lointaine. \nFidèles à leur esprit de partage et en collaboration avec Les Loisirs St-Fabien\, il a été convenu de distribuer les profits de l’événement à des organismes du milieu. \nÀ noter que pour l’occasion\, un souper dont les billets seront mis en vente à partir du 22 avril sera organisé dans la salle Desjardins du Pavillon des loisirs. Par la suite\, deux groupes se partageront la scène : BOBKAT (clin d’oeil aux Patriotes)\, avec son répertoire de bon rock québécois et Anthologie\, un groupe qui vous fera vibrer jusqu’au plus profond de vos souvenirs à travers son répertoire rock des années 70 à 90. \nMerci à tous ceux qui ont cru en moi et en ce projet\, autant par rapport à la logistique (alliers-bénévoles) qu’au financement (commanditaires). C’est grâce à vous que tout ça est possible. \nCommandablement vôtre\, \nGérald D’Astous\, membre fondateur et organisateur
URL:https://www.saint-fabien.ca/event-calendar/50-ans-des-commandos-le-grand-debarquement/
LOCATION:pavillon des loisirs\, 32 8e Avenue Ouest\, Saint-Fabien\, Québec\, G0L2Z0\, Canada
CATEGORIES:Sports et loisirs
ORGANIZER;CN="Les Loisirs St-Fabien Inc.":MAILTO:loisirss@cgocable.ca
GEO:48.2924537;-68.8624063
X-APPLE-STRUCTURED-LOCATION;VALUE=URI;X-ADDRESS=pavillon des loisirs 32 8e Avenue Ouest Saint-Fabien Québec G0L2Z0 Canada;X-APPLE-RADIUS=500;X-TITLE=32 8e Avenue Ouest:geo:-68.8624063,48.2924537
END:VEVENT
END:VCALENDAR