BEGIN:VCALENDAR
VERSION:2.0
PRODID:-//Municipalité de Saint-Fabien - ECPv6.15.20//NONSGML v1.0//EN
CALSCALE:GREGORIAN
METHOD:PUBLISH
X-ORIGINAL-URL:https://www.saint-fabien.ca
X-WR-CALDESC:Évènements pour Municipalité de Saint-Fabien
REFRESH-INTERVAL;VALUE=DURATION:PT1H
X-Robots-Tag:noindex
X-PUBLISHED-TTL:PT1H
BEGIN:VTIMEZONE
TZID:America/Toronto
BEGIN:DAYLIGHT
TZOFFSETFROM:-0500
TZOFFSETTO:-0400
TZNAME:EDT
DTSTART:20230312T070000
END:DAYLIGHT
BEGIN:STANDARD
TZOFFSETFROM:-0400
TZOFFSETTO:-0500
TZNAME:EST
DTSTART:20231105T060000
END:STANDARD
BEGIN:DAYLIGHT
TZOFFSETFROM:-0500
TZOFFSETTO:-0400
TZNAME:EDT
DTSTART:20240310T070000
END:DAYLIGHT
BEGIN:STANDARD
TZOFFSETFROM:-0400
TZOFFSETTO:-0500
TZNAME:EST
DTSTART:20241103T060000
END:STANDARD
BEGIN:DAYLIGHT
TZOFFSETFROM:-0500
TZOFFSETTO:-0400
TZNAME:EDT
DTSTART:20250309T070000
END:DAYLIGHT
BEGIN:STANDARD
TZOFFSETFROM:-0400
TZOFFSETTO:-0500
TZNAME:EST
DTSTART:20251102T060000
END:STANDARD
END:VTIMEZONE
BEGIN:VEVENT
DTSTART;TZID=America/Toronto:20240903T190000
DTEND;TZID=America/Toronto:20240903T200000
DTSTAMP:20260423T071653
CREATED:20240905T142026Z
LAST-MODIFIED:20240905T142026Z
UID:10025731-1725390000-1725393600@www.saint-fabien.ca
SUMMARY:Cours de karaté - Début de la session
DESCRIPTION:Les cours de karaté dispensés par Senseï Louis-Philip D’Astous ont repris au gymnase de l’école l’Écho-des-Montagnes ! Les cours ont lieu deux fois par semaine\, les mardis et vendredis\, toujours à 19h. Les personnes qui souhaitent s’initier à ce très beau sport ou qui voudraient en apprendre davantage sur les conditions\, les coûts\, les modalités d’inscription\, les horaires ou le programme peuvent simplement se présenter quelques minutes avant le début des cours. Il sera aussi bien sûr possible de rencontrer Senseï Louis-Philip\, qui pratique et enseigne le karaté depuis de nombreuses années ! À noter aussi que l’école est membre de la Fédération internationale de karaté (IFK Kyokushin). Bienvenue à tous !
URL:https://www.saint-fabien.ca/event-calendar/cours-de-karate-debut-de-la-session/
LOCATION:École l’Écho-des-Montagnes\, 10\, 8e Avenue Lefrançois\, Saint-Fabien\, Québec\, G0L2Z0\, Canada
CATEGORIES:Sports et loisirs
GEO:48.2941077;-68.864179
X-APPLE-STRUCTURED-LOCATION;VALUE=URI;X-ADDRESS=École l’Écho-des-Montagnes 10 8e Avenue Lefrançois Saint-Fabien Québec G0L2Z0 Canada;X-APPLE-RADIUS=500;X-TITLE=10\, 8e Avenue Lefrançois:geo:-68.864179,48.2941077
END:VEVENT
BEGIN:VEVENT
DTSTART;TZID=America/Toronto:20240906T183000
DTEND;TZID=America/Toronto:20240906T193000
DTSTAMP:20260423T071653
CREATED:20240916T190055Z
LAST-MODIFIED:20240916T190055Z
UID:10025739-1725647400-1725651000@www.saint-fabien.ca
SUMMARY:Patinage libre
DESCRIPTION:
URL:https://www.saint-fabien.ca/event-calendar/patinage-libre-321/
LOCATION:pavillon des loisirs\, 32 8e Avenue Ouest\, Saint-Fabien\, Québec\, G0L2Z0\, Canada
CATEGORIES:Sports et loisirs
ORGANIZER;CN="Les Loisirs St-Fabien Inc.":MAILTO:loisirss@cgocable.ca
GEO:48.2924537;-68.8624063
X-APPLE-STRUCTURED-LOCATION;VALUE=URI;X-ADDRESS=pavillon des loisirs 32 8e Avenue Ouest Saint-Fabien Québec G0L2Z0 Canada;X-APPLE-RADIUS=500;X-TITLE=32 8e Avenue Ouest:geo:-68.8624063,48.2924537
END:VEVENT
BEGIN:VEVENT
DTSTART;TZID=America/Toronto:20240906T193000
DTEND;TZID=America/Toronto:20240906T203000
DTSTAMP:20260423T071653
CREATED:20240916T190136Z
LAST-MODIFIED:20240916T190136Z
UID:10025740-1725651000-1725654600@www.saint-fabien.ca
SUMMARY:Hockey libre
DESCRIPTION:
URL:https://www.saint-fabien.ca/event-calendar/hockey-libre-301/
LOCATION:pavillon des loisirs\, 32 8e Avenue Ouest\, Saint-Fabien\, Québec\, G0L2Z0\, Canada
CATEGORIES:Sports et loisirs
ORGANIZER;CN="Les Loisirs St-Fabien Inc.":MAILTO:loisirss@cgocable.ca
GEO:48.2924537;-68.8624063
X-APPLE-STRUCTURED-LOCATION;VALUE=URI;X-ADDRESS=pavillon des loisirs 32 8e Avenue Ouest Saint-Fabien Québec G0L2Z0 Canada;X-APPLE-RADIUS=500;X-TITLE=32 8e Avenue Ouest:geo:-68.8624063,48.2924537
END:VEVENT
BEGIN:VEVENT
DTSTART;TZID=America/Toronto:20240908T144500
DTEND;TZID=America/Toronto:20240908T154500
DTSTAMP:20260423T071653
CREATED:20240916T190234Z
LAST-MODIFIED:20240916T190234Z
UID:10025741-1725806700-1725810300@www.saint-fabien.ca
SUMMARY:Patinage libre
DESCRIPTION:
URL:https://www.saint-fabien.ca/event-calendar/patinage-libre-322/
LOCATION:municipalité de Saint-Fabien\, 20-A 7 Avenue\, Saint-Fabien\, Québec\, G0L2Z0\, Canada
CATEGORIES:Sports et loisirs
ORGANIZER;CN="Les Loisirs St-Fabien Inc.":MAILTO:loisirss@cgocable.ca
GEO:48.2935897;-68.8658383
X-APPLE-STRUCTURED-LOCATION;VALUE=URI;X-ADDRESS=municipalité de Saint-Fabien 20-A 7 Avenue Saint-Fabien Québec G0L2Z0 Canada;X-APPLE-RADIUS=500;X-TITLE=20-A 7 Avenue:geo:-68.8658383,48.2935897
END:VEVENT
BEGIN:VEVENT
DTSTART;TZID=America/Toronto:20240908T154500
DTEND;TZID=America/Toronto:20240908T164500
DTSTAMP:20260423T071653
CREATED:20240916T190325Z
LAST-MODIFIED:20240916T190325Z
UID:10025742-1725810300-1725813900@www.saint-fabien.ca
SUMMARY:Hockey libre
DESCRIPTION:
URL:https://www.saint-fabien.ca/event-calendar/hockey-libre-302/
LOCATION:pavillon des loisirs\, 32 8e Avenue Ouest\, Saint-Fabien\, Québec\, G0L2Z0\, Canada
CATEGORIES:Sports et loisirs
ORGANIZER;CN="Les Loisirs St-Fabien Inc.":MAILTO:loisirss@cgocable.ca
GEO:48.2924537;-68.8624063
X-APPLE-STRUCTURED-LOCATION;VALUE=URI;X-ADDRESS=pavillon des loisirs 32 8e Avenue Ouest Saint-Fabien Québec G0L2Z0 Canada;X-APPLE-RADIUS=500;X-TITLE=32 8e Avenue Ouest:geo:-68.8624063,48.2924537
END:VEVENT
BEGIN:VEVENT
DTSTART;TZID=America/Toronto:20240911T093000
DTEND;TZID=America/Toronto:20240911T110000
DTSTAMP:20260423T071653
CREATED:20240905T142756Z
LAST-MODIFIED:20240905T142756Z
UID:10025737-1726047000-1726052400@www.saint-fabien.ca
SUMMARY:Viactive - Début de la session
DESCRIPTION:Depuis 2015\, les personnes âgées de 50 ans et plus de la municipalité de Saint-Fabien profitent du programme Viactive. Ce programme d’exercices en douceur vise l’amélioration de l’endurance cardiovasculaire et musculaire\, la flexibilité et l’équilibre. Tous les exercices peuvent se faire en position assise ou debout. \nLes routines\, dont les thèmes sont variés\, comportent des exercices adaptés et sécuritaires pour la majorité des aîné.e.s autonomes. Ils ont été conçus et validés par des kinésiologues et des spécialistes de l’activité physique. \nInscription : au Pavillon des loisirs le mercredi 4 septembre de 9h30 à 11h \nDébut des rencontres : mercredi 11 septembre de 9h30 à 11h C’est gratuit ! \nCourriel : lschmidt1@telus.net Téléphone : 418.869.2869 \nLouise Schmidt\, responsable et animatrice
URL:https://www.saint-fabien.ca/event-calendar/viactive-debut-de-la-session/
LOCATION:pavillon des loisirs\, 32 8e Avenue Ouest\, Saint-Fabien\, Québec\, G0L2Z0\, Canada
CATEGORIES:Sports et loisirs
ORGANIZER;CN="Les Loisirs St-Fabien Inc.":MAILTO:loisirss@cgocable.ca
GEO:48.2924537;-68.8624063
X-APPLE-STRUCTURED-LOCATION;VALUE=URI;X-ADDRESS=pavillon des loisirs 32 8e Avenue Ouest Saint-Fabien Québec G0L2Z0 Canada;X-APPLE-RADIUS=500;X-TITLE=32 8e Avenue Ouest:geo:-68.8624063,48.2924537
END:VEVENT
BEGIN:VEVENT
DTSTART;TZID=America/Toronto:20240913T183000
DTEND;TZID=America/Toronto:20240913T193000
DTSTAMP:20260423T071653
CREATED:20240916T191301Z
LAST-MODIFIED:20240916T191301Z
UID:10025743-1726252200-1726255800@www.saint-fabien.ca
SUMMARY:Patinage libre
DESCRIPTION:
URL:https://www.saint-fabien.ca/event-calendar/patinage-libre-323/
LOCATION:pavillon des loisirs\, 32 8e Avenue Ouest\, Saint-Fabien\, Québec\, G0L2Z0\, Canada
CATEGORIES:Sports et loisirs
ORGANIZER;CN="Les Loisirs St-Fabien Inc.":MAILTO:loisirss@cgocable.ca
GEO:48.2924537;-68.8624063
X-APPLE-STRUCTURED-LOCATION;VALUE=URI;X-ADDRESS=pavillon des loisirs 32 8e Avenue Ouest Saint-Fabien Québec G0L2Z0 Canada;X-APPLE-RADIUS=500;X-TITLE=32 8e Avenue Ouest:geo:-68.8624063,48.2924537
END:VEVENT
BEGIN:VEVENT
DTSTART;TZID=America/Toronto:20240913T193000
DTEND;TZID=America/Toronto:20240913T203000
DTSTAMP:20260423T071653
CREATED:20240916T191428Z
LAST-MODIFIED:20240916T191428Z
UID:10025744-1726255800-1726259400@www.saint-fabien.ca
SUMMARY:Hockey libre
DESCRIPTION:
URL:https://www.saint-fabien.ca/event-calendar/hockey-libre-303/
LOCATION:pavillon des loisirs\, 32 8e Avenue Ouest\, Saint-Fabien\, Québec\, G0L2Z0\, Canada
CATEGORIES:Sports et loisirs
ORGANIZER;CN="Les Loisirs St-Fabien Inc.":MAILTO:loisirss@cgocable.ca
GEO:48.2924537;-68.8624063
X-APPLE-STRUCTURED-LOCATION;VALUE=URI;X-ADDRESS=pavillon des loisirs 32 8e Avenue Ouest Saint-Fabien Québec G0L2Z0 Canada;X-APPLE-RADIUS=500;X-TITLE=32 8e Avenue Ouest:geo:-68.8624063,48.2924537
END:VEVENT
BEGIN:VEVENT
DTSTART;TZID=America/Toronto:20240915T133000
DTEND;TZID=America/Toronto:20240915T143000
DTSTAMP:20260423T071653
CREATED:20240916T191507Z
LAST-MODIFIED:20240916T191507Z
UID:10025745-1726407000-1726410600@www.saint-fabien.ca
SUMMARY:Patinage libre
DESCRIPTION:
URL:https://www.saint-fabien.ca/event-calendar/patinage-libre-324/
LOCATION:pavillon des loisirs\, 32 8e Avenue Ouest\, Saint-Fabien\, Québec\, G0L2Z0\, Canada
CATEGORIES:Sports et loisirs
ORGANIZER;CN="Les Loisirs St-Fabien Inc.":MAILTO:loisirss@cgocable.ca
GEO:48.2924537;-68.8624063
X-APPLE-STRUCTURED-LOCATION;VALUE=URI;X-ADDRESS=pavillon des loisirs 32 8e Avenue Ouest Saint-Fabien Québec G0L2Z0 Canada;X-APPLE-RADIUS=500;X-TITLE=32 8e Avenue Ouest:geo:-68.8624063,48.2924537
END:VEVENT
BEGIN:VEVENT
DTSTART;TZID=America/Toronto:20240915T143000
DTEND;TZID=America/Toronto:20240915T153000
DTSTAMP:20260423T071653
CREATED:20240916T191544Z
LAST-MODIFIED:20240916T191544Z
UID:10025746-1726410600-1726414200@www.saint-fabien.ca
SUMMARY:Hockey libre
DESCRIPTION:
URL:https://www.saint-fabien.ca/event-calendar/hockey-libre-304/
LOCATION:pavillon des loisirs\, 32 8e Avenue Ouest\, Saint-Fabien\, Québec\, G0L2Z0\, Canada
CATEGORIES:Sports et loisirs
ORGANIZER;CN="Les Loisirs St-Fabien Inc.":MAILTO:loisirss@cgocable.ca
GEO:48.2924537;-68.8624063
X-APPLE-STRUCTURED-LOCATION;VALUE=URI;X-ADDRESS=pavillon des loisirs 32 8e Avenue Ouest Saint-Fabien Québec G0L2Z0 Canada;X-APPLE-RADIUS=500;X-TITLE=32 8e Avenue Ouest:geo:-68.8624063,48.2924537
END:VEVENT
BEGIN:VEVENT
DTSTART;TZID=America/Toronto:20240919T183000
DTEND;TZID=America/Toronto:20240919T203000
DTSTAMP:20260423T071653
CREATED:20240905T141546Z
LAST-MODIFIED:20240905T141546Z
UID:10025728-1726770600-1726777800@www.saint-fabien.ca
SUMMARY:Cours de danse en ligne - Début de la session
DESCRIPTION:Des cours de danse en ligne seront offerts par Nicole Marquis du 19 septembre au 21 novembre au Pavillon des loisirs. Les débutants pourront se présenter à 18h30 ; les plus avancés seront quant à eux attendus à 19h30. La session comporte 10 cours et les coûts d’inscription sont fixés à 75$. \nPour vous inscrire ou pour plus d’informations\, contactez Nicole Marquis au 418.736.5555
URL:https://www.saint-fabien.ca/event-calendar/cours-de-danse-en-ligne-debut-de-la-session/
LOCATION:pavillon des loisirs\, 32 8e Avenue Ouest\, Saint-Fabien\, Québec\, G0L2Z0\, Canada
CATEGORIES:Sports et loisirs
ORGANIZER;CN="Les Loisirs St-Fabien Inc.":MAILTO:loisirss@cgocable.ca
GEO:48.2924537;-68.8624063
X-APPLE-STRUCTURED-LOCATION;VALUE=URI;X-ADDRESS=pavillon des loisirs 32 8e Avenue Ouest Saint-Fabien Québec G0L2Z0 Canada;X-APPLE-RADIUS=500;X-TITLE=32 8e Avenue Ouest:geo:-68.8624063,48.2924537
END:VEVENT
BEGIN:VEVENT
DTSTART;TZID=America/Toronto:20240920T183000
DTEND;TZID=America/Toronto:20240920T193000
DTSTAMP:20260423T071653
CREATED:20240919T125047Z
LAST-MODIFIED:20240919T125047Z
UID:10025748-1726857000-1726860600@www.saint-fabien.ca
SUMMARY:Patinage libre
DESCRIPTION:
URL:https://www.saint-fabien.ca/event-calendar/patinage-libre-325/
LOCATION:pavillon des loisirs\, 32 8e Avenue Ouest\, Saint-Fabien\, Québec\, G0L2Z0\, Canada
CATEGORIES:Sports et loisirs
ORGANIZER;CN="Les Loisirs St-Fabien Inc.":MAILTO:loisirss@cgocable.ca
GEO:48.2924537;-68.8624063
X-APPLE-STRUCTURED-LOCATION;VALUE=URI;X-ADDRESS=pavillon des loisirs 32 8e Avenue Ouest Saint-Fabien Québec G0L2Z0 Canada;X-APPLE-RADIUS=500;X-TITLE=32 8e Avenue Ouest:geo:-68.8624063,48.2924537
END:VEVENT
BEGIN:VEVENT
DTSTART;TZID=America/Toronto:20240920T193000
DTEND;TZID=America/Toronto:20240920T203000
DTSTAMP:20260423T071653
CREATED:20240919T125127Z
LAST-MODIFIED:20240919T125127Z
UID:10025749-1726860600-1726864200@www.saint-fabien.ca
SUMMARY:Hockey libre
DESCRIPTION:
URL:https://www.saint-fabien.ca/event-calendar/hockey-libre-305/
LOCATION:pavillon des loisirs\, 32 8e Avenue Ouest\, Saint-Fabien\, Québec\, G0L2Z0\, Canada
CATEGORIES:Sports et loisirs
ORGANIZER;CN="Les Loisirs St-Fabien Inc.":MAILTO:loisirss@cgocable.ca
GEO:48.2924537;-68.8624063
X-APPLE-STRUCTURED-LOCATION;VALUE=URI;X-ADDRESS=pavillon des loisirs 32 8e Avenue Ouest Saint-Fabien Québec G0L2Z0 Canada;X-APPLE-RADIUS=500;X-TITLE=32 8e Avenue Ouest:geo:-68.8624063,48.2924537
END:VEVENT
BEGIN:VEVENT
DTSTART;TZID=America/Toronto:20240922T164500
DTEND;TZID=America/Toronto:20240922T174500
DTSTAMP:20260423T071653
CREATED:20240919T125315Z
LAST-MODIFIED:20240919T125315Z
UID:10025750-1727023500-1727027100@www.saint-fabien.ca
SUMMARY:Patinage libre
DESCRIPTION:
URL:https://www.saint-fabien.ca/event-calendar/patinage-libre-326/
LOCATION:pavillon des loisirs\, 32 8e Avenue Ouest\, Saint-Fabien\, Québec\, G0L2Z0\, Canada
CATEGORIES:Sports et loisirs
ORGANIZER;CN="Les Loisirs St-Fabien Inc.":MAILTO:loisirss@cgocable.ca
GEO:48.2924537;-68.8624063
X-APPLE-STRUCTURED-LOCATION;VALUE=URI;X-ADDRESS=pavillon des loisirs 32 8e Avenue Ouest Saint-Fabien Québec G0L2Z0 Canada;X-APPLE-RADIUS=500;X-TITLE=32 8e Avenue Ouest:geo:-68.8624063,48.2924537
END:VEVENT
BEGIN:VEVENT
DTSTART;TZID=America/Toronto:20240922T174500
DTEND;TZID=America/Toronto:20240922T184500
DTSTAMP:20260423T071653
CREATED:20240919T125423Z
LAST-MODIFIED:20240919T125423Z
UID:10025751-1727027100-1727030700@www.saint-fabien.ca
SUMMARY:Hockey libre
DESCRIPTION:
URL:https://www.saint-fabien.ca/event-calendar/hockey-libre-306/
LOCATION:pavillon des loisirs\, 32 8e Avenue Ouest\, Saint-Fabien\, Québec\, G0L2Z0\, Canada
CATEGORIES:Sports et loisirs
ORGANIZER;CN="Les Loisirs St-Fabien Inc.":MAILTO:loisirss@cgocable.ca
GEO:48.2924537;-68.8624063
X-APPLE-STRUCTURED-LOCATION;VALUE=URI;X-ADDRESS=pavillon des loisirs 32 8e Avenue Ouest Saint-Fabien Québec G0L2Z0 Canada;X-APPLE-RADIUS=500;X-TITLE=32 8e Avenue Ouest:geo:-68.8624063,48.2924537
END:VEVENT
BEGIN:VEVENT
DTSTART;TZID=America/Toronto:20240927T183000
DTEND;TZID=America/Toronto:20240927T193000
DTSTAMP:20260423T071653
CREATED:20240926T201301Z
LAST-MODIFIED:20240926T201301Z
UID:10025752-1727461800-1727465400@www.saint-fabien.ca
SUMMARY:Patinage libre
DESCRIPTION:
URL:https://www.saint-fabien.ca/event-calendar/patinage-libre-327/
LOCATION:pavillon des loisirs\, 32 8e Avenue Ouest\, Saint-Fabien\, Québec\, G0L2Z0\, Canada
CATEGORIES:Sports et loisirs
ORGANIZER;CN="Les Loisirs St-Fabien Inc.":MAILTO:loisirss@cgocable.ca
GEO:48.2924537;-68.8624063
X-APPLE-STRUCTURED-LOCATION;VALUE=URI;X-ADDRESS=pavillon des loisirs 32 8e Avenue Ouest Saint-Fabien Québec G0L2Z0 Canada;X-APPLE-RADIUS=500;X-TITLE=32 8e Avenue Ouest:geo:-68.8624063,48.2924537
END:VEVENT
BEGIN:VEVENT
DTSTART;TZID=America/Toronto:20240927T193000
DTEND;TZID=America/Toronto:20240927T203000
DTSTAMP:20260423T071653
CREATED:20240926T201343Z
LAST-MODIFIED:20240926T201343Z
UID:10025753-1727465400-1727469000@www.saint-fabien.ca
SUMMARY:Hockey libre
DESCRIPTION:
URL:https://www.saint-fabien.ca/event-calendar/hockey-libre-307/
LOCATION:pavillon des loisirs\, 32 8e Avenue Ouest\, Saint-Fabien\, Québec\, G0L2Z0\, Canada
CATEGORIES:Sports et loisirs
ORGANIZER;CN="Les Loisirs St-Fabien Inc.":MAILTO:loisirss@cgocable.ca
GEO:48.2924537;-68.8624063
X-APPLE-STRUCTURED-LOCATION;VALUE=URI;X-ADDRESS=pavillon des loisirs 32 8e Avenue Ouest Saint-Fabien Québec G0L2Z0 Canada;X-APPLE-RADIUS=500;X-TITLE=32 8e Avenue Ouest:geo:-68.8624063,48.2924537
END:VEVENT
BEGIN:VEVENT
DTSTART;TZID=America/Toronto:20240929T140000
DTEND;TZID=America/Toronto:20240929T150000
DTSTAMP:20260423T071653
CREATED:20240926T201451Z
LAST-MODIFIED:20240926T201451Z
UID:10025754-1727618400-1727622000@www.saint-fabien.ca
SUMMARY:Patinage libre
DESCRIPTION:
URL:https://www.saint-fabien.ca/event-calendar/patinage-libre-328/
LOCATION:pavillon des loisirs\, 32 8e Avenue Ouest\, Saint-Fabien\, Québec\, G0L2Z0\, Canada
CATEGORIES:Sports et loisirs
ORGANIZER;CN="Les Loisirs St-Fabien Inc.":MAILTO:loisirss@cgocable.ca
GEO:48.2924537;-68.8624063
X-APPLE-STRUCTURED-LOCATION;VALUE=URI;X-ADDRESS=pavillon des loisirs 32 8e Avenue Ouest Saint-Fabien Québec G0L2Z0 Canada;X-APPLE-RADIUS=500;X-TITLE=32 8e Avenue Ouest:geo:-68.8624063,48.2924537
END:VEVENT
BEGIN:VEVENT
DTSTART;TZID=America/Toronto:20240929T150000
DTEND;TZID=America/Toronto:20240929T154500
DTSTAMP:20260423T071653
CREATED:20240926T201539Z
LAST-MODIFIED:20240926T201539Z
UID:10025755-1727622000-1727624700@www.saint-fabien.ca
SUMMARY:Hockey libre
DESCRIPTION:
URL:https://www.saint-fabien.ca/event-calendar/hockey-libre-308/
LOCATION:pavillon des loisirs\, 32 8e Avenue Ouest\, Saint-Fabien\, Québec\, G0L2Z0\, Canada
CATEGORIES:Sports et loisirs
ORGANIZER;CN="Les Loisirs St-Fabien Inc.":MAILTO:loisirss@cgocable.ca
GEO:48.2924537;-68.8624063
X-APPLE-STRUCTURED-LOCATION;VALUE=URI;X-ADDRESS=pavillon des loisirs 32 8e Avenue Ouest Saint-Fabien Québec G0L2Z0 Canada;X-APPLE-RADIUS=500;X-TITLE=32 8e Avenue Ouest:geo:-68.8624063,48.2924537
END:VEVENT
BEGIN:VEVENT
DTSTART;TZID=America/Toronto:20240930T184500
DTEND;TZID=America/Toronto:20240930T194500
DTSTAMP:20260423T071653
CREATED:20240905T141435Z
LAST-MODIFIED:20240905T141435Z
UID:10025727-1727721900-1727725500@www.saint-fabien.ca
SUMMARY:Cours de yoga - début de la session
DESCRIPTION:À compter du 30 septembre\, un nouveau service d’initiation au yoga sera offert aux Fabiennois.e.s les lundis soirs à 18h45 au Pavillon des loisirs. \nLes séances seront guidées de façon sécuritaire et adaptée par Coralie Morissette\, professeure de yoga thérapeutique\, technologue en physiothérapie et ostéopathe de formation. Pour s’inscrire ou pour toutes autres informations\, rejoignez Coralie par courriel à cora.namasteo@outlook.com ou par téléphone au 418-955-2246. \nAu plaisir de vous voir sur le tapis !
URL:https://www.saint-fabien.ca/event-calendar/cours-de-yoga-debut-de-la-session/
LOCATION:pavillon des loisirs\, 32 8e Avenue Ouest\, Saint-Fabien\, Québec\, G0L2Z0\, Canada
CATEGORIES:Sports et loisirs
ORGANIZER;CN="Les Loisirs St-Fabien Inc.":MAILTO:loisirss@cgocable.ca
GEO:48.2924537;-68.8624063
X-APPLE-STRUCTURED-LOCATION;VALUE=URI;X-ADDRESS=pavillon des loisirs 32 8e Avenue Ouest Saint-Fabien Québec G0L2Z0 Canada;X-APPLE-RADIUS=500;X-TITLE=32 8e Avenue Ouest:geo:-68.8624063,48.2924537
END:VEVENT
END:VCALENDAR