BEGIN:VCALENDAR
VERSION:2.0
PRODID:-//Municipalité de Saint-Fabien - ECPv6.15.20//NONSGML v1.0//EN
CALSCALE:GREGORIAN
METHOD:PUBLISH
X-WR-CALNAME:Municipalité de Saint-Fabien
X-ORIGINAL-URL:https://www.saint-fabien.ca
X-WR-CALDESC:Évènements pour Municipalité de Saint-Fabien
REFRESH-INTERVAL;VALUE=DURATION:PT1H
X-Robots-Tag:noindex
X-PUBLISHED-TTL:PT1H
BEGIN:VTIMEZONE
TZID:America/Toronto
BEGIN:DAYLIGHT
TZOFFSETFROM:-0500
TZOFFSETTO:-0400
TZNAME:EDT
DTSTART:20230312T070000
END:DAYLIGHT
BEGIN:STANDARD
TZOFFSETFROM:-0400
TZOFFSETTO:-0500
TZNAME:EST
DTSTART:20231105T060000
END:STANDARD
BEGIN:DAYLIGHT
TZOFFSETFROM:-0500
TZOFFSETTO:-0400
TZNAME:EDT
DTSTART:20240310T070000
END:DAYLIGHT
BEGIN:STANDARD
TZOFFSETFROM:-0400
TZOFFSETTO:-0500
TZNAME:EST
DTSTART:20241103T060000
END:STANDARD
BEGIN:DAYLIGHT
TZOFFSETFROM:-0500
TZOFFSETTO:-0400
TZNAME:EDT
DTSTART:20250309T070000
END:DAYLIGHT
BEGIN:STANDARD
TZOFFSETFROM:-0400
TZOFFSETTO:-0500
TZNAME:EST
DTSTART:20251102T060000
END:STANDARD
END:VTIMEZONE
BEGIN:VEVENT
DTSTART;TZID=America/Toronto:20241101T193000
DTEND;TZID=America/Toronto:20241101T220000
DTSTAMP:20260422T190611
CREATED:20241024T141048Z
LAST-MODIFIED:20241024T141048Z
UID:10025773-1730489400-1730498400@www.saint-fabien.ca
SUMMARY:Danse d'Halloween pour les 12-17 ans !
DESCRIPTION:Le 1er novembre au Pavillon des loisirs. À Partir de 19h30. \nViens déguisé !
URL:https://www.saint-fabien.ca/event-calendar/danse-dhalloween-pour-les-12-17-ans/
LOCATION:pavillon des loisirs\, 32 8e Avenue Ouest\, Saint-Fabien\, Québec\, G0L2Z0\, Canada
CATEGORIES:Sports et loisirs
ATTACH;FMTTYPE=image/jpeg:https://www.saint-fabien.ca/wp-content/uploads/2024/10/462472406_541970631548100_2426760690838609595_n.jpg
ORGANIZER;CN="Les Loisirs St-Fabien Inc.":MAILTO:loisirss@cgocable.ca
GEO:48.2924537;-68.8624063
X-APPLE-STRUCTURED-LOCATION;VALUE=URI;X-ADDRESS=pavillon des loisirs 32 8e Avenue Ouest Saint-Fabien Québec G0L2Z0 Canada;X-APPLE-RADIUS=500;X-TITLE=32 8e Avenue Ouest:geo:-68.8624063,48.2924537
END:VEVENT
BEGIN:VEVENT
DTSTART;TZID=America/Toronto:20241103T121500
DTEND;TZID=America/Toronto:20241103T131500
DTSTAMP:20260422T190611
CREATED:20241029T125045Z
LAST-MODIFIED:20241029T125045Z
UID:10025776-1730636100-1730639700@www.saint-fabien.ca
SUMMARY:Patinage libre
DESCRIPTION:
URL:https://www.saint-fabien.ca/event-calendar/patinage-libre-336/
LOCATION:pavillon des loisirs\, 32 8e Avenue Ouest\, Saint-Fabien\, Québec\, G0L2Z0\, Canada
CATEGORIES:Sports et loisirs
ORGANIZER;CN="Les Loisirs St-Fabien Inc.":MAILTO:loisirss@cgocable.ca
GEO:48.2924537;-68.8624063
X-APPLE-STRUCTURED-LOCATION;VALUE=URI;X-ADDRESS=pavillon des loisirs 32 8e Avenue Ouest Saint-Fabien Québec G0L2Z0 Canada;X-APPLE-RADIUS=500;X-TITLE=32 8e Avenue Ouest:geo:-68.8624063,48.2924537
END:VEVENT
BEGIN:VEVENT
DTSTART;TZID=America/Toronto:20241103T131500
DTEND;TZID=America/Toronto:20241103T141500
DTSTAMP:20260422T190611
CREATED:20241029T125139Z
LAST-MODIFIED:20241029T125139Z
UID:10025777-1730639700-1730643300@www.saint-fabien.ca
SUMMARY:Hockey libre
DESCRIPTION:
URL:https://www.saint-fabien.ca/event-calendar/hockey-libre-315/
LOCATION:pavillon des loisirs\, 32 8e Avenue Ouest\, Saint-Fabien\, Québec\, G0L2Z0\, Canada
CATEGORIES:Sports et loisirs
ORGANIZER;CN="Les Loisirs St-Fabien Inc.":MAILTO:loisirss@cgocable.ca
GEO:48.2924537;-68.8624063
X-APPLE-STRUCTURED-LOCATION;VALUE=URI;X-ADDRESS=pavillon des loisirs 32 8e Avenue Ouest Saint-Fabien Québec G0L2Z0 Canada;X-APPLE-RADIUS=500;X-TITLE=32 8e Avenue Ouest:geo:-68.8624063,48.2924537
END:VEVENT
BEGIN:VEVENT
DTSTART;TZID=America/Toronto:20241109T120000
DTEND;TZID=America/Toronto:20241109T130000
DTSTAMP:20260422T190611
CREATED:20241105T151605Z
LAST-MODIFIED:20241105T151605Z
UID:10025783-1731153600-1731157200@www.saint-fabien.ca
SUMMARY:Patinage libre
DESCRIPTION:
URL:https://www.saint-fabien.ca/event-calendar/patinage-libre-337/
LOCATION:pavillon des loisirs\, 32 8e Avenue Ouest\, Saint-Fabien\, Québec\, G0L2Z0\, Canada
CATEGORIES:Sports et loisirs
ORGANIZER;CN="Les Loisirs St-Fabien Inc.":MAILTO:loisirss@cgocable.ca
GEO:48.2924537;-68.8624063
X-APPLE-STRUCTURED-LOCATION;VALUE=URI;X-ADDRESS=pavillon des loisirs 32 8e Avenue Ouest Saint-Fabien Québec G0L2Z0 Canada;X-APPLE-RADIUS=500;X-TITLE=32 8e Avenue Ouest:geo:-68.8624063,48.2924537
END:VEVENT
BEGIN:VEVENT
DTSTART;TZID=America/Toronto:20241110T121500
DTEND;TZID=America/Toronto:20241110T131500
DTSTAMP:20260422T190611
CREATED:20241105T151824Z
LAST-MODIFIED:20241105T151824Z
UID:10025785-1731240900-1731244500@www.saint-fabien.ca
SUMMARY:Patinage libre
DESCRIPTION:
URL:https://www.saint-fabien.ca/event-calendar/patinage-libre-338/
LOCATION:municipalité de Saint-Fabien\, 20-A 7 Avenue\, Saint-Fabien\, Québec\, G0L2Z0\, Canada
CATEGORIES:Sports et loisirs
ORGANIZER;CN="Les Loisirs St-Fabien Inc.":MAILTO:loisirss@cgocable.ca
GEO:48.2935897;-68.8658383
X-APPLE-STRUCTURED-LOCATION;VALUE=URI;X-ADDRESS=municipalité de Saint-Fabien 20-A 7 Avenue Saint-Fabien Québec G0L2Z0 Canada;X-APPLE-RADIUS=500;X-TITLE=20-A 7 Avenue:geo:-68.8658383,48.2935897
END:VEVENT
BEGIN:VEVENT
DTSTART;TZID=America/Toronto:20241110T131500
DTEND;TZID=America/Toronto:20241110T141500
DTSTAMP:20260422T190611
CREATED:20241105T151717Z
LAST-MODIFIED:20241106T153846Z
UID:10025784-1731244500-1731248100@www.saint-fabien.ca
SUMMARY:Hockey libre - 12 ans et moins
DESCRIPTION:
URL:https://www.saint-fabien.ca/event-calendar/hockey-libre-12-ans-et-moins/
LOCATION:pavillon des loisirs\, 32 8e Avenue Ouest\, Saint-Fabien\, Québec\, G0L2Z0\, Canada
CATEGORIES:Sports et loisirs
ORGANIZER;CN="Les Loisirs St-Fabien Inc.":MAILTO:loisirss@cgocable.ca
GEO:48.2924537;-68.8624063
X-APPLE-STRUCTURED-LOCATION;VALUE=URI;X-ADDRESS=pavillon des loisirs 32 8e Avenue Ouest Saint-Fabien Québec G0L2Z0 Canada;X-APPLE-RADIUS=500;X-TITLE=32 8e Avenue Ouest:geo:-68.8624063,48.2924537
END:VEVENT
BEGIN:VEVENT
DTSTART;TZID=America/Toronto:20241110T141500
DTEND;TZID=America/Toronto:20241110T151500
DTSTAMP:20260422T190611
CREATED:20241105T151917Z
LAST-MODIFIED:20241106T153917Z
UID:10025786-1731248100-1731251700@www.saint-fabien.ca
SUMMARY:Hockey libre
DESCRIPTION:
URL:https://www.saint-fabien.ca/event-calendar/hockey-libre-316/
LOCATION:pavillon des loisirs\, 32 8e Avenue Ouest\, Saint-Fabien\, Québec\, G0L2Z0\, Canada
CATEGORIES:Sports et loisirs
ORGANIZER;CN="Les Loisirs St-Fabien Inc.":MAILTO:loisirss@cgocable.ca
GEO:48.2924537;-68.8624063
X-APPLE-STRUCTURED-LOCATION;VALUE=URI;X-ADDRESS=pavillon des loisirs 32 8e Avenue Ouest Saint-Fabien Québec G0L2Z0 Canada;X-APPLE-RADIUS=500;X-TITLE=32 8e Avenue Ouest:geo:-68.8624063,48.2924537
END:VEVENT
BEGIN:VEVENT
DTSTART;TZID=America/Toronto:20241115T183000
DTEND;TZID=America/Toronto:20241115T191500
DTSTAMP:20260422T190611
CREATED:20241114T175110Z
LAST-MODIFIED:20241114T175110Z
UID:10025789-1731695400-1731698100@www.saint-fabien.ca
SUMMARY:Patinage libre
DESCRIPTION:
URL:https://www.saint-fabien.ca/event-calendar/patinage-libre-339/
LOCATION:pavillon des loisirs\, 32 8e Avenue Ouest\, Saint-Fabien\, Québec\, G0L2Z0\, Canada
CATEGORIES:Sports et loisirs
ORGANIZER;CN="Les Loisirs St-Fabien Inc.":MAILTO:loisirss@cgocable.ca
GEO:48.2924537;-68.8624063
X-APPLE-STRUCTURED-LOCATION;VALUE=URI;X-ADDRESS=pavillon des loisirs 32 8e Avenue Ouest Saint-Fabien Québec G0L2Z0 Canada;X-APPLE-RADIUS=500;X-TITLE=32 8e Avenue Ouest:geo:-68.8624063,48.2924537
END:VEVENT
BEGIN:VEVENT
DTSTART;TZID=America/Toronto:20241117T121500
DTEND;TZID=America/Toronto:20241117T131500
DTSTAMP:20260422T190611
CREATED:20241114T175156Z
LAST-MODIFIED:20241114T175156Z
UID:10025790-1731845700-1731849300@www.saint-fabien.ca
SUMMARY:Patinage libre
DESCRIPTION:
URL:https://www.saint-fabien.ca/event-calendar/patinage-libre-340/
LOCATION:pavillon des loisirs\, 32 8e Avenue Ouest\, Saint-Fabien\, Québec\, G0L2Z0\, Canada
CATEGORIES:Sports et loisirs
ORGANIZER;CN="Les Loisirs St-Fabien Inc.":MAILTO:loisirss@cgocable.ca
GEO:48.2924537;-68.8624063
X-APPLE-STRUCTURED-LOCATION;VALUE=URI;X-ADDRESS=pavillon des loisirs 32 8e Avenue Ouest Saint-Fabien Québec G0L2Z0 Canada;X-APPLE-RADIUS=500;X-TITLE=32 8e Avenue Ouest:geo:-68.8624063,48.2924537
END:VEVENT
BEGIN:VEVENT
DTSTART;TZID=America/Toronto:20241117T131500
DTEND;TZID=America/Toronto:20241117T141500
DTSTAMP:20260422T190611
CREATED:20241114T175241Z
LAST-MODIFIED:20241114T175241Z
UID:10025791-1731849300-1731852900@www.saint-fabien.ca
SUMMARY:Hockey libre - 12 ans et moins
DESCRIPTION:
URL:https://www.saint-fabien.ca/event-calendar/hockey-libre-12-ans-et-moins-2/
LOCATION:pavillon des loisirs\, 32 8e Avenue Ouest\, Saint-Fabien\, Québec\, G0L2Z0\, Canada
CATEGORIES:Sports et loisirs
ORGANIZER;CN="Les Loisirs St-Fabien Inc.":MAILTO:loisirss@cgocable.ca
GEO:48.2924537;-68.8624063
X-APPLE-STRUCTURED-LOCATION;VALUE=URI;X-ADDRESS=pavillon des loisirs 32 8e Avenue Ouest Saint-Fabien Québec G0L2Z0 Canada;X-APPLE-RADIUS=500;X-TITLE=32 8e Avenue Ouest:geo:-68.8624063,48.2924537
END:VEVENT
BEGIN:VEVENT
DTSTART;TZID=America/Toronto:20241117T141500
DTEND;TZID=America/Toronto:20241117T151500
DTSTAMP:20260422T190611
CREATED:20241114T175320Z
LAST-MODIFIED:20241114T175320Z
UID:10025792-1731852900-1731856500@www.saint-fabien.ca
SUMMARY:Hockey libre
DESCRIPTION:
URL:https://www.saint-fabien.ca/event-calendar/hockey-libre-317/
LOCATION:pavillon des loisirs\, 32 8e Avenue Ouest\, Saint-Fabien\, Québec\, G0L2Z0\, Canada
CATEGORIES:Sports et loisirs
ORGANIZER;CN="Les Loisirs St-Fabien Inc.":MAILTO:loisirss@cgocable.ca
GEO:48.2924537;-68.8624063
X-APPLE-STRUCTURED-LOCATION;VALUE=URI;X-ADDRESS=pavillon des loisirs 32 8e Avenue Ouest Saint-Fabien Québec G0L2Z0 Canada;X-APPLE-RADIUS=500;X-TITLE=32 8e Avenue Ouest:geo:-68.8624063,48.2924537
END:VEVENT
BEGIN:VEVENT
DTSTART;TZID=America/Toronto:20241123T170000
DTEND;TZID=America/Toronto:20241123T190000
DTSTAMP:20260422T190611
CREATED:20241104T194807Z
LAST-MODIFIED:20241104T194807Z
UID:10025778-1732381200-1732388400@www.saint-fabien.ca
SUMMARY:Souper spaghetti au profit du CPA
DESCRIPTION:Le Club de patinage artistique de Saint-Fabien organise un souper spaghetti le samedi 23 novembre dès 18h au Pavillon des loisirs. \nLes tarifs pour le souper ET la soirée sont : \n– 13 ans et plus : 20$ \n– 6 à 12 ans : 10$ \n– 6 ans et moins : gratuit ! \nLa soirée sera animée par le chansonnier Gilles Richard. \nLes billets sont en vente auprès des parents des patineurs ou des membres du CA : \nVickie Bélanger\, Mélissa Bouchard\, Christine Bouchard\, Émilie Coulombe\, Maryse Gagné\, Serge Gagnon\, Geneviève Pigeon\, Julie Roy.
URL:https://www.saint-fabien.ca/event-calendar/souper-spaghetti-au-profit-du-cpa/
LOCATION:pavillon des loisirs\, 32 8e Avenue Ouest\, Saint-Fabien\, Québec\, G0L2Z0\, Canada
CATEGORIES:Sports et loisirs
GEO:48.2924537;-68.8624063
X-APPLE-STRUCTURED-LOCATION;VALUE=URI;X-ADDRESS=pavillon des loisirs 32 8e Avenue Ouest Saint-Fabien Québec G0L2Z0 Canada;X-APPLE-RADIUS=500;X-TITLE=32 8e Avenue Ouest:geo:-68.8624063,48.2924537
END:VEVENT
BEGIN:VEVENT
DTSTART;TZID=America/Toronto:20241124T121500
DTEND;TZID=America/Toronto:20241124T131500
DTSTAMP:20260422T190611
CREATED:20241119T183952Z
LAST-MODIFIED:20241119T183952Z
UID:10025793-1732450500-1732454100@www.saint-fabien.ca
SUMMARY:Patinage libre
DESCRIPTION:
URL:https://www.saint-fabien.ca/event-calendar/patinage-libre-341/
LOCATION:pavillon des loisirs\, 32 8e Avenue Ouest\, Saint-Fabien\, Québec\, G0L2Z0\, Canada
CATEGORIES:Sports et loisirs
ORGANIZER;CN="Les Loisirs St-Fabien Inc.":MAILTO:loisirss@cgocable.ca
GEO:48.2924537;-68.8624063
X-APPLE-STRUCTURED-LOCATION;VALUE=URI;X-ADDRESS=pavillon des loisirs 32 8e Avenue Ouest Saint-Fabien Québec G0L2Z0 Canada;X-APPLE-RADIUS=500;X-TITLE=32 8e Avenue Ouest:geo:-68.8624063,48.2924537
END:VEVENT
BEGIN:VEVENT
DTSTART;TZID=America/Toronto:20241124T131500
DTEND;TZID=America/Toronto:20241124T141500
DTSTAMP:20260422T190611
CREATED:20241119T184220Z
LAST-MODIFIED:20241119T184220Z
UID:10025794-1732454100-1732457700@www.saint-fabien.ca
SUMMARY:Hockey libre
DESCRIPTION:
URL:https://www.saint-fabien.ca/event-calendar/hockey-libre-318/
LOCATION:pavillon des loisirs\, 32 8e Avenue Ouest\, Saint-Fabien\, Québec\, G0L2Z0\, Canada
CATEGORIES:Sports et loisirs
ORGANIZER;CN="Les Loisirs St-Fabien Inc.":MAILTO:loisirss@cgocable.ca
GEO:48.2924537;-68.8624063
X-APPLE-STRUCTURED-LOCATION;VALUE=URI;X-ADDRESS=pavillon des loisirs 32 8e Avenue Ouest Saint-Fabien Québec G0L2Z0 Canada;X-APPLE-RADIUS=500;X-TITLE=32 8e Avenue Ouest:geo:-68.8624063,48.2924537
END:VEVENT
BEGIN:VEVENT
DTSTART;TZID=America/Toronto:20241129T183000
DTEND;TZID=America/Toronto:20241129T191500
DTSTAMP:20260422T190611
CREATED:20241125T175709Z
LAST-MODIFIED:20241125T175709Z
UID:10025795-1732905000-1732907700@www.saint-fabien.ca
SUMMARY:Patinage libre
DESCRIPTION:
URL:https://www.saint-fabien.ca/event-calendar/patinage-libre-342/
LOCATION:pavillon des loisirs\, 32 8e Avenue Ouest\, Saint-Fabien\, Québec\, G0L2Z0\, Canada
CATEGORIES:Sports et loisirs
ORGANIZER;CN="Les Loisirs St-Fabien Inc.":MAILTO:loisirss@cgocable.ca
GEO:48.2924537;-68.8624063
X-APPLE-STRUCTURED-LOCATION;VALUE=URI;X-ADDRESS=pavillon des loisirs 32 8e Avenue Ouest Saint-Fabien Québec G0L2Z0 Canada;X-APPLE-RADIUS=500;X-TITLE=32 8e Avenue Ouest:geo:-68.8624063,48.2924537
END:VEVENT
BEGIN:VEVENT
DTSTART;TZID=America/Toronto:20241130T154500
DTEND;TZID=America/Toronto:20241130T164500
DTSTAMP:20260422T190611
CREATED:20241125T175828Z
LAST-MODIFIED:20241125T175828Z
UID:10025796-1732981500-1732985100@www.saint-fabien.ca
SUMMARY:Hockey libre
DESCRIPTION:
URL:https://www.saint-fabien.ca/event-calendar/hockey-libre-319/
LOCATION:pavillon des loisirs\, 32 8e Avenue Ouest\, Saint-Fabien\, Québec\, G0L2Z0\, Canada
CATEGORIES:Sports et loisirs
ORGANIZER;CN="Les Loisirs St-Fabien Inc.":MAILTO:loisirss@cgocable.ca
GEO:48.2924537;-68.8624063
X-APPLE-STRUCTURED-LOCATION;VALUE=URI;X-ADDRESS=pavillon des loisirs 32 8e Avenue Ouest Saint-Fabien Québec G0L2Z0 Canada;X-APPLE-RADIUS=500;X-TITLE=32 8e Avenue Ouest:geo:-68.8624063,48.2924537
END:VEVENT
END:VCALENDAR