BEGIN:VCALENDAR
VERSION:2.0
PRODID:-//Municipalité de Saint-Fabien - ECPv6.15.20//NONSGML v1.0//EN
CALSCALE:GREGORIAN
METHOD:PUBLISH
X-WR-CALNAME:Municipalité de Saint-Fabien
X-ORIGINAL-URL:https://www.saint-fabien.ca
X-WR-CALDESC:Évènements pour Municipalité de Saint-Fabien
REFRESH-INTERVAL;VALUE=DURATION:PT1H
X-Robots-Tag:noindex
X-PUBLISHED-TTL:PT1H
BEGIN:VTIMEZONE
TZID:America/Toronto
BEGIN:DAYLIGHT
TZOFFSETFROM:-0500
TZOFFSETTO:-0400
TZNAME:EDT
DTSTART:20240310T070000
END:DAYLIGHT
BEGIN:STANDARD
TZOFFSETFROM:-0400
TZOFFSETTO:-0500
TZNAME:EST
DTSTART:20241103T060000
END:STANDARD
BEGIN:DAYLIGHT
TZOFFSETFROM:-0500
TZOFFSETTO:-0400
TZNAME:EDT
DTSTART:20250309T070000
END:DAYLIGHT
BEGIN:STANDARD
TZOFFSETFROM:-0400
TZOFFSETTO:-0500
TZNAME:EST
DTSTART:20251102T060000
END:STANDARD
BEGIN:DAYLIGHT
TZOFFSETFROM:-0500
TZOFFSETTO:-0400
TZNAME:EDT
DTSTART:20260308T070000
END:DAYLIGHT
BEGIN:STANDARD
TZOFFSETFROM:-0400
TZOFFSETTO:-0500
TZNAME:EST
DTSTART:20261101T060000
END:STANDARD
END:VTIMEZONE
BEGIN:VEVENT
DTSTART;TZID=America/Toronto:20250405T133000
DTEND;TZID=America/Toronto:20250405T153000
DTSTAMP:20260421T193702
CREATED:20250204T154908Z
LAST-MODIFIED:20250204T154908Z
UID:10025858-1743859800-1743867000@www.saint-fabien.ca
SUMMARY:Bingo de Pâques du Club optimiste
DESCRIPTION:Le Club optimiste de Saint-Fabien propose une toute nouvelle activité : un bingo de Pâques spé-cialement dédié aux jeunes et à leur famille. Il y aura plusieurs beaux chocolats de Pâques en prix ! Des rafraîchissements seront aussi oﬀerts par le Club.\nL’activité se déroulera au Pavillon des loisirs le 5 avril de 13h30 à 15h30. Profitez-en\, c’est gratuit !
URL:https://www.saint-fabien.ca/event-calendar/bingo-de-paques-du-club-optimiste/
LOCATION:pavillon des loisirs\, 32 8e Avenue Ouest\, Saint-Fabien\, Québec\, G0L2Z0\, Canada
CATEGORIES:Sports et loisirs
GEO:48.2924537;-68.8624063
X-APPLE-STRUCTURED-LOCATION;VALUE=URI;X-ADDRESS=pavillon des loisirs 32 8e Avenue Ouest Saint-Fabien Québec G0L2Z0 Canada;X-APPLE-RADIUS=500;X-TITLE=32 8e Avenue Ouest:geo:-68.8624063,48.2924537
END:VEVENT
BEGIN:VEVENT
DTSTART;TZID=America/Toronto:20250406T141500
DTEND;TZID=America/Toronto:20250406T151500
DTSTAMP:20260421T193702
CREATED:20250404T130324Z
LAST-MODIFIED:20250404T130324Z
UID:10025908-1743948900-1743952500@www.saint-fabien.ca
SUMMARY:Patinage libre
DESCRIPTION:
URL:https://www.saint-fabien.ca/event-calendar/patinage-libre-375/
LOCATION:pavillon des loisirs\, 32 8e Avenue Ouest\, Saint-Fabien\, Québec\, G0L2Z0\, Canada
CATEGORIES:Sports et loisirs
ORGANIZER;CN="Les Loisirs St-Fabien Inc.":MAILTO:loisirss@cgocable.ca
GEO:48.2924537;-68.8624063
X-APPLE-STRUCTURED-LOCATION;VALUE=URI;X-ADDRESS=pavillon des loisirs 32 8e Avenue Ouest Saint-Fabien Québec G0L2Z0 Canada;X-APPLE-RADIUS=500;X-TITLE=32 8e Avenue Ouest:geo:-68.8624063,48.2924537
END:VEVENT
BEGIN:VEVENT
DTSTART;TZID=America/Toronto:20250406T151500
DTEND;TZID=America/Toronto:20250406T161500
DTSTAMP:20260421T193702
CREATED:20250404T130430Z
LAST-MODIFIED:20250404T130430Z
UID:10025909-1743952500-1743956100@www.saint-fabien.ca
SUMMARY:Hockey libre - 12 ans et moins
DESCRIPTION:
URL:https://www.saint-fabien.ca/event-calendar/hockey-libre-12-ans-et-moins-17/
LOCATION:pavillon des loisirs\, 32 8e Avenue Ouest\, Saint-Fabien\, Québec\, G0L2Z0\, Canada
CATEGORIES:Sports et loisirs
ORGANIZER;CN="Les Loisirs St-Fabien Inc.":MAILTO:loisirss@cgocable.ca
GEO:48.2924537;-68.8624063
X-APPLE-STRUCTURED-LOCATION;VALUE=URI;X-ADDRESS=pavillon des loisirs 32 8e Avenue Ouest Saint-Fabien Québec G0L2Z0 Canada;X-APPLE-RADIUS=500;X-TITLE=32 8e Avenue Ouest:geo:-68.8624063,48.2924537
END:VEVENT
BEGIN:VEVENT
DTSTART;TZID=America/Toronto:20250406T161500
DTEND;TZID=America/Toronto:20250406T171500
DTSTAMP:20260421T193702
CREATED:20250404T130512Z
LAST-MODIFIED:20250404T130512Z
UID:10025910-1743956100-1743959700@www.saint-fabien.ca
SUMMARY:Hockey libre
DESCRIPTION:
URL:https://www.saint-fabien.ca/event-calendar/hockey-libre-331/
LOCATION:pavillon des loisirs\, 32 8e Avenue Ouest\, Saint-Fabien\, Québec\, G0L2Z0\, Canada
CATEGORIES:Sports et loisirs
ORGANIZER;CN="Les Loisirs St-Fabien Inc.":MAILTO:loisirss@cgocable.ca
GEO:48.2924537;-68.8624063
X-APPLE-STRUCTURED-LOCATION;VALUE=URI;X-ADDRESS=pavillon des loisirs 32 8e Avenue Ouest Saint-Fabien Québec G0L2Z0 Canada;X-APPLE-RADIUS=500;X-TITLE=32 8e Avenue Ouest:geo:-68.8624063,48.2924537
END:VEVENT
BEGIN:VEVENT
DTSTART;TZID=America/Toronto:20250412T143000
DTEND;TZID=America/Toronto:20250412T153000
DTSTAMP:20260421T193702
CREATED:20250409T201707Z
LAST-MODIFIED:20250409T201707Z
UID:10025926-1744468200-1744471800@www.saint-fabien.ca
SUMMARY:Patinage libre
DESCRIPTION:
URL:https://www.saint-fabien.ca/event-calendar/patinage-libre-376/
LOCATION:pavillon des loisirs\, 32 8e Avenue Ouest\, Saint-Fabien\, Québec\, G0L2Z0\, Canada
CATEGORIES:Sports et loisirs
ORGANIZER;CN="Les Loisirs St-Fabien Inc.":MAILTO:loisirss@cgocable.ca
GEO:48.2924537;-68.8624063
X-APPLE-STRUCTURED-LOCATION;VALUE=URI;X-ADDRESS=pavillon des loisirs 32 8e Avenue Ouest Saint-Fabien Québec G0L2Z0 Canada;X-APPLE-RADIUS=500;X-TITLE=32 8e Avenue Ouest:geo:-68.8624063,48.2924537
END:VEVENT
BEGIN:VEVENT
DTSTART;TZID=America/Toronto:20250412T153000
DTEND;TZID=America/Toronto:20250412T163000
DTSTAMP:20260421T193702
CREATED:20250409T201752Z
LAST-MODIFIED:20250409T201752Z
UID:10025927-1744471800-1744475400@www.saint-fabien.ca
SUMMARY:Hockey libre - 12 ans et moins
DESCRIPTION:
URL:https://www.saint-fabien.ca/event-calendar/hockey-libre-12-ans-et-moins-18/
LOCATION:pavillon des loisirs\, 32 8e Avenue Ouest\, Saint-Fabien\, Québec\, G0L2Z0\, Canada
CATEGORIES:Sports et loisirs
ORGANIZER;CN="Les Loisirs St-Fabien Inc.":MAILTO:loisirss@cgocable.ca
GEO:48.2924537;-68.8624063
X-APPLE-STRUCTURED-LOCATION;VALUE=URI;X-ADDRESS=pavillon des loisirs 32 8e Avenue Ouest Saint-Fabien Québec G0L2Z0 Canada;X-APPLE-RADIUS=500;X-TITLE=32 8e Avenue Ouest:geo:-68.8624063,48.2924537
END:VEVENT
BEGIN:VEVENT
DTSTART;TZID=America/Toronto:20250412T163000
DTEND;TZID=America/Toronto:20250412T173000
DTSTAMP:20260421T193702
CREATED:20250409T201835Z
LAST-MODIFIED:20250409T201835Z
UID:10025928-1744475400-1744479000@www.saint-fabien.ca
SUMMARY:Hockey libre pour tous
DESCRIPTION:
URL:https://www.saint-fabien.ca/event-calendar/hockey-libre-pour-tous-4/
LOCATION:pavillon des loisirs\, 32 8e Avenue Ouest\, Saint-Fabien\, Québec\, G0L2Z0\, Canada
CATEGORIES:Sports et loisirs
ORGANIZER;CN="Les Loisirs St-Fabien Inc.":MAILTO:loisirss@cgocable.ca
GEO:48.2924537;-68.8624063
X-APPLE-STRUCTURED-LOCATION;VALUE=URI;X-ADDRESS=pavillon des loisirs 32 8e Avenue Ouest Saint-Fabien Québec G0L2Z0 Canada;X-APPLE-RADIUS=500;X-TITLE=32 8e Avenue Ouest:geo:-68.8624063,48.2924537
END:VEVENT
BEGIN:VEVENT
DTSTART;TZID=America/Toronto:20250413T151500
DTEND;TZID=America/Toronto:20250413T161500
DTSTAMP:20260421T193702
CREATED:20250409T201931Z
LAST-MODIFIED:20250409T201931Z
UID:10025929-1744557300-1744560900@www.saint-fabien.ca
SUMMARY:Patinage libre
DESCRIPTION:
URL:https://www.saint-fabien.ca/event-calendar/patinage-libre-377/
LOCATION:pavillon des loisirs\, 32 8e Avenue Ouest\, Saint-Fabien\, Québec\, G0L2Z0\, Canada
CATEGORIES:Sports et loisirs
ORGANIZER;CN="Les Loisirs St-Fabien Inc.":MAILTO:loisirss@cgocable.ca
GEO:48.2924537;-68.8624063
X-APPLE-STRUCTURED-LOCATION;VALUE=URI;X-ADDRESS=pavillon des loisirs 32 8e Avenue Ouest Saint-Fabien Québec G0L2Z0 Canada;X-APPLE-RADIUS=500;X-TITLE=32 8e Avenue Ouest:geo:-68.8624063,48.2924537
END:VEVENT
BEGIN:VEVENT
DTSTART;TZID=America/Toronto:20250413T161500
DTEND;TZID=America/Toronto:20250413T171500
DTSTAMP:20260421T193702
CREATED:20250409T202021Z
LAST-MODIFIED:20250409T202021Z
UID:10025930-1744560900-1744564500@www.saint-fabien.ca
SUMMARY:Hockey libre pour tous
DESCRIPTION:
URL:https://www.saint-fabien.ca/event-calendar/hockey-libre-pour-tous-5/
LOCATION:pavillon des loisirs\, 32 8e Avenue Ouest\, Saint-Fabien\, Québec\, G0L2Z0\, Canada
CATEGORIES:Sports et loisirs
ORGANIZER;CN="Les Loisirs St-Fabien Inc.":MAILTO:loisirss@cgocable.ca
GEO:48.2924537;-68.8624063
X-APPLE-STRUCTURED-LOCATION;VALUE=URI;X-ADDRESS=pavillon des loisirs 32 8e Avenue Ouest Saint-Fabien Québec G0L2Z0 Canada;X-APPLE-RADIUS=500;X-TITLE=32 8e Avenue Ouest:geo:-68.8624063,48.2924537
END:VEVENT
BEGIN:VEVENT
DTSTART;TZID=America/Toronto:20250416T140000
DTEND;TZID=America/Toronto:20250416T160000
DTSTAMP:20260421T193702
CREATED:20250404T132343Z
LAST-MODIFIED:20250404T132343Z
UID:10025916-1744812000-1744819200@www.saint-fabien.ca
SUMMARY:Ateliers santé avec Yvette Ravenet
DESCRIPTION:Yvette Ravenet\, naturopathe\, propose deux ateliers santé à la bibliothèque Jovette-Bernier. \n– «Fatigué.e ? Des solutions simples pour retrouver votre énergie» \nmercredi 16 avril 14h et samedi 19 avril 10h \n– «Du bon sens dans votre assiette pour une cuisine plus saine» \nmercredi 14 mai à 14h et samedi 17 mai à 10h
URL:https://www.saint-fabien.ca/event-calendar/ateliers-sante-avec-yvette-ravenet/2025-04-16/
LOCATION:Bibliothèque Jovette-Bernier\, 30\, 7e Avenue\, Saint-Fabien\, Québec\, G0L2Z0\, Canada
CATEGORIES:Sports et loisirs
ORGANIZER;CN="Biblioth%C3%A8que Jovette-Bernier":MAILTO:biblio.fabien@crsbp.net
GEO:48.2928805;-68.8651986
X-APPLE-STRUCTURED-LOCATION;VALUE=URI;X-ADDRESS=Bibliothèque Jovette-Bernier 30 7e Avenue Saint-Fabien Québec G0L2Z0 Canada;X-APPLE-RADIUS=500;X-TITLE=30\, 7e Avenue:geo:-68.8651986,48.2928805
END:VEVENT
BEGIN:VEVENT
DTSTART;TZID=America/Toronto:20250418T183000
DTEND;TZID=America/Toronto:20250418T193000
DTSTAMP:20260421T193702
CREATED:20250417T143213Z
LAST-MODIFIED:20250417T143213Z
UID:10025933-1745001000-1745004600@www.saint-fabien.ca
SUMMARY:Patinage libre
DESCRIPTION:
URL:https://www.saint-fabien.ca/event-calendar/patinage-libre-378/
LOCATION:pavillon des loisirs\, 32 8e Avenue Ouest\, Saint-Fabien\, Québec\, G0L2Z0\, Canada
CATEGORIES:Sports et loisirs
ORGANIZER;CN="Les Loisirs St-Fabien Inc.":MAILTO:loisirss@cgocable.ca
GEO:48.2924537;-68.8624063
X-APPLE-STRUCTURED-LOCATION;VALUE=URI;X-ADDRESS=pavillon des loisirs 32 8e Avenue Ouest Saint-Fabien Québec G0L2Z0 Canada;X-APPLE-RADIUS=500;X-TITLE=32 8e Avenue Ouest:geo:-68.8624063,48.2924537
END:VEVENT
BEGIN:VEVENT
DTSTART;TZID=America/Toronto:20250418T193000
DTEND;TZID=America/Toronto:20250418T203000
DTSTAMP:20260421T193702
CREATED:20250417T143256Z
LAST-MODIFIED:20250417T143256Z
UID:10025934-1745004600-1745008200@www.saint-fabien.ca
SUMMARY:Hockey libre
DESCRIPTION:
URL:https://www.saint-fabien.ca/event-calendar/hockey-libre-332/
LOCATION:pavillon des loisirs\, 32 8e Avenue Ouest\, Saint-Fabien\, Québec\, G0L2Z0\, Canada
CATEGORIES:Sports et loisirs
ORGANIZER;CN="Les Loisirs St-Fabien Inc.":MAILTO:loisirss@cgocable.ca
GEO:48.2924537;-68.8624063
X-APPLE-STRUCTURED-LOCATION;VALUE=URI;X-ADDRESS=pavillon des loisirs 32 8e Avenue Ouest Saint-Fabien Québec G0L2Z0 Canada;X-APPLE-RADIUS=500;X-TITLE=32 8e Avenue Ouest:geo:-68.8624063,48.2924537
END:VEVENT
BEGIN:VEVENT
DTSTART;TZID=America/Toronto:20250419T100000
DTEND;TZID=America/Toronto:20250419T120000
DTSTAMP:20260421T193702
CREATED:20250404T132343Z
LAST-MODIFIED:20250404T132343Z
UID:10025917-1745056800-1745064000@www.saint-fabien.ca
SUMMARY:Ateliers santé avec Yvette Ravenet
DESCRIPTION:Yvette Ravenet\, naturopathe\, propose deux ateliers santé à la bibliothèque Jovette-Bernier. \n– «Fatigué.e ? Des solutions simples pour retrouver votre énergie» \nmercredi 16 avril 14h et samedi 19 avril 10h \n– «Du bon sens dans votre assiette pour une cuisine plus saine» \nmercredi 14 mai à 14h et samedi 17 mai à 10h
URL:https://www.saint-fabien.ca/event-calendar/ateliers-sante-avec-yvette-ravenet/2025-04-19/
LOCATION:Bibliothèque Jovette-Bernier\, 30\, 7e Avenue\, Saint-Fabien\, Québec\, G0L2Z0\, Canada
CATEGORIES:Sports et loisirs
ORGANIZER;CN="Biblioth%C3%A8que Jovette-Bernier":MAILTO:biblio.fabien@crsbp.net
GEO:48.2928805;-68.8651986
X-APPLE-STRUCTURED-LOCATION;VALUE=URI;X-ADDRESS=Bibliothèque Jovette-Bernier 30 7e Avenue Saint-Fabien Québec G0L2Z0 Canada;X-APPLE-RADIUS=500;X-TITLE=30\, 7e Avenue:geo:-68.8651986,48.2928805
END:VEVENT
BEGIN:VEVENT
DTSTART;TZID=America/Toronto:20250430T183000
DTEND;TZID=America/Toronto:20250430T200000
DTSTAMP:20260421T193702
CREATED:20250219T194627Z
LAST-MODIFIED:20250219T194627Z
UID:10025881-1746037800-1746043200@www.saint-fabien.ca
SUMMARY:Le jardin écologique : se réapproprier les savoir-faire
DESCRIPTION:Le jardinage est intrinsèquement lié à des considérations écologiques. De l’approvisionnement local en produits frais à l’élimination des produits chimiques\, les efforts des jardinier.ères contribuent à réinscrire l’alimentation dans les cycles écologiques. Toutefois\, les jardinier.ères dépendent encore d’approvisionnements externes\, des semences au compost\, pour répondre à leurs besoins.\n\nL’objectif de cette conférence est donc d’explorer quelques pratiques culturales qui permettent la réappropriation de savoir-faire en vue d’atteindre une autonomie collective.\n\nComment peut-on produire ses propres semences? Comment maintenir la santé du sol sans recourir aux produits du magasin? Comment assurer une récolte abondante pour s’en nourrir toute l’année?\n\nLes réponses à ces questions sauront éclairer la planification des jardins écologiques.\n\n :Gabriel Leblanc\, cofondateur de la ferme la Dérive\n\n Gratuit D’une durée de 1h30 Places limitées\n\n       : bit.ly/partagesavoirfaire2025\n\nLa programmation   – est une série de formations GRATUITES qui visent à aider la communauté à améliorer ses connaissances en autonomie alimentaire tout en valorisant le savoir des producteurs et transformateurs du territoire. Pour plus d’information sur la programmation complète\, visitez agricultureRN.ca\nCes activités sont offertes par le comité d’Agriculture urbaine de Rimouski-Neigette en collaboration avec Créneau d’excellence Tourbe et substrats\, Promutuel de l’Estuaire\, MRC Rimouski-Neigette\, Députée de Rimouski Maïté Blanchette Vézina. Ce projet cadre dans le Plan d’agriculture urbaine de Rimouski-Neigette.
URL:https://www.saint-fabien.ca/event-calendar/le-jardin-ecologique-se-reapproprier-les-savoir-faire/
LOCATION:Bibliothèque Jovette-Bernier\, 30\, 7e Avenue\, Saint-Fabien\, Québec\, G0L2Z0\, Canada
CATEGORIES:Sports et loisirs
GEO:48.2928805;-68.8651986
X-APPLE-STRUCTURED-LOCATION;VALUE=URI;X-ADDRESS=Bibliothèque Jovette-Bernier 30 7e Avenue Saint-Fabien Québec G0L2Z0 Canada;X-APPLE-RADIUS=500;X-TITLE=30\, 7e Avenue:geo:-68.8651986,48.2928805
END:VEVENT
END:VCALENDAR