BEGIN:VCALENDAR
VERSION:2.0
PRODID:-//Municipalité de Saint-Fabien - ECPv6.15.20//NONSGML v1.0//EN
CALSCALE:GREGORIAN
METHOD:PUBLISH
X-ORIGINAL-URL:https://www.saint-fabien.ca
X-WR-CALDESC:Évènements pour Municipalité de Saint-Fabien
REFRESH-INTERVAL;VALUE=DURATION:PT1H
X-Robots-Tag:noindex
X-PUBLISHED-TTL:PT1H
BEGIN:VTIMEZONE
TZID:America/Toronto
BEGIN:DAYLIGHT
TZOFFSETFROM:-0500
TZOFFSETTO:-0400
TZNAME:EDT
DTSTART:20240310T070000
END:DAYLIGHT
BEGIN:STANDARD
TZOFFSETFROM:-0400
TZOFFSETTO:-0500
TZNAME:EST
DTSTART:20241103T060000
END:STANDARD
BEGIN:DAYLIGHT
TZOFFSETFROM:-0500
TZOFFSETTO:-0400
TZNAME:EDT
DTSTART:20250309T070000
END:DAYLIGHT
BEGIN:STANDARD
TZOFFSETFROM:-0400
TZOFFSETTO:-0500
TZNAME:EST
DTSTART:20251102T060000
END:STANDARD
BEGIN:DAYLIGHT
TZOFFSETFROM:-0500
TZOFFSETTO:-0400
TZNAME:EDT
DTSTART:20260308T070000
END:DAYLIGHT
BEGIN:STANDARD
TZOFFSETFROM:-0400
TZOFFSETTO:-0500
TZNAME:EST
DTSTART:20261101T060000
END:STANDARD
END:VTIMEZONE
BEGIN:VEVENT
DTSTART;TZID=America/Toronto:20250903T190000
DTEND;TZID=America/Toronto:20250903T203000
DTSTAMP:20260421T114844
CREATED:20250612T133137Z
LAST-MODIFIED:20250612T133137Z
UID:10025957-1756926000-1756931400@www.saint-fabien.ca
SUMMARY:Ateliers cuisine santé avec Yvette Ravenet
DESCRIPTION:Les ateliers seront proposés au Camping de Saint-Fabien à 19h les mercredis et seront d’une durée de 1h30 environ. \nIls sont gratuits\, sans inscription\, ouverts à toutes et à tous : campeurs\, vacanciers\, Fabiennois.e.s… \nPour plus d’informations : YRnaturopathe@icloud.com \n25 juin : les graines germées \n23 juillet : cuisine santé en vacances \n30 juillet : la déshydratation pour les vacances \n6 août : cuisine santé petit budget \n13 août : les lactofermentations pour les vacances \n27 août : initiation à la déshydratation \n3 septembre : initiation à la lactofermentation \n10 septembre : cuisine anti-inflammatoire
URL:https://www.saint-fabien.ca/event-calendar/ateliers-cuisine-sante-avec-yvette-ravenet/2025-09-03/
LOCATION:Bureau d’accueil touristique\, 33 route 132 Ouest\, Saint-Fabien\, Québec\, G0L2Z0\, Canada
CATEGORIES:Sports et loisirs
GEO:48.2967343;-68.8686548
X-APPLE-STRUCTURED-LOCATION;VALUE=URI;X-ADDRESS=Bureau d’accueil touristique 33 route 132 Ouest Saint-Fabien Québec G0L2Z0 Canada;X-APPLE-RADIUS=500;X-TITLE=33 route 132 Ouest:geo:-68.8686548,48.2967343
END:VEVENT
BEGIN:VEVENT
DTSTART;TZID=America/Toronto:20250905T180000
DTEND;TZID=America/Toronto:20250905T190000
DTSTAMP:20260421T114844
CREATED:20250905T123009Z
LAST-MODIFIED:20250905T123009Z
UID:10025980-1757095200-1757098800@www.saint-fabien.ca
SUMMARY:Patinage libre
DESCRIPTION:
URL:https://www.saint-fabien.ca/event-calendar/patinage-libre-379/
LOCATION:pavillon des loisirs\, 32 8e Avenue Ouest\, Saint-Fabien\, Québec\, G0L2Z0\, Canada
CATEGORIES:Sports et loisirs
ORGANIZER;CN="Les Loisirs St-Fabien Inc.":MAILTO:loisirss@cgocable.ca
GEO:48.2924537;-68.8624063
X-APPLE-STRUCTURED-LOCATION;VALUE=URI;X-ADDRESS=pavillon des loisirs 32 8e Avenue Ouest Saint-Fabien Québec G0L2Z0 Canada;X-APPLE-RADIUS=500;X-TITLE=32 8e Avenue Ouest:geo:-68.8624063,48.2924537
END:VEVENT
BEGIN:VEVENT
DTSTART;TZID=America/Toronto:20250905T190000
DTEND;TZID=America/Toronto:20250905T200000
DTSTAMP:20260421T114844
CREATED:20250905T123047Z
LAST-MODIFIED:20250905T123047Z
UID:10025981-1757098800-1757102400@www.saint-fabien.ca
SUMMARY:Hockey libre
DESCRIPTION:
URL:https://www.saint-fabien.ca/event-calendar/hockey-libre-333/
LOCATION:pavillon des loisirs\, 32 8e Avenue Ouest\, Saint-Fabien\, Québec\, G0L2Z0\, Canada
CATEGORIES:Sports et loisirs
ORGANIZER;CN="Les Loisirs St-Fabien Inc.":MAILTO:loisirss@cgocable.ca
GEO:48.2924537;-68.8624063
X-APPLE-STRUCTURED-LOCATION;VALUE=URI;X-ADDRESS=pavillon des loisirs 32 8e Avenue Ouest Saint-Fabien Québec G0L2Z0 Canada;X-APPLE-RADIUS=500;X-TITLE=32 8e Avenue Ouest:geo:-68.8624063,48.2924537
END:VEVENT
BEGIN:VEVENT
DTSTART;TZID=America/Toronto:20250907T130000
DTEND;TZID=America/Toronto:20250907T140000
DTSTAMP:20260421T114844
CREATED:20250905T123146Z
LAST-MODIFIED:20250905T123146Z
UID:10025982-1757250000-1757253600@www.saint-fabien.ca
SUMMARY:Patinage libre
DESCRIPTION:
URL:https://www.saint-fabien.ca/event-calendar/patinage-libre-380/
LOCATION:pavillon des loisirs\, 32 8e Avenue Ouest\, Saint-Fabien\, Québec\, G0L2Z0\, Canada
CATEGORIES:Sports et loisirs
ORGANIZER;CN="Les Loisirs St-Fabien Inc.":MAILTO:loisirss@cgocable.ca
GEO:48.2924537;-68.8624063
X-APPLE-STRUCTURED-LOCATION;VALUE=URI;X-ADDRESS=pavillon des loisirs 32 8e Avenue Ouest Saint-Fabien Québec G0L2Z0 Canada;X-APPLE-RADIUS=500;X-TITLE=32 8e Avenue Ouest:geo:-68.8624063,48.2924537
END:VEVENT
BEGIN:VEVENT
DTSTART;TZID=America/Toronto:20250907T140000
DTEND;TZID=America/Toronto:20250907T150000
DTSTAMP:20260421T114844
CREATED:20250905T123319Z
LAST-MODIFIED:20250905T123319Z
UID:10025983-1757253600-1757257200@www.saint-fabien.ca
SUMMARY:Hockey libre - 12 ans et moins
DESCRIPTION:
URL:https://www.saint-fabien.ca/event-calendar/hockey-libre-12-ans-et-moins-19/
LOCATION:pavillon des loisirs\, 32 8e Avenue Ouest\, Saint-Fabien\, Québec\, G0L2Z0\, Canada
CATEGORIES:Sports et loisirs
ORGANIZER;CN="Les Loisirs St-Fabien Inc.":MAILTO:loisirss@cgocable.ca
GEO:48.2924537;-68.8624063
X-APPLE-STRUCTURED-LOCATION;VALUE=URI;X-ADDRESS=pavillon des loisirs 32 8e Avenue Ouest Saint-Fabien Québec G0L2Z0 Canada;X-APPLE-RADIUS=500;X-TITLE=32 8e Avenue Ouest:geo:-68.8624063,48.2924537
END:VEVENT
BEGIN:VEVENT
DTSTART;TZID=America/Toronto:20250907T150000
DTEND;TZID=America/Toronto:20250907T160000
DTSTAMP:20260421T114844
CREATED:20250905T123418Z
LAST-MODIFIED:20250905T123418Z
UID:10025984-1757257200-1757260800@www.saint-fabien.ca
SUMMARY:Hockey libre - 12 ans et plus seulement
DESCRIPTION:
URL:https://www.saint-fabien.ca/event-calendar/hockey-libre-12-ans-et-plus-seulement/
LOCATION:pavillon des loisirs\, 32 8e Avenue Ouest\, Saint-Fabien\, Québec\, G0L2Z0\, Canada
CATEGORIES:Sports et loisirs
ORGANIZER;CN="Les Loisirs St-Fabien Inc.":MAILTO:loisirss@cgocable.ca
GEO:48.2924537;-68.8624063
X-APPLE-STRUCTURED-LOCATION;VALUE=URI;X-ADDRESS=pavillon des loisirs 32 8e Avenue Ouest Saint-Fabien Québec G0L2Z0 Canada;X-APPLE-RADIUS=500;X-TITLE=32 8e Avenue Ouest:geo:-68.8624063,48.2924537
END:VEVENT
BEGIN:VEVENT
DTSTART;TZID=America/Toronto:20250910T190000
DTEND;TZID=America/Toronto:20250910T203000
DTSTAMP:20260421T114844
CREATED:20250612T133137Z
LAST-MODIFIED:20250612T133137Z
UID:10025958-1757530800-1757536200@www.saint-fabien.ca
SUMMARY:Ateliers cuisine santé avec Yvette Ravenet
DESCRIPTION:Les ateliers seront proposés au Camping de Saint-Fabien à 19h les mercredis et seront d’une durée de 1h30 environ. \nIls sont gratuits\, sans inscription\, ouverts à toutes et à tous : campeurs\, vacanciers\, Fabiennois.e.s… \nPour plus d’informations : YRnaturopathe@icloud.com \n25 juin : les graines germées \n23 juillet : cuisine santé en vacances \n30 juillet : la déshydratation pour les vacances \n6 août : cuisine santé petit budget \n13 août : les lactofermentations pour les vacances \n27 août : initiation à la déshydratation \n3 septembre : initiation à la lactofermentation \n10 septembre : cuisine anti-inflammatoire
URL:https://www.saint-fabien.ca/event-calendar/ateliers-cuisine-sante-avec-yvette-ravenet/2025-09-10/
LOCATION:Bureau d’accueil touristique\, 33 route 132 Ouest\, Saint-Fabien\, Québec\, G0L2Z0\, Canada
CATEGORIES:Sports et loisirs
GEO:48.2967343;-68.8686548
X-APPLE-STRUCTURED-LOCATION;VALUE=URI;X-ADDRESS=Bureau d’accueil touristique 33 route 132 Ouest Saint-Fabien Québec G0L2Z0 Canada;X-APPLE-RADIUS=500;X-TITLE=33 route 132 Ouest:geo:-68.8686548,48.2967343
END:VEVENT
BEGIN:VEVENT
DTSTART;TZID=America/Toronto:20250912T180000
DTEND;TZID=America/Toronto:20250912T190000
DTSTAMP:20260421T114844
CREATED:20250910T155556Z
LAST-MODIFIED:20250910T155556Z
UID:10025987-1757700000-1757703600@www.saint-fabien.ca
SUMMARY:Patinage libre
DESCRIPTION:
URL:https://www.saint-fabien.ca/event-calendar/patinage-libre-381/
LOCATION:pavillon des loisirs\, 32 8e Avenue Ouest\, Saint-Fabien\, Québec\, G0L2Z0\, Canada
CATEGORIES:Sports et loisirs
ORGANIZER;CN="Les Loisirs St-Fabien Inc.":MAILTO:loisirss@cgocable.ca
GEO:48.2924537;-68.8624063
X-APPLE-STRUCTURED-LOCATION;VALUE=URI;X-ADDRESS=pavillon des loisirs 32 8e Avenue Ouest Saint-Fabien Québec G0L2Z0 Canada;X-APPLE-RADIUS=500;X-TITLE=32 8e Avenue Ouest:geo:-68.8624063,48.2924537
END:VEVENT
BEGIN:VEVENT
DTSTART;TZID=America/Toronto:20250912T190000
DTEND;TZID=America/Toronto:20250912T200000
DTSTAMP:20260421T114844
CREATED:20250910T155653Z
LAST-MODIFIED:20250910T155653Z
UID:10025988-1757703600-1757707200@www.saint-fabien.ca
SUMMARY:Hockey libre pour tous !
DESCRIPTION:
URL:https://www.saint-fabien.ca/event-calendar/hockey-libre-pour-tous-6/
LOCATION:pavillon des loisirs\, 32 8e Avenue Ouest\, Saint-Fabien\, Québec\, G0L2Z0\, Canada
CATEGORIES:Sports et loisirs
ORGANIZER;CN="Les Loisirs St-Fabien Inc.":MAILTO:loisirss@cgocable.ca
GEO:48.2924537;-68.8624063
X-APPLE-STRUCTURED-LOCATION;VALUE=URI;X-ADDRESS=pavillon des loisirs 32 8e Avenue Ouest Saint-Fabien Québec G0L2Z0 Canada;X-APPLE-RADIUS=500;X-TITLE=32 8e Avenue Ouest:geo:-68.8624063,48.2924537
END:VEVENT
BEGIN:VEVENT
DTSTART;TZID=America/Toronto:20250914T140000
DTEND;TZID=America/Toronto:20250914T150000
DTSTAMP:20260421T114844
CREATED:20250910T155748Z
LAST-MODIFIED:20250910T160019Z
UID:10025989-1757858400-1757862000@www.saint-fabien.ca
SUMMARY:Patinage libre
DESCRIPTION:
URL:https://www.saint-fabien.ca/event-calendar/patinage-libre-382/
LOCATION:pavillon des loisirs\, 32 8e Avenue Ouest\, Saint-Fabien\, Québec\, G0L2Z0\, Canada
CATEGORIES:Sports et loisirs
ORGANIZER;CN="Les Loisirs St-Fabien Inc.":MAILTO:loisirss@cgocable.ca
GEO:48.2924537;-68.8624063
X-APPLE-STRUCTURED-LOCATION;VALUE=URI;X-ADDRESS=pavillon des loisirs 32 8e Avenue Ouest Saint-Fabien Québec G0L2Z0 Canada;X-APPLE-RADIUS=500;X-TITLE=32 8e Avenue Ouest:geo:-68.8624063,48.2924537
END:VEVENT
BEGIN:VEVENT
DTSTART;TZID=America/Toronto:20250914T150000
DTEND;TZID=America/Toronto:20250914T160000
DTSTAMP:20260421T114844
CREATED:20250910T155956Z
LAST-MODIFIED:20250910T155956Z
UID:10025990-1757862000-1757865600@www.saint-fabien.ca
SUMMARY:Hockey libre pour tous !
DESCRIPTION:
URL:https://www.saint-fabien.ca/event-calendar/hockey-libre-pour-tous-7/
LOCATION:pavillon des loisirs\, 32 8e Avenue Ouest\, Saint-Fabien\, Québec\, G0L2Z0\, Canada
CATEGORIES:Sports et loisirs
ORGANIZER;CN="Les Loisirs St-Fabien Inc.":MAILTO:loisirss@cgocable.ca
GEO:48.2924537;-68.8624063
X-APPLE-STRUCTURED-LOCATION;VALUE=URI;X-ADDRESS=pavillon des loisirs 32 8e Avenue Ouest Saint-Fabien Québec G0L2Z0 Canada;X-APPLE-RADIUS=500;X-TITLE=32 8e Avenue Ouest:geo:-68.8624063,48.2924537
END:VEVENT
BEGIN:VEVENT
DTSTART;TZID=America/Toronto:20250919T180000
DTEND;TZID=America/Toronto:20250919T190000
DTSTAMP:20260421T114844
CREATED:20250917T175614Z
LAST-MODIFIED:20250917T175614Z
UID:10025997-1758304800-1758308400@www.saint-fabien.ca
SUMMARY:Patinage libre
DESCRIPTION:
URL:https://www.saint-fabien.ca/event-calendar/patinage-libre-383/
LOCATION:pavillon des loisirs\, 32 8e Avenue Ouest\, Saint-Fabien\, Québec\, G0L2Z0\, Canada
CATEGORIES:Sports et loisirs
ORGANIZER;CN="Les Loisirs St-Fabien Inc.":MAILTO:loisirss@cgocable.ca
GEO:48.2924537;-68.8624063
X-APPLE-STRUCTURED-LOCATION;VALUE=URI;X-ADDRESS=pavillon des loisirs 32 8e Avenue Ouest Saint-Fabien Québec G0L2Z0 Canada;X-APPLE-RADIUS=500;X-TITLE=32 8e Avenue Ouest:geo:-68.8624063,48.2924537
END:VEVENT
BEGIN:VEVENT
DTSTART;TZID=America/Toronto:20250919T190000
DTEND;TZID=America/Toronto:20250919T200000
DTSTAMP:20260421T114844
CREATED:20250917T175707Z
LAST-MODIFIED:20250917T175707Z
UID:10025998-1758308400-1758312000@www.saint-fabien.ca
SUMMARY:Hockey libre - 12 ans et moins
DESCRIPTION:
URL:https://www.saint-fabien.ca/event-calendar/hockey-libre-12-ans-et-moins-20/
LOCATION:pavillon des loisirs\, 32 8e Avenue Ouest\, Saint-Fabien\, Québec\, G0L2Z0\, Canada
CATEGORIES:Sports et loisirs
ORGANIZER;CN="Les Loisirs St-Fabien Inc.":MAILTO:loisirss@cgocable.ca
GEO:48.2924537;-68.8624063
X-APPLE-STRUCTURED-LOCATION;VALUE=URI;X-ADDRESS=pavillon des loisirs 32 8e Avenue Ouest Saint-Fabien Québec G0L2Z0 Canada;X-APPLE-RADIUS=500;X-TITLE=32 8e Avenue Ouest:geo:-68.8624063,48.2924537
END:VEVENT
BEGIN:VEVENT
DTSTART;TZID=America/Toronto:20250920T124500
DTEND;TZID=America/Toronto:20250920T134500
DTSTAMP:20260421T114844
CREATED:20250917T181207Z
LAST-MODIFIED:20250917T181207Z
UID:10025999-1758372300-1758375900@www.saint-fabien.ca
SUMMARY:Patinage libre
DESCRIPTION:
URL:https://www.saint-fabien.ca/event-calendar/patinage-libre-384/
LOCATION:pavillon des loisirs\, 32 8e Avenue Ouest\, Saint-Fabien\, Québec\, G0L2Z0\, Canada
CATEGORIES:Sports et loisirs
ORGANIZER;CN="Les Loisirs St-Fabien Inc.":MAILTO:loisirss@cgocable.ca
GEO:48.2924537;-68.8624063
X-APPLE-STRUCTURED-LOCATION;VALUE=URI;X-ADDRESS=pavillon des loisirs 32 8e Avenue Ouest Saint-Fabien Québec G0L2Z0 Canada;X-APPLE-RADIUS=500;X-TITLE=32 8e Avenue Ouest:geo:-68.8624063,48.2924537
END:VEVENT
BEGIN:VEVENT
DTSTART;TZID=America/Toronto:20250920T134500
DTEND;TZID=America/Toronto:20250920T144500
DTSTAMP:20260421T114844
CREATED:20250917T181242Z
LAST-MODIFIED:20250917T181242Z
UID:10026000-1758375900-1758379500@www.saint-fabien.ca
SUMMARY:Hockey libre pour tous
DESCRIPTION:
URL:https://www.saint-fabien.ca/event-calendar/hockey-libre-pour-tous-8/
LOCATION:pavillon des loisirs\, 32 8e Avenue Ouest\, Saint-Fabien\, Québec\, G0L2Z0\, Canada
CATEGORIES:Sports et loisirs
ORGANIZER;CN="Les Loisirs St-Fabien Inc.":MAILTO:loisirss@cgocable.ca
GEO:48.2924537;-68.8624063
X-APPLE-STRUCTURED-LOCATION;VALUE=URI;X-ADDRESS=pavillon des loisirs 32 8e Avenue Ouest Saint-Fabien Québec G0L2Z0 Canada;X-APPLE-RADIUS=500;X-TITLE=32 8e Avenue Ouest:geo:-68.8624063,48.2924537
END:VEVENT
END:VCALENDAR