BEGIN:VCALENDAR
VERSION:2.0
PRODID:-//Municipalité de Saint-Fabien - ECPv6.15.20//NONSGML v1.0//EN
CALSCALE:GREGORIAN
METHOD:PUBLISH
X-ORIGINAL-URL:https://www.saint-fabien.ca
X-WR-CALDESC:Évènements pour Municipalité de Saint-Fabien
REFRESH-INTERVAL;VALUE=DURATION:PT1H
X-Robots-Tag:noindex
X-PUBLISHED-TTL:PT1H
BEGIN:VTIMEZONE
TZID:America/Toronto
BEGIN:DAYLIGHT
TZOFFSETFROM:-0500
TZOFFSETTO:-0400
TZNAME:EDT
DTSTART:20230312T070000
END:DAYLIGHT
BEGIN:STANDARD
TZOFFSETFROM:-0400
TZOFFSETTO:-0500
TZNAME:EST
DTSTART:20231105T060000
END:STANDARD
BEGIN:DAYLIGHT
TZOFFSETFROM:-0500
TZOFFSETTO:-0400
TZNAME:EDT
DTSTART:20240310T070000
END:DAYLIGHT
BEGIN:STANDARD
TZOFFSETFROM:-0400
TZOFFSETTO:-0500
TZNAME:EST
DTSTART:20241103T060000
END:STANDARD
BEGIN:DAYLIGHT
TZOFFSETFROM:-0500
TZOFFSETTO:-0400
TZNAME:EDT
DTSTART:20250309T070000
END:DAYLIGHT
BEGIN:STANDARD
TZOFFSETFROM:-0400
TZOFFSETTO:-0500
TZNAME:EST
DTSTART:20251102T060000
END:STANDARD
END:VTIMEZONE
BEGIN:VEVENT
DTSTART;TZID=America/Toronto:20240216T183000
DTEND;TZID=America/Toronto:20240216T193000
DTSTAMP:20260421T191158
CREATED:20240212T213752Z
LAST-MODIFIED:20240212T213752Z
UID:10025646-1708108200-1708111800@www.saint-fabien.ca
SUMMARY:Patinage libre
DESCRIPTION:
URL:https://www.saint-fabien.ca/event-calendar/patinage-libre-307/
LOCATION:pavillon des loisirs\, 32 8e Avenue Ouest\, Saint-Fabien\, Québec\, G0L2Z0\, Canada
CATEGORIES:Sports et loisirs
ORGANIZER;CN="Les Loisirs St-Fabien Inc.":MAILTO:loisirss@cgocable.ca
GEO:48.2924537;-68.8624063
X-APPLE-STRUCTURED-LOCATION;VALUE=URI;X-ADDRESS=pavillon des loisirs 32 8e Avenue Ouest Saint-Fabien Québec G0L2Z0 Canada;X-APPLE-RADIUS=500;X-TITLE=32 8e Avenue Ouest:geo:-68.8624063,48.2924537
END:VEVENT
BEGIN:VEVENT
DTSTART;VALUE=DATE:20240216
DTEND;VALUE=DATE:20240218
DTSTAMP:20260421T191158
CREATED:20240202T171455Z
LAST-MODIFIED:20240202T171455Z
UID:10025638-1708124400-1708210799@www.saint-fabien.ca
SUMMARY:Tournoi du 81 - Hommage à Brian Fournier
DESCRIPTION:Pour certains\, le 7 septembre 2023 est une date bien banale\, mais pour d’autres\, la vie a pris un tournant inattendu et cruel… Le jeune Bryan Fournier subissait un violent accident et s’en-gageait dans la plus grosse partie de sa vie. Le 18 septembre\, épuisée et ayant tout donné\, La Bête s’éteignait lentement. Un ﬁls\, un frère\, un copain\, un petit-ﬁls\, un neveu\, un ami nous quittait…\nPeu de semaines ont passé et souhaitant honorer notre étoile\, des gens ont formé un comité et un tournoi amical a été mis sur pied pour ses amis du hockey : Le Tournoi du 81.\nLa population est donc invitée à se joindre à eux le 17 février dès 8h30\, aﬁn d’assister à un bref hommage destiné à notre Bête. À 16h\, nous nous réunirons tous autour de la glace aﬁn d’ad-mirer la bannière de notre Bry s’élever\, pour ensuite assister à quelques matchs jusqu’à 17h\, où un trophée sera remis à l’équipe gagnante. Le tout se déroulera à l’Aréna de St-Fabien. Cet événement aspire à rassembler les gens qui ont connu et aimé Bryan\, se souvenir\, le faire rayonner à travers l’une de ses nombreuses passions : le hockey. \nPuisque ce tournoi engendre de nombreux coûts\, le comité souhaite recueillir des sous aﬁn de mener à bien le projet. L’organisation espère pouvoir payer des chandails de hockey\, bâtons à © Julie Roy faire tirer\, des collations\, la location de glace\, des souvenirs à oﬀrir aux joueurs\, etc. Au terme du tournoi 2024\, nous ferons le bilan ﬁnancier et s’il reste des sous\, nous souhaitons redonner à des causes qui rejoignaient notre Bryan. Par exemple : aider les jeunes atteints de diabète\, acheter des équipements de hockey pour les jeunes qui ont plus de diﬃculté à se les procurer ou aider à payer des inscriptions. Bon nombre d’associations et d’entreprises ont déjà remis à la cause\, la dirigeant lentement vers l’objectif. Toute personne intéressée à contribuer est priée de contacter l’équipe du tournoi à : letournoidu81@outlook.com
URL:https://www.saint-fabien.ca/event-calendar/tournoi-du-81-hommage-a-brian-fournier/
LOCATION:pavillon des loisirs\, 32 8e Avenue Ouest\, Saint-Fabien\, Québec\, G0L2Z0\, Canada
CATEGORIES:Sports et loisirs
GEO:48.2924537;-68.8624063
X-APPLE-STRUCTURED-LOCATION;VALUE=URI;X-ADDRESS=pavillon des loisirs 32 8e Avenue Ouest Saint-Fabien Québec G0L2Z0 Canada;X-APPLE-RADIUS=500;X-TITLE=32 8e Avenue Ouest:geo:-68.8624063,48.2924537
END:VEVENT
BEGIN:VEVENT
DTSTART;TZID=America/Toronto:20240217T170000
DTEND;TZID=America/Toronto:20240217T180000
DTSTAMP:20260421T191158
CREATED:20240212T213838Z
LAST-MODIFIED:20240212T213838Z
UID:10025647-1708189200-1708192800@www.saint-fabien.ca
SUMMARY:Patinage libre
DESCRIPTION:
URL:https://www.saint-fabien.ca/event-calendar/patinage-libre-308/
LOCATION:pavillon des loisirs\, 32 8e Avenue Ouest\, Saint-Fabien\, Québec\, G0L2Z0\, Canada
CATEGORIES:Sports et loisirs
ORGANIZER;CN="Les Loisirs St-Fabien Inc.":MAILTO:loisirss@cgocable.ca
GEO:48.2924537;-68.8624063
X-APPLE-STRUCTURED-LOCATION;VALUE=URI;X-ADDRESS=pavillon des loisirs 32 8e Avenue Ouest Saint-Fabien Québec G0L2Z0 Canada;X-APPLE-RADIUS=500;X-TITLE=32 8e Avenue Ouest:geo:-68.8624063,48.2924537
END:VEVENT
BEGIN:VEVENT
DTSTART;TZID=America/Toronto:20240218T114500
DTEND;TZID=America/Toronto:20240218T124500
DTSTAMP:20260421T191158
CREATED:20240212T213931Z
LAST-MODIFIED:20240212T213931Z
UID:10025648-1708256700-1708260300@www.saint-fabien.ca
SUMMARY:Hockey libre
DESCRIPTION:
URL:https://www.saint-fabien.ca/event-calendar/hockey-libre-294/
LOCATION:pavillon des loisirs\, 32 8e Avenue Ouest\, Saint-Fabien\, Québec\, G0L2Z0\, Canada
CATEGORIES:Sports et loisirs
ORGANIZER;CN="Les Loisirs St-Fabien Inc.":MAILTO:loisirss@cgocable.ca
GEO:48.2924537;-68.8624063
X-APPLE-STRUCTURED-LOCATION;VALUE=URI;X-ADDRESS=pavillon des loisirs 32 8e Avenue Ouest Saint-Fabien Québec G0L2Z0 Canada;X-APPLE-RADIUS=500;X-TITLE=32 8e Avenue Ouest:geo:-68.8624063,48.2924537
END:VEVENT
BEGIN:VEVENT
DTSTART;TZID=America/Toronto:20240218T143000
DTEND;TZID=America/Toronto:20240218T153000
DTSTAMP:20260421T191158
CREATED:20240212T214011Z
LAST-MODIFIED:20240212T214011Z
UID:10025649-1708266600-1708270200@www.saint-fabien.ca
SUMMARY:Patinage libre
DESCRIPTION:
URL:https://www.saint-fabien.ca/event-calendar/patinage-libre-309/
LOCATION:pavillon des loisirs\, 32 8e Avenue Ouest\, Saint-Fabien\, Québec\, G0L2Z0\, Canada
CATEGORIES:Sports et loisirs
ORGANIZER;CN="Les Loisirs St-Fabien Inc.":MAILTO:loisirss@cgocable.ca
GEO:48.2924537;-68.8624063
X-APPLE-STRUCTURED-LOCATION;VALUE=URI;X-ADDRESS=pavillon des loisirs 32 8e Avenue Ouest Saint-Fabien Québec G0L2Z0 Canada;X-APPLE-RADIUS=500;X-TITLE=32 8e Avenue Ouest:geo:-68.8624063,48.2924537
END:VEVENT
END:VCALENDAR