BEGIN:VCALENDAR
VERSION:2.0
PRODID:-//Municipalité de Saint-Fabien - ECPv6.15.20//NONSGML v1.0//EN
CALSCALE:GREGORIAN
METHOD:PUBLISH
X-ORIGINAL-URL:https://www.saint-fabien.ca
X-WR-CALDESC:Évènements pour Municipalité de Saint-Fabien
REFRESH-INTERVAL;VALUE=DURATION:PT1H
X-Robots-Tag:noindex
X-PUBLISHED-TTL:PT1H
BEGIN:VTIMEZONE
TZID:America/Toronto
BEGIN:DAYLIGHT
TZOFFSETFROM:-0500
TZOFFSETTO:-0400
TZNAME:EDT
DTSTART:20230312T070000
END:DAYLIGHT
BEGIN:STANDARD
TZOFFSETFROM:-0400
TZOFFSETTO:-0500
TZNAME:EST
DTSTART:20231105T060000
END:STANDARD
BEGIN:DAYLIGHT
TZOFFSETFROM:-0500
TZOFFSETTO:-0400
TZNAME:EDT
DTSTART:20240310T070000
END:DAYLIGHT
BEGIN:STANDARD
TZOFFSETFROM:-0400
TZOFFSETTO:-0500
TZNAME:EST
DTSTART:20241103T060000
END:STANDARD
BEGIN:DAYLIGHT
TZOFFSETFROM:-0500
TZOFFSETTO:-0400
TZNAME:EDT
DTSTART:20250309T070000
END:DAYLIGHT
BEGIN:STANDARD
TZOFFSETFROM:-0400
TZOFFSETTO:-0500
TZNAME:EST
DTSTART:20251102T060000
END:STANDARD
END:VTIMEZONE
BEGIN:VEVENT
DTSTART;TZID=America/Toronto:20240319T190000
DTEND;TZID=America/Toronto:20240319T203000
DTSTAMP:20260421T082223
CREATED:20240312T171401Z
LAST-MODIFIED:20240312T171401Z
UID:10025657-1710874800-1710880200@www.saint-fabien.ca
SUMMARY:Formation sur la préparation des semis avec Laurence Fisher
DESCRIPTION:Laurence Fisher\, de la ferme maraîchère Vert Mouton\, sera à la bibliothèque Jovette-Bernier le 19 mars prochain à 19h pour faire profiter les jardiniers de son savoir-faire et de ses connaissances sur la préparation des semis !\nPour s’inscrire\, il suffit d’écrire à Catherine Beaulieu à vitalisation@saintfabien.net\nMerci à l’Alliance pour la solidarité et au Réseau Biblio de financer cette belle formation et merci au comité des Jardins communautaire de Saint-Fabien pour l’organisation de ce bel événement !
URL:https://www.saint-fabien.ca/event-calendar/formation-sur-la-preparation-des-semis-avec-laurence-fisher/
LOCATION:Bibliothèque Jovette-Bernier\, 30\, 7e Avenue\, Saint-Fabien\, Québec\, G0L2Z0\, Canada
CATEGORIES:Sports et loisirs
ATTACH;FMTTYPE=image/jpeg:https://www.saint-fabien.ca/wp-content/uploads/2024/03/main-protegeant-jeune-plante-verte-plus-plus-dans-sol-scaled.jpg
GEO:48.2928805;-68.8651986
X-APPLE-STRUCTURED-LOCATION;VALUE=URI;X-ADDRESS=Bibliothèque Jovette-Bernier 30 7e Avenue Saint-Fabien Québec G0L2Z0 Canada;X-APPLE-RADIUS=500;X-TITLE=30\, 7e Avenue:geo:-68.8651986,48.2928805
END:VEVENT
BEGIN:VEVENT
DTSTART;TZID=America/Toronto:20240322T193000
DTEND;TZID=America/Toronto:20240322T203000
DTSTAMP:20260421T082223
CREATED:20240319T130052Z
LAST-MODIFIED:20240319T130052Z
UID:10025664-1711135800-1711139400@www.saint-fabien.ca
SUMMARY:Patinage libre
DESCRIPTION:
URL:https://www.saint-fabien.ca/event-calendar/patinage-libre-313/
LOCATION:pavillon des loisirs\, 32 8e Avenue Ouest\, Saint-Fabien\, Québec\, G0L2Z0\, Canada
CATEGORIES:Sports et loisirs
ORGANIZER;CN="Les Loisirs St-Fabien Inc.":MAILTO:loisirss@cgocable.ca
GEO:48.2924537;-68.8624063
X-APPLE-STRUCTURED-LOCATION;VALUE=URI;X-ADDRESS=pavillon des loisirs 32 8e Avenue Ouest Saint-Fabien Québec G0L2Z0 Canada;X-APPLE-RADIUS=500;X-TITLE=32 8e Avenue Ouest:geo:-68.8624063,48.2924537
END:VEVENT
BEGIN:VEVENT
DTSTART;TZID=America/Toronto:20240323T190000
DTEND;TZID=America/Toronto:20240323T210000
DTSTAMP:20260421T082223
CREATED:20240206T194834Z
LAST-MODIFIED:20240206T194834Z
UID:10025644-1711220400-1711227600@www.saint-fabien.ca
SUMMARY:Spectacle annuel du Club de patinage artistique
DESCRIPTION:Le spectacle annuel du Club se tiendra  le 23 mars dès 19h. Le thème du spectacle sera : les jeux vidéos ! C’est gratuit pour les 0 à 9 ans et 5$ pour les 10 ans et plus. Venez encourager nos jeunes patineurs : ils travaillent très fort pour vous en mettre plein la vue !
URL:https://www.saint-fabien.ca/event-calendar/spectacle-annuel-du-club-de-patinage-artistique/
LOCATION:pavillon des loisirs\, 32 8e Avenue Ouest\, Saint-Fabien\, Québec\, G0L2Z0\, Canada
CATEGORIES:Sports et loisirs
GEO:48.2924537;-68.8624063
X-APPLE-STRUCTURED-LOCATION;VALUE=URI;X-ADDRESS=pavillon des loisirs 32 8e Avenue Ouest Saint-Fabien Québec G0L2Z0 Canada;X-APPLE-RADIUS=500;X-TITLE=32 8e Avenue Ouest:geo:-68.8624063,48.2924537
END:VEVENT
BEGIN:VEVENT
DTSTART;TZID=America/Toronto:20240324T141500
DTEND;TZID=America/Toronto:20240324T151500
DTSTAMP:20260421T082223
CREATED:20240319T130145Z
LAST-MODIFIED:20240319T130145Z
UID:10025665-1711289700-1711293300@www.saint-fabien.ca
SUMMARY:Hockey libre
DESCRIPTION:
URL:https://www.saint-fabien.ca/event-calendar/hockey-libre-295/
LOCATION:pavillon des loisirs\, 32 8e Avenue Ouest\, Saint-Fabien\, Québec\, G0L2Z0\, Canada
CATEGORIES:Sports et loisirs
ORGANIZER;CN="Les Loisirs St-Fabien Inc.":MAILTO:loisirss@cgocable.ca
GEO:48.2924537;-68.8624063
X-APPLE-STRUCTURED-LOCATION;VALUE=URI;X-ADDRESS=pavillon des loisirs 32 8e Avenue Ouest Saint-Fabien Québec G0L2Z0 Canada;X-APPLE-RADIUS=500;X-TITLE=32 8e Avenue Ouest:geo:-68.8624063,48.2924537
END:VEVENT
BEGIN:VEVENT
DTSTART;TZID=America/Toronto:20240324T173000
DTEND;TZID=America/Toronto:20240324T183000
DTSTAMP:20260421T082223
CREATED:20240319T130229Z
LAST-MODIFIED:20240319T130229Z
UID:10025666-1711301400-1711305000@www.saint-fabien.ca
SUMMARY:Patinage libre
DESCRIPTION:
URL:https://www.saint-fabien.ca/event-calendar/patinage-libre-314/
LOCATION:pavillon des loisirs\, 32 8e Avenue Ouest\, Saint-Fabien\, Québec\, G0L2Z0\, Canada
CATEGORIES:Sports et loisirs
ORGANIZER;CN="Les Loisirs St-Fabien Inc.":MAILTO:loisirss@cgocable.ca
GEO:48.2924537;-68.8624063
X-APPLE-STRUCTURED-LOCATION;VALUE=URI;X-ADDRESS=pavillon des loisirs 32 8e Avenue Ouest Saint-Fabien Québec G0L2Z0 Canada;X-APPLE-RADIUS=500;X-TITLE=32 8e Avenue Ouest:geo:-68.8624063,48.2924537
END:VEVENT
END:VCALENDAR