BEGIN:VCALENDAR
VERSION:2.0
PRODID:-//Municipalité de Saint-Fabien - ECPv6.15.20//NONSGML v1.0//EN
CALSCALE:GREGORIAN
METHOD:PUBLISH
X-ORIGINAL-URL:https://www.saint-fabien.ca
X-WR-CALDESC:Évènements pour Municipalité de Saint-Fabien
REFRESH-INTERVAL;VALUE=DURATION:PT1H
X-Robots-Tag:noindex
X-PUBLISHED-TTL:PT1H
BEGIN:VTIMEZONE
TZID:America/Toronto
BEGIN:DAYLIGHT
TZOFFSETFROM:-0500
TZOFFSETTO:-0400
TZNAME:EDT
DTSTART:20230312T070000
END:DAYLIGHT
BEGIN:STANDARD
TZOFFSETFROM:-0400
TZOFFSETTO:-0500
TZNAME:EST
DTSTART:20231105T060000
END:STANDARD
BEGIN:DAYLIGHT
TZOFFSETFROM:-0500
TZOFFSETTO:-0400
TZNAME:EDT
DTSTART:20240310T070000
END:DAYLIGHT
BEGIN:STANDARD
TZOFFSETFROM:-0400
TZOFFSETTO:-0500
TZNAME:EST
DTSTART:20241103T060000
END:STANDARD
BEGIN:DAYLIGHT
TZOFFSETFROM:-0500
TZOFFSETTO:-0400
TZNAME:EDT
DTSTART:20250309T070000
END:DAYLIGHT
BEGIN:STANDARD
TZOFFSETFROM:-0400
TZOFFSETTO:-0500
TZNAME:EST
DTSTART:20251102T060000
END:STANDARD
END:VTIMEZONE
BEGIN:VEVENT
DTSTART;TZID=America/Toronto:20240930T184500
DTEND;TZID=America/Toronto:20240930T194500
DTSTAMP:20260423T054301
CREATED:20240905T141435Z
LAST-MODIFIED:20240905T141435Z
UID:10025727-1727721900-1727725500@www.saint-fabien.ca
SUMMARY:Cours de yoga - début de la session
DESCRIPTION:À compter du 30 septembre\, un nouveau service d’initiation au yoga sera offert aux Fabiennois.e.s les lundis soirs à 18h45 au Pavillon des loisirs. \nLes séances seront guidées de façon sécuritaire et adaptée par Coralie Morissette\, professeure de yoga thérapeutique\, technologue en physiothérapie et ostéopathe de formation. Pour s’inscrire ou pour toutes autres informations\, rejoignez Coralie par courriel à cora.namasteo@outlook.com ou par téléphone au 418-955-2246. \nAu plaisir de vous voir sur le tapis !
URL:https://www.saint-fabien.ca/event-calendar/cours-de-yoga-debut-de-la-session/
LOCATION:pavillon des loisirs\, 32 8e Avenue Ouest\, Saint-Fabien\, Québec\, G0L2Z0\, Canada
CATEGORIES:Sports et loisirs
ORGANIZER;CN="Les Loisirs St-Fabien Inc.":MAILTO:loisirss@cgocable.ca
GEO:48.2924537;-68.8624063
X-APPLE-STRUCTURED-LOCATION;VALUE=URI;X-ADDRESS=pavillon des loisirs 32 8e Avenue Ouest Saint-Fabien Québec G0L2Z0 Canada;X-APPLE-RADIUS=500;X-TITLE=32 8e Avenue Ouest:geo:-68.8624063,48.2924537
END:VEVENT
BEGIN:VEVENT
DTSTART;TZID=America/Toronto:20241001T190000
DTEND;TZID=America/Toronto:20241001T200000
DTSTAMP:20260423T054301
CREATED:20241001T190208Z
LAST-MODIFIED:20241001T190208Z
UID:10025756-1727809200-1727812800@www.saint-fabien.ca
SUMMARY:Hockey libre
DESCRIPTION:
URL:https://www.saint-fabien.ca/event-calendar/hockey-libre-309/
LOCATION:pavillon des loisirs\, 32 8e Avenue Ouest\, Saint-Fabien\, Québec\, G0L2Z0\, Canada
CATEGORIES:Sports et loisirs
ORGANIZER;CN="Les Loisirs St-Fabien Inc.":MAILTO:loisirss@cgocable.ca
GEO:48.2924537;-68.8624063
X-APPLE-STRUCTURED-LOCATION;VALUE=URI;X-ADDRESS=pavillon des loisirs 32 8e Avenue Ouest Saint-Fabien Québec G0L2Z0 Canada;X-APPLE-RADIUS=500;X-TITLE=32 8e Avenue Ouest:geo:-68.8624063,48.2924537
END:VEVENT
BEGIN:VEVENT
DTSTART;TZID=America/Toronto:20241002T184500
DTEND;TZID=America/Toronto:20241002T194500
DTSTAMP:20260423T054301
CREATED:20241001T190302Z
LAST-MODIFIED:20241001T190302Z
UID:10025757-1727894700-1727898300@www.saint-fabien.ca
SUMMARY:Patinage libre
DESCRIPTION:
URL:https://www.saint-fabien.ca/event-calendar/patinage-libre-329/
LOCATION:pavillon des loisirs\, 32 8e Avenue Ouest\, Saint-Fabien\, Québec\, G0L2Z0\, Canada
CATEGORIES:Sports et loisirs
ORGANIZER;CN="Les Loisirs St-Fabien Inc.":MAILTO:loisirss@cgocable.ca
GEO:48.2924537;-68.8624063
X-APPLE-STRUCTURED-LOCATION;VALUE=URI;X-ADDRESS=pavillon des loisirs 32 8e Avenue Ouest Saint-Fabien Québec G0L2Z0 Canada;X-APPLE-RADIUS=500;X-TITLE=32 8e Avenue Ouest:geo:-68.8624063,48.2924537
END:VEVENT
BEGIN:VEVENT
DTSTART;TZID=America/Toronto:20241006T090000
DTEND;TZID=America/Toronto:20241006T100000
DTSTAMP:20260423T054301
CREATED:20240905T141904Z
LAST-MODIFIED:20240905T141904Z
UID:10025730-1728205200-1728208800@www.saint-fabien.ca
SUMMARY:Invitation du Club de patinage artistique
DESCRIPTION:Une nouvelle saison de patinage s’en vient ! Dimanche 6 octobre de 9h à 10 h\, c’est d’ailleurs la porte ouverte du CPA St-Fabien (essai gratuit) et l’inscription. \nQue ce soit pour apprendre à patiner pour le plaisir\, exceller en patinage artistique ou pour solidifier tes bases au hockey\, nous t’invitons à venir patiner avec nous à l’Aréna de Saint-Fabien. \nPour plus de renseignements\, n’hésite pas à entrer en contact avec la présidente du Club\, Mélissa Bouchard\, via Messenger ou par courriel à : \ncpast_fabien@outlook.fr \nBienvenue à toutes et à tous et au plaisir de vous revoir ou de vous rencontrer! \nLe conseil d’administration du CPA St-Fabien et ses entraîneuses et entraîneurs \nP.S. Casque homologué CSA obligatoire (style hockey) pour les Patinage plus
URL:https://www.saint-fabien.ca/event-calendar/invitation-du-club-de-patinage-artistique/
LOCATION:pavillon des loisirs\, 32 8e Avenue Ouest\, Saint-Fabien\, Québec\, G0L2Z0\, Canada
CATEGORIES:Sports et loisirs
GEO:48.2924537;-68.8624063
X-APPLE-STRUCTURED-LOCATION;VALUE=URI;X-ADDRESS=pavillon des loisirs 32 8e Avenue Ouest Saint-Fabien Québec G0L2Z0 Canada;X-APPLE-RADIUS=500;X-TITLE=32 8e Avenue Ouest:geo:-68.8624063,48.2924537
END:VEVENT
BEGIN:VEVENT
DTSTART;TZID=America/Toronto:20241006T150000
DTEND;TZID=America/Toronto:20241006T160000
DTSTAMP:20260423T054301
CREATED:20241001T190357Z
LAST-MODIFIED:20241001T190357Z
UID:10025758-1728226800-1728230400@www.saint-fabien.ca
SUMMARY:Patinage libre
DESCRIPTION:
URL:https://www.saint-fabien.ca/event-calendar/patinage-libre-330/
LOCATION:pavillon des loisirs\, 32 8e Avenue Ouest\, Saint-Fabien\, Québec\, G0L2Z0\, Canada
CATEGORIES:Sports et loisirs
ORGANIZER;CN="Les Loisirs St-Fabien Inc.":MAILTO:loisirss@cgocable.ca
GEO:48.2924537;-68.8624063
X-APPLE-STRUCTURED-LOCATION;VALUE=URI;X-ADDRESS=pavillon des loisirs 32 8e Avenue Ouest Saint-Fabien Québec G0L2Z0 Canada;X-APPLE-RADIUS=500;X-TITLE=32 8e Avenue Ouest:geo:-68.8624063,48.2924537
END:VEVENT
BEGIN:VEVENT
DTSTART;TZID=America/Toronto:20241006T160000
DTEND;TZID=America/Toronto:20241006T170000
DTSTAMP:20260423T054301
CREATED:20241001T190438Z
LAST-MODIFIED:20241001T190438Z
UID:10025759-1728230400-1728234000@www.saint-fabien.ca
SUMMARY:Hockey libre
DESCRIPTION:
URL:https://www.saint-fabien.ca/event-calendar/hockey-libre-310/
LOCATION:pavillon des loisirs\, 32 8e Avenue Ouest\, Saint-Fabien\, Québec\, G0L2Z0\, Canada
CATEGORIES:Sports et loisirs
ORGANIZER;CN="Les Loisirs St-Fabien Inc.":MAILTO:loisirss@cgocable.ca
GEO:48.2924537;-68.8624063
X-APPLE-STRUCTURED-LOCATION;VALUE=URI;X-ADDRESS=pavillon des loisirs 32 8e Avenue Ouest Saint-Fabien Québec G0L2Z0 Canada;X-APPLE-RADIUS=500;X-TITLE=32 8e Avenue Ouest:geo:-68.8624063,48.2924537
END:VEVENT
END:VCALENDAR