BEGIN:VCALENDAR
VERSION:2.0
PRODID:-//Municipalité de Saint-Fabien - ECPv6.15.20//NONSGML v1.0//EN
CALSCALE:GREGORIAN
METHOD:PUBLISH
X-ORIGINAL-URL:https://www.saint-fabien.ca
X-WR-CALDESC:Évènements pour Municipalité de Saint-Fabien
REFRESH-INTERVAL;VALUE=DURATION:PT1H
X-Robots-Tag:noindex
X-PUBLISHED-TTL:PT1H
BEGIN:VTIMEZONE
TZID:America/Toronto
BEGIN:DAYLIGHT
TZOFFSETFROM:-0500
TZOFFSETTO:-0400
TZNAME:EDT
DTSTART:20240310T070000
END:DAYLIGHT
BEGIN:STANDARD
TZOFFSETFROM:-0400
TZOFFSETTO:-0500
TZNAME:EST
DTSTART:20241103T060000
END:STANDARD
BEGIN:DAYLIGHT
TZOFFSETFROM:-0500
TZOFFSETTO:-0400
TZNAME:EDT
DTSTART:20250309T070000
END:DAYLIGHT
BEGIN:STANDARD
TZOFFSETFROM:-0400
TZOFFSETTO:-0500
TZNAME:EST
DTSTART:20251102T060000
END:STANDARD
BEGIN:DAYLIGHT
TZOFFSETFROM:-0500
TZOFFSETTO:-0400
TZNAME:EDT
DTSTART:20260308T070000
END:DAYLIGHT
BEGIN:STANDARD
TZOFFSETFROM:-0400
TZOFFSETTO:-0500
TZNAME:EST
DTSTART:20261101T060000
END:STANDARD
END:VTIMEZONE
BEGIN:VEVENT
DTSTART;TZID=America/Toronto:20250303T090000
DTEND;TZID=America/Toronto:20250303T150000
DTSTAMP:20260420T030840
CREATED:20250217T200846Z
LAST-MODIFIED:20250217T204357Z
UID:10025877-1740992400-1741014000@www.saint-fabien.ca
SUMMARY:Relâche - Retrogaming avec Arcade des Monts
DESCRIPTION:Le temps d’une journée\, la Bibliothèque sortira de sa zone de confort pour accueillir les retrogamers et retrogameuses de tout poil ! Jouez – ou rejouez\, si vous êtes un vieux ! : ) – au Atari\, à la NES ou découvrez la toute première console Nintendo\, importée directement du Japon.Merci à Arcade des Monts et à la MRC Rimouski-Neigette via le Fonds Soutien à la Vitalisation. \nPas besoin de s’inscrire et c’est gratuit !
URL:https://www.saint-fabien.ca/event-calendar/relache-retrogaming-avec-arcade-des-monts/
LOCATION:Bibliothèque Jovette-Bernier\, 30\, 7e Avenue\, Saint-Fabien\, Québec\, G0L2Z0\, Canada
CATEGORIES:Sports et loisirs
ORGANIZER;CN="Biblioth%C3%A8que Jovette-Bernier":MAILTO:biblio.fabien@crsbp.net
GEO:48.2928805;-68.8651986
X-APPLE-STRUCTURED-LOCATION;VALUE=URI;X-ADDRESS=Bibliothèque Jovette-Bernier 30 7e Avenue Saint-Fabien Québec G0L2Z0 Canada;X-APPLE-RADIUS=500;X-TITLE=30\, 7e Avenue:geo:-68.8651986,48.2928805
END:VEVENT
BEGIN:VEVENT
DTSTART;TZID=America/Toronto:20250303T134500
DTEND;TZID=America/Toronto:20250303T144500
DTSTAMP:20260420T030840
CREATED:20250227T154629Z
LAST-MODIFIED:20250227T154629Z
UID:10025887-1741009500-1741013100@www.saint-fabien.ca
SUMMARY:Patinage libre
DESCRIPTION:
URL:https://www.saint-fabien.ca/event-calendar/patinage-libre-367/
LOCATION:pavillon des loisirs\, 32 8e Avenue Ouest\, Saint-Fabien\, Québec\, G0L2Z0\, Canada
CATEGORIES:Sports et loisirs
ORGANIZER;CN="Les Loisirs St-Fabien Inc.":MAILTO:loisirss@cgocable.ca
GEO:48.2924537;-68.8624063
X-APPLE-STRUCTURED-LOCATION;VALUE=URI;X-ADDRESS=pavillon des loisirs 32 8e Avenue Ouest Saint-Fabien Québec G0L2Z0 Canada;X-APPLE-RADIUS=500;X-TITLE=32 8e Avenue Ouest:geo:-68.8624063,48.2924537
END:VEVENT
BEGIN:VEVENT
DTSTART;TZID=America/Toronto:20250303T144500
DTEND;TZID=America/Toronto:20250303T154500
DTSTAMP:20260420T030840
CREATED:20250227T154714Z
LAST-MODIFIED:20250227T154714Z
UID:10025888-1741013100-1741016700@www.saint-fabien.ca
SUMMARY:Hockey libre 12 ans et moins
DESCRIPTION:
URL:https://www.saint-fabien.ca/event-calendar/hockey-libre-12-ans-et-moins-13/
LOCATION:pavillon des loisirs\, 32 8e Avenue Ouest\, Saint-Fabien\, Québec\, G0L2Z0\, Canada
CATEGORIES:Sports et loisirs
ORGANIZER;CN="Les Loisirs St-Fabien Inc.":MAILTO:loisirss@cgocable.ca
GEO:48.2924537;-68.8624063
X-APPLE-STRUCTURED-LOCATION;VALUE=URI;X-ADDRESS=pavillon des loisirs 32 8e Avenue Ouest Saint-Fabien Québec G0L2Z0 Canada;X-APPLE-RADIUS=500;X-TITLE=32 8e Avenue Ouest:geo:-68.8624063,48.2924537
END:VEVENT
BEGIN:VEVENT
DTSTART;TZID=America/Toronto:20250303T154500
DTEND;TZID=America/Toronto:20250303T164500
DTSTAMP:20260420T030840
CREATED:20250227T154805Z
LAST-MODIFIED:20250227T154805Z
UID:10025889-1741016700-1741020300@www.saint-fabien.ca
SUMMARY:Hockey libre
DESCRIPTION:
URL:https://www.saint-fabien.ca/event-calendar/hockey-libre-325/
LOCATION:pavillon des loisirs\, 32 8e Avenue Ouest\, Saint-Fabien\, Québec\, G0L2Z0\, Canada
CATEGORIES:Sports et loisirs
ORGANIZER;CN="Les Loisirs St-Fabien Inc.":MAILTO:loisirss@cgocable.ca
GEO:48.2924537;-68.8624063
X-APPLE-STRUCTURED-LOCATION;VALUE=URI;X-ADDRESS=pavillon des loisirs 32 8e Avenue Ouest Saint-Fabien Québec G0L2Z0 Canada;X-APPLE-RADIUS=500;X-TITLE=32 8e Avenue Ouest:geo:-68.8624063,48.2924537
END:VEVENT
BEGIN:VEVENT
DTSTART;TZID=America/Toronto:20250304T151500
DTEND;TZID=America/Toronto:20250304T161500
DTSTAMP:20260420T030840
CREATED:20250227T162559Z
LAST-MODIFIED:20250227T162559Z
UID:10025890-1741101300-1741104900@www.saint-fabien.ca
SUMMARY:Patinage libre
DESCRIPTION:
URL:https://www.saint-fabien.ca/event-calendar/patinage-libre-368/
LOCATION:pavillon des loisirs\, 32 8e Avenue Ouest\, Saint-Fabien\, Québec\, G0L2Z0\, Canada
CATEGORIES:Sports et loisirs
ORGANIZER;CN="Les Loisirs St-Fabien Inc.":MAILTO:loisirss@cgocable.ca
GEO:48.2924537;-68.8624063
X-APPLE-STRUCTURED-LOCATION;VALUE=URI;X-ADDRESS=pavillon des loisirs 32 8e Avenue Ouest Saint-Fabien Québec G0L2Z0 Canada;X-APPLE-RADIUS=500;X-TITLE=32 8e Avenue Ouest:geo:-68.8624063,48.2924537
END:VEVENT
BEGIN:VEVENT
DTSTART;TZID=America/Toronto:20250304T161500
DTEND;TZID=America/Toronto:20250304T171500
DTSTAMP:20260420T030840
CREATED:20250227T162651Z
LAST-MODIFIED:20250227T162651Z
UID:10025891-1741104900-1741108500@www.saint-fabien.ca
SUMMARY:Hockey libre
DESCRIPTION:
URL:https://www.saint-fabien.ca/event-calendar/hockey-libre-326/
LOCATION:pavillon des loisirs\, 32 8e Avenue Ouest\, Saint-Fabien\, Québec\, G0L2Z0\, Canada
CATEGORIES:Sports et loisirs
ORGANIZER;CN="Les Loisirs St-Fabien Inc.":MAILTO:loisirss@cgocable.ca
GEO:48.2924537;-68.8624063
X-APPLE-STRUCTURED-LOCATION;VALUE=URI;X-ADDRESS=pavillon des loisirs 32 8e Avenue Ouest Saint-Fabien Québec G0L2Z0 Canada;X-APPLE-RADIUS=500;X-TITLE=32 8e Avenue Ouest:geo:-68.8624063,48.2924537
END:VEVENT
BEGIN:VEVENT
DTSTART;TZID=America/Toronto:20250305T123000
DTEND;TZID=America/Toronto:20250305T143000
DTSTAMP:20260420T030840
CREATED:20250217T201025Z
LAST-MODIFIED:20250217T201027Z
UID:10025865-1741177800-1741185000@www.saint-fabien.ca
SUMMARY:Relâche - Après-midi Jeux de société !
DESCRIPTION:Deux séances de jeux de société animées par Vincent Bonner sont planiﬁées à la Bibliothèque Jovette-Bernier : \n– 1er février à 13h30 – 5 mars à 13h30 (semaine de relâche) \nIl s’agit là d’une super occasion pour découvrir de nouveaux jeux et apprendre rapidement et facilement leurs règles. Profitez-en\, c’est gratuit !
URL:https://www.saint-fabien.ca/event-calendar/apres-midi-jeux-de-societe-2/
LOCATION:Bibliothèque Jovette-Bernier\, 30\, 7e Avenue\, Saint-Fabien\, Québec\, G0L2Z0\, Canada
CATEGORIES:Sports et loisirs
ORGANIZER;CN="Biblioth%C3%A8que Jovette-Bernier":MAILTO:biblio.fabien@crsbp.net
GEO:48.2928805;-68.8651986
X-APPLE-STRUCTURED-LOCATION;VALUE=URI;X-ADDRESS=Bibliothèque Jovette-Bernier 30 7e Avenue Saint-Fabien Québec G0L2Z0 Canada;X-APPLE-RADIUS=500;X-TITLE=30\, 7e Avenue:geo:-68.8651986,48.2928805
END:VEVENT
BEGIN:VEVENT
DTSTART;TZID=America/Toronto:20250305T133000
DTEND;TZID=America/Toronto:20250305T143000
DTSTAMP:20260420T030840
CREATED:20250227T162743Z
LAST-MODIFIED:20250227T162743Z
UID:10025892-1741181400-1741185000@www.saint-fabien.ca
SUMMARY:Patinage libre
DESCRIPTION:
URL:https://www.saint-fabien.ca/event-calendar/patinage-libre-369/
LOCATION:pavillon des loisirs\, 32 8e Avenue Ouest\, Saint-Fabien\, Québec\, G0L2Z0\, Canada
CATEGORIES:Sports et loisirs
ORGANIZER;CN="Les Loisirs St-Fabien Inc.":MAILTO:loisirss@cgocable.ca
GEO:48.2924537;-68.8624063
X-APPLE-STRUCTURED-LOCATION;VALUE=URI;X-ADDRESS=pavillon des loisirs 32 8e Avenue Ouest Saint-Fabien Québec G0L2Z0 Canada;X-APPLE-RADIUS=500;X-TITLE=32 8e Avenue Ouest:geo:-68.8624063,48.2924537
END:VEVENT
BEGIN:VEVENT
DTSTART;TZID=America/Toronto:20250305T143000
DTEND;TZID=America/Toronto:20250305T153000
DTSTAMP:20260420T030840
CREATED:20250227T162835Z
LAST-MODIFIED:20250227T162835Z
UID:10025893-1741185000-1741188600@www.saint-fabien.ca
SUMMARY:Hockey libre 12 ans et moins
DESCRIPTION:
URL:https://www.saint-fabien.ca/event-calendar/hockey-libre-12-ans-et-moins-14/
LOCATION:pavillon des loisirs\, 32 8e Avenue Ouest\, Saint-Fabien\, Québec\, G0L2Z0\, Canada
CATEGORIES:Sports et loisirs
ORGANIZER;CN="Les Loisirs St-Fabien Inc.":MAILTO:loisirss@cgocable.ca
GEO:48.2924537;-68.8624063
X-APPLE-STRUCTURED-LOCATION;VALUE=URI;X-ADDRESS=pavillon des loisirs 32 8e Avenue Ouest Saint-Fabien Québec G0L2Z0 Canada;X-APPLE-RADIUS=500;X-TITLE=32 8e Avenue Ouest:geo:-68.8624063,48.2924537
END:VEVENT
BEGIN:VEVENT
DTSTART;TZID=America/Toronto:20250305T153000
DTEND;TZID=America/Toronto:20250305T163000
DTSTAMP:20260420T030840
CREATED:20250227T162908Z
LAST-MODIFIED:20250227T162908Z
UID:10025894-1741188600-1741192200@www.saint-fabien.ca
SUMMARY:Hockey libre
DESCRIPTION:
URL:https://www.saint-fabien.ca/event-calendar/hockey-libre-327/
LOCATION:pavillon des loisirs\, 32 8e Avenue Ouest\, Saint-Fabien\, Québec\, G0L2Z0\, Canada
CATEGORIES:Sports et loisirs
ORGANIZER;CN="Les Loisirs St-Fabien Inc.":MAILTO:loisirss@cgocable.ca
GEO:48.2924537;-68.8624063
X-APPLE-STRUCTURED-LOCATION;VALUE=URI;X-ADDRESS=pavillon des loisirs 32 8e Avenue Ouest Saint-Fabien Québec G0L2Z0 Canada;X-APPLE-RADIUS=500;X-TITLE=32 8e Avenue Ouest:geo:-68.8624063,48.2924537
END:VEVENT
BEGIN:VEVENT
DTSTART;TZID=America/Toronto:20250305T153000
DTEND;TZID=America/Toronto:20250305T173000
DTSTAMP:20260420T030840
CREATED:20250227T154420Z
LAST-MODIFIED:20250227T154420Z
UID:10025886-1741188600-1741195800@www.saint-fabien.ca
SUMMARY:Atelier de cuisine avec Marie-Christine Boulanger
DESCRIPTION:Des ateliers de cuisine dispensés par Marie-Christine Boulanger\, diplômée en technique de diététique au cégep de Rimouski et technicienne en travaux pratiques au Lab École de Rimouski\, se dérouleront le mercredi 5 mars de 16h30 à 18h30 et le mardi 18 mars de 16h30 à 18h30 au sous-sol du Bureau d’information touristique (33 Route 132 Ouest). Le thème du premier atelier sera “Tofu façon général Tao” et le deuxième sera “Barres tendres aux lentilles”. Il est déjà possible de s’inscrire (maximum de 8 participants par atelier) en écrivant à : communication@saintfabien.netProfitez-en\, c’est gratuit !!
URL:https://www.saint-fabien.ca/event-calendar/atelier-de-cuisine-avec-marie-christine-boulanger/
LOCATION:Bureau d’accueil touristique\, 33 route 132 Ouest\, Saint-Fabien\, Québec\, G0L2Z0\, Canada
CATEGORIES:Sports et loisirs
GEO:48.2967343;-68.8686548
X-APPLE-STRUCTURED-LOCATION;VALUE=URI;X-ADDRESS=Bureau d’accueil touristique 33 route 132 Ouest Saint-Fabien Québec G0L2Z0 Canada;X-APPLE-RADIUS=500;X-TITLE=33 route 132 Ouest:geo:-68.8686548,48.2967343
END:VEVENT
BEGIN:VEVENT
DTSTART;TZID=America/Toronto:20250306T174500
DTEND;TZID=America/Toronto:20250306T184500
DTSTAMP:20260420T030840
CREATED:20250218T215809Z
LAST-MODIFIED:20250218T215809Z
UID:10025879-1741283100-1741286700@www.saint-fabien.ca
SUMMARY:Relâche - Patinage disco !
DESCRIPTION:On patine au rythme et à l’éclairage DISCO !
URL:https://www.saint-fabien.ca/event-calendar/relache-patinage-disco/
LOCATION:pavillon des loisirs\, 32 8e Avenue Ouest\, Saint-Fabien\, Québec\, G0L2Z0\, Canada
CATEGORIES:Sports et loisirs
ORGANIZER;CN="Les Loisirs St-Fabien Inc.":MAILTO:loisirss@cgocable.ca
GEO:48.2924537;-68.8624063
X-APPLE-STRUCTURED-LOCATION;VALUE=URI;X-ADDRESS=pavillon des loisirs 32 8e Avenue Ouest Saint-Fabien Québec G0L2Z0 Canada;X-APPLE-RADIUS=500;X-TITLE=32 8e Avenue Ouest:geo:-68.8624063,48.2924537
END:VEVENT
BEGIN:VEVENT
DTSTART;TZID=America/Toronto:20250307T133000
DTEND;TZID=America/Toronto:20250307T143000
DTSTAMP:20260420T030840
CREATED:20250227T163003Z
LAST-MODIFIED:20250227T163003Z
UID:10025895-1741354200-1741357800@www.saint-fabien.ca
SUMMARY:Patinage libre
DESCRIPTION:
URL:https://www.saint-fabien.ca/event-calendar/patinage-libre-370/
LOCATION:pavillon des loisirs\, 32 8e Avenue Ouest\, Saint-Fabien\, Québec\, G0L2Z0\, Canada
CATEGORIES:Sports et loisirs
ORGANIZER;CN="Les Loisirs St-Fabien Inc.":MAILTO:loisirss@cgocable.ca
GEO:48.2924537;-68.8624063
X-APPLE-STRUCTURED-LOCATION;VALUE=URI;X-ADDRESS=pavillon des loisirs 32 8e Avenue Ouest Saint-Fabien Québec G0L2Z0 Canada;X-APPLE-RADIUS=500;X-TITLE=32 8e Avenue Ouest:geo:-68.8624063,48.2924537
END:VEVENT
BEGIN:VEVENT
DTSTART;TZID=America/Toronto:20250307T143000
DTEND;TZID=America/Toronto:20250307T153000
DTSTAMP:20260420T030840
CREATED:20250227T163048Z
LAST-MODIFIED:20250227T163048Z
UID:10025896-1741357800-1741361400@www.saint-fabien.ca
SUMMARY:Hockey libre - 12 ans et moins
DESCRIPTION:
URL:https://www.saint-fabien.ca/event-calendar/hockey-libre-12-ans-et-moins-15/
LOCATION:pavillon des loisirs\, 32 8e Avenue Ouest\, Saint-Fabien\, Québec\, G0L2Z0\, Canada
CATEGORIES:Sports et loisirs
ORGANIZER;CN="Les Loisirs St-Fabien Inc.":MAILTO:loisirss@cgocable.ca
GEO:48.2924537;-68.8624063
X-APPLE-STRUCTURED-LOCATION;VALUE=URI;X-ADDRESS=pavillon des loisirs 32 8e Avenue Ouest Saint-Fabien Québec G0L2Z0 Canada;X-APPLE-RADIUS=500;X-TITLE=32 8e Avenue Ouest:geo:-68.8624063,48.2924537
END:VEVENT
BEGIN:VEVENT
DTSTART;TZID=America/Toronto:20250307T153000
DTEND;TZID=America/Toronto:20250307T163000
DTSTAMP:20260420T030840
CREATED:20250227T163121Z
LAST-MODIFIED:20250227T163121Z
UID:10025897-1741361400-1741365000@www.saint-fabien.ca
SUMMARY:Hockey libre
DESCRIPTION:
URL:https://www.saint-fabien.ca/event-calendar/hockey-libre-328/
LOCATION:pavillon des loisirs\, 32 8e Avenue Ouest\, Saint-Fabien\, Québec\, G0L2Z0\, Canada
CATEGORIES:Sports et loisirs
ORGANIZER;CN="Les Loisirs St-Fabien Inc.":MAILTO:loisirss@cgocable.ca
GEO:48.2924537;-68.8624063
X-APPLE-STRUCTURED-LOCATION;VALUE=URI;X-ADDRESS=pavillon des loisirs 32 8e Avenue Ouest Saint-Fabien Québec G0L2Z0 Canada;X-APPLE-RADIUS=500;X-TITLE=32 8e Avenue Ouest:geo:-68.8624063,48.2924537
END:VEVENT
BEGIN:VEVENT
DTSTART;TZID=America/Toronto:20250307T180000
DTEND;TZID=America/Toronto:20250307T210000
DTSTAMP:20260420T030840
CREATED:20250224T213848Z
LAST-MODIFIED:20250307T182153Z
UID:10025884-1741370400-1741381200@www.saint-fabien.ca
SUMMARY:ANNULÉ - Relâche - Feu de joie et musique !
DESCRIPTION:Annulé en raison du mauvais temps ! \nBar\, feu de joie\, guimauves et chocolat chaud sur place ! Merci au comité de développement\, Mobilisaction\, de soutenir financièrement cette belle activité !
URL:https://www.saint-fabien.ca/event-calendar/relache-feu-de-joie-et-musique/
LOCATION:pavillon des loisirs\, 32 8e Avenue Ouest\, Saint-Fabien\, Québec\, G0L2Z0\, Canada
CATEGORIES:Sports et loisirs
ORGANIZER;CN="Les Loisirs St-Fabien Inc.":MAILTO:loisirss@cgocable.ca
GEO:48.2924537;-68.8624063
X-APPLE-STRUCTURED-LOCATION;VALUE=URI;X-ADDRESS=pavillon des loisirs 32 8e Avenue Ouest Saint-Fabien Québec G0L2Z0 Canada;X-APPLE-RADIUS=500;X-TITLE=32 8e Avenue Ouest:geo:-68.8624063,48.2924537
END:VEVENT
BEGIN:VEVENT
DTSTART;TZID=America/Toronto:20250308T120000
DTEND;TZID=America/Toronto:20250308T150000
DTSTAMP:20260420T030840
CREATED:20250224T215007Z
LAST-MODIFIED:20250224T215007Z
UID:10025885-1741435200-1741446000@www.saint-fabien.ca
SUMMARY:Relâche - Glissade sur la 8e Avenue !
DESCRIPTION:La rue sera fermée pour glisser de 13h à 16h. Chocolat chaud\, pop corn et barbe à papa !Emmenez votre traîneau ou empruntez-en un sur place.À l’intérieur : jeux gonflables et maquillage. Merci au Club optimiste pour le soutien apporté !
URL:https://www.saint-fabien.ca/event-calendar/relache-glissade-sur-la-8e-avenue-2/
LOCATION:pavillon des loisirs\, 32 8e Avenue Ouest\, Saint-Fabien\, Québec\, G0L2Z0\, Canada
CATEGORIES:Sports et loisirs
ORGANIZER;CN="Les Loisirs St-Fabien Inc.":MAILTO:loisirss@cgocable.ca
GEO:48.2924537;-68.8624063
X-APPLE-STRUCTURED-LOCATION;VALUE=URI;X-ADDRESS=pavillon des loisirs 32 8e Avenue Ouest Saint-Fabien Québec G0L2Z0 Canada;X-APPLE-RADIUS=500;X-TITLE=32 8e Avenue Ouest:geo:-68.8624063,48.2924537
END:VEVENT
END:VCALENDAR