BEGIN:VCALENDAR
VERSION:2.0
PRODID:-//Municipalité de Saint-Fabien - ECPv6.15.20//NONSGML v1.0//EN
CALSCALE:GREGORIAN
METHOD:PUBLISH
X-WR-CALNAME:Municipalité de Saint-Fabien
X-ORIGINAL-URL:https://www.saint-fabien.ca
X-WR-CALDESC:Évènements pour Municipalité de Saint-Fabien
REFRESH-INTERVAL;VALUE=DURATION:PT1H
X-Robots-Tag:noindex
X-PUBLISHED-TTL:PT1H
BEGIN:VTIMEZONE
TZID:America/Toronto
BEGIN:DAYLIGHT
TZOFFSETFROM:-0500
TZOFFSETTO:-0400
TZNAME:EDT
DTSTART:20250309T070000
END:DAYLIGHT
BEGIN:STANDARD
TZOFFSETFROM:-0400
TZOFFSETTO:-0500
TZNAME:EST
DTSTART:20251102T060000
END:STANDARD
BEGIN:DAYLIGHT
TZOFFSETFROM:-0500
TZOFFSETTO:-0400
TZNAME:EDT
DTSTART:20260308T070000
END:DAYLIGHT
BEGIN:STANDARD
TZOFFSETFROM:-0400
TZOFFSETTO:-0500
TZNAME:EST
DTSTART:20261101T060000
END:STANDARD
BEGIN:DAYLIGHT
TZOFFSETFROM:-0500
TZOFFSETTO:-0400
TZNAME:EDT
DTSTART:20270314T070000
END:DAYLIGHT
BEGIN:STANDARD
TZOFFSETFROM:-0400
TZOFFSETTO:-0500
TZNAME:EST
DTSTART:20271107T060000
END:STANDARD
END:VTIMEZONE
BEGIN:VEVENT
DTSTART;TZID=America/Toronto:20260210T093000
DTEND;TZID=America/Toronto:20260210T120000
DTSTAMP:20260422T175131
CREATED:20260204T194700Z
LAST-MODIFIED:20260205T164727Z
UID:10026247-1770715800-1770724800@www.saint-fabien.ca
SUMMARY:Sortie raquette au Sentier des Coulombe
DESCRIPTION:NOUVEAU – SORTIE RAQUETTES AU SENTIER DES COULOMBE\n Tous les mardis matins à 9h30 !\n RDV au stationnement municipal du sentier\, route de la Mer\, en face du belvédère Raoul-Roy (SEPAQ)\n Activité gratuite sur inscription (la randonnée sera adaptée au niveau des participant.e.s)\n Débutant.e.s bienvenu.e.s. Prêt de raquettes possible grâce au Club des 50 ans et +\n Pour tout renseignement\, contactez Yvette Ravenet :\ntéléphone: 514 550-5061 ou courriel: YRnaturopathe@icloud.com\nhttps://www.parcdubic.com/sentier-des-coulombe\nPhoto : Tourisme Bas-St-Laurent
URL:https://www.saint-fabien.ca/event-calendar/sortie-raquette-au-sentier-des-coulombe/2026-02-10/
LOCATION:Sentier des Coulombe
CATEGORIES:Sports et loisirs
ATTACH;FMTTYPE=image/jpeg:https://www.saint-fabien.ca/wp-content/uploads/2026/02/raquettes-mia-coulombe-2022-2048x1152-1.jpg
END:VEVENT
BEGIN:VEVENT
DTSTART;TZID=America/Toronto:20260211T180000
DTEND;TZID=America/Toronto:20260211T200000
DTSTAMP:20260422T175131
CREATED:20260204T195120Z
LAST-MODIFIED:20260205T190305Z
UID:10026251-1770832800-1770840000@www.saint-fabien.ca
SUMMARY:Tricot-jasette à la Bibliothèque !
DESCRIPTION:NOUVEAU ! TRICOT-JASETTE À LA BIBLIOTHÈQUE\n\n\n À la Bibliothèque Jovette-Bernier de Saint-Fabien chaque mercredi soir de 18h à 20h à partir du 4 février !\n Ouvert à toutes et à tous\, sans inscription (enfant accompagné d’un.e adulte)\n Crochet\, broderie et autres travaux d’aiguille. Débutant.e.s bienvenu.e.s\nInfos : @Yvette Ravenet
URL:https://www.saint-fabien.ca/event-calendar/tricot-jasette-a-la-bibliotheque/2026-02-11/
LOCATION:Bibliothèque Jovette-Bernier\, 30\, 7e Avenue\, Saint-Fabien\, Québec\, G0L2Z0\, Canada
CATEGORIES:Sports et loisirs
ATTACH;FMTTYPE=image/jpeg:https://www.saint-fabien.ca/wp-content/uploads/2026/02/627547544_892696276475532_6560713199417288709_n.jpg
GEO:48.2928805;-68.8651986
X-APPLE-STRUCTURED-LOCATION;VALUE=URI;X-ADDRESS=Bibliothèque Jovette-Bernier 30 7e Avenue Saint-Fabien Québec G0L2Z0 Canada;X-APPLE-RADIUS=500;X-TITLE=30\, 7e Avenue:geo:-68.8651986,48.2928805
END:VEVENT
BEGIN:VEVENT
DTSTART;TZID=America/Toronto:20260212T173000
DTEND;TZID=America/Toronto:20260212T183000
DTSTAMP:20260422T175131
CREATED:20260209T133659Z
LAST-MODIFIED:20260209T133659Z
UID:10026265-1770917400-1770921000@www.saint-fabien.ca
SUMMARY:Patinage libre
DESCRIPTION:
URL:https://www.saint-fabien.ca/event-calendar/patinage-libre-412/
LOCATION:pavillon des loisirs\, 32 8e Avenue Ouest\, Saint-Fabien\, Québec\, G0L2Z0\, Canada
CATEGORIES:Sports et loisirs
ORGANIZER;CN="Les Loisirs St-Fabien Inc.":MAILTO:loisirss@cgocable.ca
GEO:48.2924537;-68.8624063
X-APPLE-STRUCTURED-LOCATION;VALUE=URI;X-ADDRESS=pavillon des loisirs 32 8e Avenue Ouest Saint-Fabien Québec G0L2Z0 Canada;X-APPLE-RADIUS=500;X-TITLE=32 8e Avenue Ouest:geo:-68.8624063,48.2924537
END:VEVENT
BEGIN:VEVENT
DTSTART;TZID=America/Toronto:20260213T201500
DTEND;TZID=America/Toronto:20260213T211500
DTSTAMP:20260422T175131
CREATED:20260209T133748Z
LAST-MODIFIED:20260209T133748Z
UID:10026266-1771013700-1771017300@www.saint-fabien.ca
SUMMARY:Hockey libre pour toutes et tous
DESCRIPTION:
URL:https://www.saint-fabien.ca/event-calendar/hockey-libre-pour-toutes-et-tous-5/
LOCATION:pavillon des loisirs\, 32 8e Avenue Ouest\, Saint-Fabien\, Québec\, G0L2Z0\, Canada
CATEGORIES:Sports et loisirs
ORGANIZER;CN="Les Loisirs St-Fabien Inc.":MAILTO:loisirss@cgocable.ca
GEO:48.2924537;-68.8624063
X-APPLE-STRUCTURED-LOCATION;VALUE=URI;X-ADDRESS=pavillon des loisirs 32 8e Avenue Ouest Saint-Fabien Québec G0L2Z0 Canada;X-APPLE-RADIUS=500;X-TITLE=32 8e Avenue Ouest:geo:-68.8624063,48.2924537
END:VEVENT
BEGIN:VEVENT
DTSTART;TZID=America/Toronto:20260214T161500
DTEND;TZID=America/Toronto:20260214T171500
DTSTAMP:20260422T175131
CREATED:20260209T133833Z
LAST-MODIFIED:20260209T133833Z
UID:10026267-1771085700-1771089300@www.saint-fabien.ca
SUMMARY:Patinage libre
DESCRIPTION:
URL:https://www.saint-fabien.ca/event-calendar/patinage-libre-413/
LOCATION:pavillon des loisirs\, 32 8e Avenue Ouest\, Saint-Fabien\, Québec\, G0L2Z0\, Canada
CATEGORIES:Sports et loisirs
ORGANIZER;CN="Les Loisirs St-Fabien Inc.":MAILTO:loisirss@cgocable.ca
GEO:48.2924537;-68.8624063
X-APPLE-STRUCTURED-LOCATION;VALUE=URI;X-ADDRESS=pavillon des loisirs 32 8e Avenue Ouest Saint-Fabien Québec G0L2Z0 Canada;X-APPLE-RADIUS=500;X-TITLE=32 8e Avenue Ouest:geo:-68.8624063,48.2924537
END:VEVENT
BEGIN:VEVENT
DTSTART;TZID=America/Toronto:20260214T173000
DTEND;TZID=America/Toronto:20260214T220000
DTSTAMP:20260422T175131
CREATED:20260205T143209Z
LAST-MODIFIED:20260205T143209Z
UID:10026258-1771090200-1771106400@www.saint-fabien.ca
SUMMARY:Souper pizza/frites - Club des 50 ans et +
DESCRIPTION:Un souper pizza/frites de la St-Valentin et une soirée de danse sont aussi organisés par le Club ! Ça se passe le samedi 14 février à 17h30 – la danse est à 20h et est incluse dans le prix du souper. Des billets sont disponibles auprès de Viateur Michaud (418 869-2258)\, Mario Beauchesne (418 318-1042)\, Lucette Fortin (418 318-1029)\, Colombe Jean (418 869-2646) et Denise Gagnon (418 740-3358). \nPrix pour les membres : 22 $ – non-membre : 25 $ Achetez votre billet avant le 3 février. \nSoirée seulement : 6$ membre – 7 $ non membre Bar ouvert.
URL:https://www.saint-fabien.ca/event-calendar/souper-pizza-frites-club-des-50-ans-et/
LOCATION:pavillon des loisirs\, 32 8e Avenue Ouest\, Saint-Fabien\, Québec\, G0L2Z0\, Canada
CATEGORIES:Sports et loisirs
GEO:48.2924537;-68.8624063
X-APPLE-STRUCTURED-LOCATION;VALUE=URI;X-ADDRESS=pavillon des loisirs 32 8e Avenue Ouest Saint-Fabien Québec G0L2Z0 Canada;X-APPLE-RADIUS=500;X-TITLE=32 8e Avenue Ouest:geo:-68.8624063,48.2924537
END:VEVENT
BEGIN:VEVENT
DTSTART;TZID=America/Toronto:20260215T131500
DTEND;TZID=America/Toronto:20260215T141500
DTSTAMP:20260422T175131
CREATED:20260209T133926Z
LAST-MODIFIED:20260212T181229Z
UID:10026268-1771161300-1771164900@www.saint-fabien.ca
SUMMARY:ANNULÉ - Patinage libre
DESCRIPTION:
URL:https://www.saint-fabien.ca/event-calendar/patinage-libre-414/
LOCATION:pavillon des loisirs\, 32 8e Avenue Ouest\, Saint-Fabien\, Québec\, G0L2Z0\, Canada
CATEGORIES:Sports et loisirs
ORGANIZER;CN="Les Loisirs St-Fabien Inc.":MAILTO:loisirss@cgocable.ca
GEO:48.2924537;-68.8624063
X-APPLE-STRUCTURED-LOCATION;VALUE=URI;X-ADDRESS=pavillon des loisirs 32 8e Avenue Ouest Saint-Fabien Québec G0L2Z0 Canada;X-APPLE-RADIUS=500;X-TITLE=32 8e Avenue Ouest:geo:-68.8624063,48.2924537
END:VEVENT
BEGIN:VEVENT
DTSTART;TZID=America/Toronto:20260215T141500
DTEND;TZID=America/Toronto:20260215T151500
DTSTAMP:20260422T175131
CREATED:20260209T134012Z
LAST-MODIFIED:20260212T181255Z
UID:10026269-1771164900-1771168500@www.saint-fabien.ca
SUMMARY:ANNULÉ - Hockey libre pour toutes et tous
DESCRIPTION:
URL:https://www.saint-fabien.ca/event-calendar/hockey-libre-pour-toutes-et-tous-6/
LOCATION:pavillon des loisirs\, 32 8e Avenue Ouest\, Saint-Fabien\, Québec\, G0L2Z0\, Canada
CATEGORIES:Sports et loisirs
ORGANIZER;CN="Les Loisirs St-Fabien Inc.":MAILTO:loisirss@cgocable.ca
GEO:48.2924537;-68.8624063
X-APPLE-STRUCTURED-LOCATION;VALUE=URI;X-ADDRESS=pavillon des loisirs 32 8e Avenue Ouest Saint-Fabien Québec G0L2Z0 Canada;X-APPLE-RADIUS=500;X-TITLE=32 8e Avenue Ouest:geo:-68.8624063,48.2924537
END:VEVENT
END:VCALENDAR