BEGIN:VCALENDAR
VERSION:2.0
PRODID:-//Municipalité de Saint-Fabien - ECPv6.15.20//NONSGML v1.0//EN
CALSCALE:GREGORIAN
METHOD:PUBLISH
X-WR-CALNAME:Municipalité de Saint-Fabien
X-ORIGINAL-URL:https://www.saint-fabien.ca
X-WR-CALDESC:Évènements pour Municipalité de Saint-Fabien
REFRESH-INTERVAL;VALUE=DURATION:PT1H
X-Robots-Tag:noindex
X-PUBLISHED-TTL:PT1H
BEGIN:VTIMEZONE
TZID:America/Toronto
BEGIN:DAYLIGHT
TZOFFSETFROM:-0500
TZOFFSETTO:-0400
TZNAME:EDT
DTSTART:20210314T070000
END:DAYLIGHT
BEGIN:STANDARD
TZOFFSETFROM:-0400
TZOFFSETTO:-0500
TZNAME:EST
DTSTART:20211107T060000
END:STANDARD
BEGIN:DAYLIGHT
TZOFFSETFROM:-0500
TZOFFSETTO:-0400
TZNAME:EDT
DTSTART:20220313T070000
END:DAYLIGHT
BEGIN:STANDARD
TZOFFSETFROM:-0400
TZOFFSETTO:-0500
TZNAME:EST
DTSTART:20221106T060000
END:STANDARD
BEGIN:DAYLIGHT
TZOFFSETFROM:-0500
TZOFFSETTO:-0400
TZNAME:EDT
DTSTART:20230312T070000
END:DAYLIGHT
BEGIN:STANDARD
TZOFFSETFROM:-0400
TZOFFSETTO:-0500
TZNAME:EST
DTSTART:20231105T060000
END:STANDARD
END:VTIMEZONE
BEGIN:VEVENT
DTSTART;TZID=America/Toronto:20221104T171500
DTEND;TZID=America/Toronto:20221104T174500
DTSTAMP:20260420T181803
CREATED:20221101T181614Z
LAST-MODIFIED:20221101T181614Z
UID:10025314-1667582100-1667583900@www.saint-fabien.ca
SUMMARY:Patinage libre
DESCRIPTION:
URL:https://www.saint-fabien.ca/event-calendar/patinage-libre-220/
LOCATION:pavillon des loisirs\, 32 8e Avenue Ouest\, Saint-Fabien\, Québec\, G0L2Z0\, Canada
CATEGORIES:Sports et loisirs
ORGANIZER;CN="Les Loisirs St-Fabien Inc.":MAILTO:loisirss@cgocable.ca
GEO:48.2924537;-68.8624063
X-APPLE-STRUCTURED-LOCATION;VALUE=URI;X-ADDRESS=pavillon des loisirs 32 8e Avenue Ouest Saint-Fabien Québec G0L2Z0 Canada;X-APPLE-RADIUS=500;X-TITLE=32 8e Avenue Ouest:geo:-68.8624063,48.2924537
END:VEVENT
BEGIN:VEVENT
DTSTART;TZID=America/Toronto:20221105T130000
DTEND;TZID=America/Toronto:20221105T140000
DTSTAMP:20260420T181803
CREATED:20221104T175751Z
LAST-MODIFIED:20221104T175751Z
UID:10025317-1667653200-1667656800@www.saint-fabien.ca
SUMMARY:Hockey libre
DESCRIPTION:
URL:https://www.saint-fabien.ca/event-calendar/hockey-libre-218/
LOCATION:pavillon des loisirs\, 32 8e Avenue Ouest\, Saint-Fabien\, Québec\, G0L2Z0\, Canada
CATEGORIES:Sports et loisirs
ORGANIZER;CN="Les Loisirs St-Fabien Inc.":MAILTO:loisirss@cgocable.ca
GEO:48.2924537;-68.8624063
X-APPLE-STRUCTURED-LOCATION;VALUE=URI;X-ADDRESS=pavillon des loisirs 32 8e Avenue Ouest Saint-Fabien Québec G0L2Z0 Canada;X-APPLE-RADIUS=500;X-TITLE=32 8e Avenue Ouest:geo:-68.8624063,48.2924537
END:VEVENT
BEGIN:VEVENT
DTSTART;TZID=America/Toronto:20221105T131500
DTEND;TZID=America/Toronto:20221105T141500
DTSTAMP:20260420T181803
CREATED:20221101T181721Z
LAST-MODIFIED:20221101T181721Z
UID:10025315-1667654100-1667657700@www.saint-fabien.ca
SUMMARY:Patinage libre
DESCRIPTION:
URL:https://www.saint-fabien.ca/event-calendar/patinage-libre-221/
LOCATION:pavillon des loisirs\, 32 8e Avenue Ouest\, Saint-Fabien\, Québec\, G0L2Z0\, Canada
CATEGORIES:Sports et loisirs
ORGANIZER;CN="Les Loisirs St-Fabien Inc.":MAILTO:loisirss@cgocable.ca
GEO:48.2924537;-68.8624063
X-APPLE-STRUCTURED-LOCATION;VALUE=URI;X-ADDRESS=pavillon des loisirs 32 8e Avenue Ouest Saint-Fabien Québec G0L2Z0 Canada;X-APPLE-RADIUS=500;X-TITLE=32 8e Avenue Ouest:geo:-68.8624063,48.2924537
END:VEVENT
BEGIN:VEVENT
DTSTART;TZID=America/Toronto:20221107T183000
DTEND;TZID=America/Toronto:20221107T193000
DTSTAMP:20260420T181803
CREATED:20220916T125821Z
LAST-MODIFIED:20220916T125821Z
UID:10025284-1667845800-1667849400@www.saint-fabien.ca
SUMMARY:Séance publique du conseil municipal
DESCRIPTION:Les séances se tiennent au sous-sol du bureau municipal. \n 
URL:https://www.saint-fabien.ca/event-calendar/seance-publique-du-conseil-municipal-2/2022-11-07/
LOCATION:municipalité de Saint-Fabien\, 20-A 7 Avenue\, Saint-Fabien\, Québec\, G0L2Z0\, Canada
CATEGORIES:Vie municipale
GEO:48.2935897;-68.8658383
X-APPLE-STRUCTURED-LOCATION;VALUE=URI;X-ADDRESS=municipalité de Saint-Fabien 20-A 7 Avenue Saint-Fabien Québec G0L2Z0 Canada;X-APPLE-RADIUS=500;X-TITLE=20-A 7 Avenue:geo:-68.8658383,48.2935897
END:VEVENT
BEGIN:VEVENT
DTSTART;VALUE=DATE:20221110
DTEND;VALUE=DATE:20221112
DTSTAMP:20260420T181803
CREATED:20221109T151012Z
LAST-MODIFIED:20221109T151012Z
UID:10025319-1668121200-1668207599@www.saint-fabien.ca
SUMMARY:Jour du Souvenir - Bureau municipal fermé
DESCRIPTION:Jour du Souvenir – Le bureau municipal demeurera fermé ce vendredi 11 novembre.
URL:https://www.saint-fabien.ca/event-calendar/jour-du-souvenir-bureau-municipal-ferme/
LOCATION:municipalité de Saint-Fabien\, 20-A 7 Avenue\, Saint-Fabien\, Québec\, G0L2Z0\, Canada
CATEGORIES:Autres
GEO:48.2935897;-68.8658383
X-APPLE-STRUCTURED-LOCATION;VALUE=URI;X-ADDRESS=municipalité de Saint-Fabien 20-A 7 Avenue Saint-Fabien Québec G0L2Z0 Canada;X-APPLE-RADIUS=500;X-TITLE=20-A 7 Avenue:geo:-68.8658383,48.2935897
END:VEVENT
BEGIN:VEVENT
DTSTART;TZID=America/Toronto:20221113T140000
DTEND;TZID=America/Toronto:20221113T150000
DTSTAMP:20260420T181803
CREATED:20221114T163954Z
LAST-MODIFIED:20221114T163954Z
UID:10025321-1668348000-1668351600@www.saint-fabien.ca
SUMMARY:Hockey libre
DESCRIPTION:
URL:https://www.saint-fabien.ca/event-calendar/hockey-libre-219/
LOCATION:pavillon des loisirs\, 32 8e Avenue Ouest\, Saint-Fabien\, Québec\, G0L2Z0\, Canada
CATEGORIES:Hockey libre,Sports et loisirs
ORGANIZER;CN="Les Loisirs St-Fabien Inc.":MAILTO:loisirss@cgocable.ca
GEO:48.2924537;-68.8624063
X-APPLE-STRUCTURED-LOCATION;VALUE=URI;X-ADDRESS=pavillon des loisirs 32 8e Avenue Ouest Saint-Fabien Québec G0L2Z0 Canada;X-APPLE-RADIUS=500;X-TITLE=32 8e Avenue Ouest:geo:-68.8624063,48.2924537
END:VEVENT
BEGIN:VEVENT
DTSTART;TZID=America/Toronto:20221118T160000
DTEND;TZID=America/Toronto:20221118T164500
DTSTAMP:20260420T181803
CREATED:20221114T163906Z
LAST-MODIFIED:20221114T163906Z
UID:10025320-1668787200-1668789900@www.saint-fabien.ca
SUMMARY:Patinage libre
DESCRIPTION:
URL:https://www.saint-fabien.ca/event-calendar/patinage-libre-222/
LOCATION:pavillon des loisirs\, 32 8e Avenue Ouest\, Saint-Fabien\, Québec\, G0L2Z0\, Canada
CATEGORIES:Patin libre,Sports et loisirs
ORGANIZER;CN="Les Loisirs St-Fabien Inc.":MAILTO:loisirss@cgocable.ca
GEO:48.2924537;-68.8624063
X-APPLE-STRUCTURED-LOCATION;VALUE=URI;X-ADDRESS=pavillon des loisirs 32 8e Avenue Ouest Saint-Fabien Québec G0L2Z0 Canada;X-APPLE-RADIUS=500;X-TITLE=32 8e Avenue Ouest:geo:-68.8624063,48.2924537
END:VEVENT
BEGIN:VEVENT
DTSTART;TZID=America/Toronto:20221120T090000
DTEND;TZID=America/Toronto:20221120T140000
DTSTAMP:20260420T181803
CREATED:20221103T180329Z
LAST-MODIFIED:20221103T180329Z
UID:10025316-1668934800-1668952800@www.saint-fabien.ca
SUMMARY:Marché de Noël !!
DESCRIPTION:Le Club optimiste\, en collaboration avec les Loisirs St-Fabien et la Municipalité\, est très ﬁer de présenter encore cette année son très populaire et toujours attendu Marché de Noël.\nDe 10h à 15h le 20 novembre prochain au Pavillon des loisirs\, il sera ainsi possible de visiter les kiosques de plus de trente artisans et de dénicher des cadeaux originaux pour toute la famille. Munissez-vous toutefois d’argent comptant\, puisque les artisans ne disposeront pas de terminaux de paiement.\nDeux paniers remplis de produits des exposants participants feront aussi l’objet d’un tirage par-mi les visiteurs qui se seront procuré des coupons (1 pour 2$ / 4 pour 5$).\nProﬁtez de cette belle occasion pour découvrir ou redécouvrir les talents d’ici!\nL’entrée est gratuite.
URL:https://www.saint-fabien.ca/event-calendar/marche-de-noel/
LOCATION:pavillon des loisirs\, 32 8e Avenue Ouest\, Saint-Fabien\, Québec\, G0L2Z0\, Canada
CATEGORIES:Autres
ATTACH;FMTTYPE=image/png:https://www.saint-fabien.ca/wp-content/uploads/2022/11/Capture-décran-le-2022-11-03-à-10.44.49.png
GEO:48.2924537;-68.8624063
X-APPLE-STRUCTURED-LOCATION;VALUE=URI;X-ADDRESS=pavillon des loisirs 32 8e Avenue Ouest Saint-Fabien Québec G0L2Z0 Canada;X-APPLE-RADIUS=500;X-TITLE=32 8e Avenue Ouest:geo:-68.8624063,48.2924537
END:VEVENT
BEGIN:VEVENT
DTSTART;TZID=America/Toronto:20221120T144500
DTEND;TZID=America/Toronto:20221120T153000
DTSTAMP:20260420T181803
CREATED:20221121T153151Z
LAST-MODIFIED:20221121T153151Z
UID:10025323-1668955500-1668958200@www.saint-fabien.ca
SUMMARY:Hockey libre
DESCRIPTION:
URL:https://www.saint-fabien.ca/event-calendar/hockey-libre-220/
LOCATION:pavillon des loisirs\, 32 8e Avenue Ouest\, Saint-Fabien\, Québec\, G0L2Z0\, Canada
CATEGORIES:Sports et loisirs
ORGANIZER;CN="Les Loisirs St-Fabien Inc.":MAILTO:loisirss@cgocable.ca
GEO:48.2924537;-68.8624063
X-APPLE-STRUCTURED-LOCATION;VALUE=URI;X-ADDRESS=pavillon des loisirs 32 8e Avenue Ouest Saint-Fabien Québec G0L2Z0 Canada;X-APPLE-RADIUS=500;X-TITLE=32 8e Avenue Ouest:geo:-68.8624063,48.2924537
END:VEVENT
BEGIN:VEVENT
DTSTART;TZID=America/Toronto:20221126T120000
DTEND;TZID=America/Toronto:20221126T140000
DTSTAMP:20260420T181803
CREATED:20221116T203334Z
LAST-MODIFIED:20221116T203439Z
UID:10025322-1669464000-1669471200@www.saint-fabien.ca
SUMMARY:Atelier d'écriture virtuel avec Patrice Michaud
DESCRIPTION:Atelier de création littéraire avec Patrice Michaud\, diffusé en direct à la bibliothèque Jovette-Bernier\, pour les jeunes de 10 à 14 ans ! \nAssiste à une rencontre entre l’animateur Nicolas Ouellet et l’auteur-compositeur-interprète Patrice Michaud\, qui t’expliquera comment il écrit ses chansons. Patrice te proposera ensuite quelques exercices d’écriture pour que tu composes à ton tour un texte. Il te donnera des trucs et des astuces.\nPar la suite\, tu pourras courir la chance de remporter une bourse d’études de 1500 $ en soumettant ton texte au concours détaillé sur le site Web des ateliers Lettres attachées. \nPour t’inscrire\, écris à communication@saintfabien.net \nPrésenté par la Fédération québécoise des municipalités (FQM) et Bibliothèque et Archives nationales du Québec (BAnQ)\nAvec la collaboration de l’Association des bibliothèques publiques du Québec et du Réseau BIBLIO du Québec\nEn partenariat avec le ministère de la Langue française
URL:https://www.saint-fabien.ca/event-calendar/atelier-decriture-virtuel-avec-patrice-michaud/
LOCATION:Bibliothèque Jovette-Bernier\, 30\, 7e Avenue\, Saint-Fabien\, Québec\, G0L2Z0\, Canada
CATEGORIES:Culture
ATTACH;FMTTYPE=image/png:https://www.saint-fabien.ca/wp-content/uploads/2022/11/Capture-décran-le-2022-11-16-à-14.15.15.png
ORGANIZER;CN="Biblioth%C3%A8que Jovette-Bernier":MAILTO:biblio.fabien@crsbp.net
GEO:48.2928805;-68.8651986
X-APPLE-STRUCTURED-LOCATION;VALUE=URI;X-ADDRESS=Bibliothèque Jovette-Bernier 30 7e Avenue Saint-Fabien Québec G0L2Z0 Canada;X-APPLE-RADIUS=500;X-TITLE=30\, 7e Avenue:geo:-68.8651986,48.2928805
END:VEVENT
BEGIN:VEVENT
DTSTART;TZID=America/Toronto:20221126T164500
DTEND;TZID=America/Toronto:20221126T173000
DTSTAMP:20260420T181803
CREATED:20221121T153354Z
LAST-MODIFIED:20221121T153414Z
UID:10025324-1669481100-1669483800@www.saint-fabien.ca
SUMMARY:Hockey libre
DESCRIPTION:
URL:https://www.saint-fabien.ca/event-calendar/hockey-libre-221/
LOCATION:pavillon des loisirs\, 32 8e Avenue Ouest\, Saint-Fabien\, Québec\, G0L2Z0\, Canada
CATEGORIES:Sports et loisirs
ORGANIZER;CN="Les Loisirs St-Fabien Inc.":MAILTO:loisirss@cgocable.ca
GEO:48.2924537;-68.8624063
X-APPLE-STRUCTURED-LOCATION;VALUE=URI;X-ADDRESS=pavillon des loisirs 32 8e Avenue Ouest Saint-Fabien Québec G0L2Z0 Canada;X-APPLE-RADIUS=500;X-TITLE=32 8e Avenue Ouest:geo:-68.8624063,48.2924537
END:VEVENT
BEGIN:VEVENT
DTSTART;TZID=America/Toronto:20221127T140000
DTEND;TZID=America/Toronto:20221127T150000
DTSTAMP:20260420T181803
CREATED:20221128T154433Z
LAST-MODIFIED:20221128T154433Z
UID:10025326-1669557600-1669561200@www.saint-fabien.ca
SUMMARY:Patinage libre
DESCRIPTION:
URL:https://www.saint-fabien.ca/event-calendar/patinage-libre-223/
LOCATION:pavillon des loisirs\, 32 8e Avenue Ouest\, Saint-Fabien\, Québec\, G0L2Z0\, Canada
CATEGORIES:Sports et loisirs
ORGANIZER;CN="Les Loisirs St-Fabien Inc.":MAILTO:loisirss@cgocable.ca
GEO:48.2924537;-68.8624063
X-APPLE-STRUCTURED-LOCATION;VALUE=URI;X-ADDRESS=pavillon des loisirs 32 8e Avenue Ouest Saint-Fabien Québec G0L2Z0 Canada;X-APPLE-RADIUS=500;X-TITLE=32 8e Avenue Ouest:geo:-68.8624063,48.2924537
END:VEVENT
END:VCALENDAR