BEGIN:VCALENDAR
VERSION:2.0
PRODID:-//Municipalité de Saint-Fabien - ECPv6.15.20//NONSGML v1.0//EN
CALSCALE:GREGORIAN
METHOD:PUBLISH
X-WR-CALNAME:Municipalité de Saint-Fabien
X-ORIGINAL-URL:https://www.saint-fabien.ca
X-WR-CALDESC:Évènements pour Municipalité de Saint-Fabien
REFRESH-INTERVAL;VALUE=DURATION:PT1H
X-Robots-Tag:noindex
X-PUBLISHED-TTL:PT1H
BEGIN:VTIMEZONE
TZID:America/Toronto
BEGIN:DAYLIGHT
TZOFFSETFROM:-0500
TZOFFSETTO:-0400
TZNAME:EDT
DTSTART:20250309T070000
END:DAYLIGHT
BEGIN:STANDARD
TZOFFSETFROM:-0400
TZOFFSETTO:-0500
TZNAME:EST
DTSTART:20251102T060000
END:STANDARD
BEGIN:DAYLIGHT
TZOFFSETFROM:-0500
TZOFFSETTO:-0400
TZNAME:EDT
DTSTART:20260308T070000
END:DAYLIGHT
BEGIN:STANDARD
TZOFFSETFROM:-0400
TZOFFSETTO:-0500
TZNAME:EST
DTSTART:20261101T060000
END:STANDARD
BEGIN:DAYLIGHT
TZOFFSETFROM:-0500
TZOFFSETTO:-0400
TZNAME:EDT
DTSTART:20270314T070000
END:DAYLIGHT
BEGIN:STANDARD
TZOFFSETFROM:-0400
TZOFFSETTO:-0500
TZNAME:EST
DTSTART:20271107T060000
END:STANDARD
END:VTIMEZONE
BEGIN:VEVENT
DTSTART;VALUE=DATE:20260904
DTEND;VALUE=DATE:20260905
DTSTAMP:20260422T233032
CREATED:20251215T164209Z
LAST-MODIFIED:20251215T164209Z
UID:10026147-1788508800-1788541200@www.saint-fabien.ca
SUMMARY:Compost et déchets - Village et 132
DESCRIPTION:Secteur : Village\, rang 1 est et ouest\, route 132
URL:https://www.saint-fabien.ca/event-calendar/compost-et-dechets-village-et-132/2026-09-04/
LOCATION:municipalité de Saint-Fabien\, 20-A 7 Avenue\, Saint-Fabien\, Québec\, G0L2Z0\, Canada
CATEGORIES:Compost et déchets - Village et 132
GEO:48.2935897;-68.8658383
X-APPLE-STRUCTURED-LOCATION;VALUE=URI;X-ADDRESS=municipalité de Saint-Fabien 20-A 7 Avenue Saint-Fabien Québec G0L2Z0 Canada;X-APPLE-RADIUS=500;X-TITLE=20-A 7 Avenue:geo:-68.8658383,48.2935897
END:VEVENT
BEGIN:VEVENT
DTSTART;VALUE=DATE:20260907
DTEND;VALUE=DATE:20260908
DTSTAMP:20260422T233032
CREATED:20251215T165809Z
LAST-MODIFIED:20251215T165809Z
UID:10026155-1788739200-1788825599@www.saint-fabien.ca
SUMMARY:Collecte déplacée - Compost et recyclage
DESCRIPTION:Prenez note que la collecte du 7 septembre est déplacée au 11 septembre. \nSecteur : St-Fabien-sur-Mer\, route Ladrière\, rang 2 est et ouest\, rang 3 est et ouest
URL:https://www.saint-fabien.ca/event-calendar/collecte-deplacee-compost-et-recyclage-3/
LOCATION:municipalité de Saint-Fabien\, 20-A 7 Avenue\, Saint-Fabien\, Québec\, G0L2Z0\, Canada
CATEGORIES:Compost et recyclage - Mer et Rangs
GEO:48.2935897;-68.8658383
X-APPLE-STRUCTURED-LOCATION;VALUE=URI;X-ADDRESS=municipalité de Saint-Fabien 20-A 7 Avenue Saint-Fabien Québec G0L2Z0 Canada;X-APPLE-RADIUS=500;X-TITLE=20-A 7 Avenue:geo:-68.8658383,48.2935897
END:VEVENT
BEGIN:VEVENT
DTSTART;VALUE=DATE:20260911
DTEND;VALUE=DATE:20260912
DTSTAMP:20260422T233032
CREATED:20251215T163059Z
LAST-MODIFIED:20260129T211003Z
UID:10026119-1789113600-1789146000@www.saint-fabien.ca
SUMMARY:Compost et recyclage - Village et 132
DESCRIPTION:Secteurs : Village\, rang 1 est et ouest\, route 132
URL:https://www.saint-fabien.ca/event-calendar/compost-et-recyclage-village-et-132/2026-09-11/
LOCATION:municipalité de Saint-Fabien\, 20-A 7 Avenue\, Saint-Fabien\, Québec\, G0L2Z0\, Canada
CATEGORIES:Compost et déchets - Village et 132
GEO:48.2935897;-68.8658383
X-APPLE-STRUCTURED-LOCATION;VALUE=URI;X-ADDRESS=municipalité de Saint-Fabien 20-A 7 Avenue Saint-Fabien Québec G0L2Z0 Canada;X-APPLE-RADIUS=500;X-TITLE=20-A 7 Avenue:geo:-68.8658383,48.2935897
END:VEVENT
BEGIN:VEVENT
DTSTART;VALUE=DATE:20260914
DTEND;VALUE=DATE:20260915
DTSTAMP:20260422T233032
CREATED:20251215T163738Z
LAST-MODIFIED:20251215T163738Z
UID:10026132-1789372800-1789405200@www.saint-fabien.ca
SUMMARY:Compost et déchets - Mer et rangs
DESCRIPTION:Secteur : St-Fabien-sur-Mer\, route Ladrière\, rang 2 est et ouest\, rang 3 est et ouest
URL:https://www.saint-fabien.ca/event-calendar/compost-et-dechets-mer-et-rangs/2026-09-14/
LOCATION:municipalité de Saint-Fabien\, 20-A 7 Avenue\, Saint-Fabien\, Québec\, G0L2Z0\, Canada
CATEGORIES:Compost et déchets - Mer et Rangs
GEO:48.2935897;-68.8658383
X-APPLE-STRUCTURED-LOCATION;VALUE=URI;X-ADDRESS=municipalité de Saint-Fabien 20-A 7 Avenue Saint-Fabien Québec G0L2Z0 Canada;X-APPLE-RADIUS=500;X-TITLE=20-A 7 Avenue:geo:-68.8658383,48.2935897
END:VEVENT
BEGIN:VEVENT
DTSTART;TZID=America/Toronto:20260914T190000
DTEND;TZID=America/Toronto:20260914T210000
DTSTAMP:20260422T233032
CREATED:20251215T193658Z
LAST-MODIFIED:20260129T211300Z
UID:10026166-1789412400-1789419600@www.saint-fabien.ca
SUMMARY:Séances ordinaires du conseil municipal
DESCRIPTION:Les séances publiques du conseil municipales se déroulent au sous-sol du bureau municipal situé au 20-A\, 7e Avenue.
URL:https://www.saint-fabien.ca/event-calendar/seances-ordinaires-du-conseil-municipal-3/2026-09-14/
LOCATION:municipalité de Saint-Fabien\, 20-A 7 Avenue\, Saint-Fabien\, Québec\, G0L2Z0\, Canada
CATEGORIES:Vie municipale
GEO:48.2935897;-68.8658383
X-APPLE-STRUCTURED-LOCATION;VALUE=URI;X-ADDRESS=municipalité de Saint-Fabien 20-A 7 Avenue Saint-Fabien Québec G0L2Z0 Canada;X-APPLE-RADIUS=500;X-TITLE=20-A 7 Avenue:geo:-68.8658383,48.2935897
END:VEVENT
BEGIN:VEVENT
DTSTART;VALUE=DATE:20260918
DTEND;VALUE=DATE:20260919
DTSTAMP:20260422T233032
CREATED:20251215T164209Z
LAST-MODIFIED:20251215T164209Z
UID:10026148-1789718400-1789750800@www.saint-fabien.ca
SUMMARY:Compost et déchets - Village et 132
DESCRIPTION:Secteur : Village\, rang 1 est et ouest\, route 132
URL:https://www.saint-fabien.ca/event-calendar/compost-et-dechets-village-et-132/2026-09-18/
LOCATION:municipalité de Saint-Fabien\, 20-A 7 Avenue\, Saint-Fabien\, Québec\, G0L2Z0\, Canada
CATEGORIES:Compost et déchets - Village et 132
GEO:48.2935897;-68.8658383
X-APPLE-STRUCTURED-LOCATION;VALUE=URI;X-ADDRESS=municipalité de Saint-Fabien 20-A 7 Avenue Saint-Fabien Québec G0L2Z0 Canada;X-APPLE-RADIUS=500;X-TITLE=20-A 7 Avenue:geo:-68.8658383,48.2935897
END:VEVENT
BEGIN:VEVENT
DTSTART;VALUE=DATE:20260921
DTEND;VALUE=DATE:20260922
DTSTAMP:20260422T233032
CREATED:20251215T161044Z
LAST-MODIFIED:20260129T210917Z
UID:10026102-1789977600-1790010000@www.saint-fabien.ca
SUMMARY:Compost et recyclage - Mer et Rangs
DESCRIPTION:Secteur : St-Fabien-sur-Mer\, route Ladrière\, rang 2 est et ouest\, rang 3 est et ouest
URL:https://www.saint-fabien.ca/event-calendar/compost-et-recyclage-mer-et-rangs/2026-09-21/
LOCATION:municipalité de Saint-Fabien\, 20-A 7 Avenue\, Saint-Fabien\, Québec\, G0L2Z0\, Canada
CATEGORIES:Compost et recyclage - Mer et Rangs
GEO:48.2935897;-68.8658383
X-APPLE-STRUCTURED-LOCATION;VALUE=URI;X-ADDRESS=municipalité de Saint-Fabien 20-A 7 Avenue Saint-Fabien Québec G0L2Z0 Canada;X-APPLE-RADIUS=500;X-TITLE=20-A 7 Avenue:geo:-68.8658383,48.2935897
END:VEVENT
BEGIN:VEVENT
DTSTART;VALUE=DATE:20260925
DTEND;VALUE=DATE:20260926
DTSTAMP:20260422T233032
CREATED:20251215T163059Z
LAST-MODIFIED:20260129T211003Z
UID:10026120-1790323200-1790355600@www.saint-fabien.ca
SUMMARY:Compost et recyclage - Village et 132
DESCRIPTION:Secteurs : Village\, rang 1 est et ouest\, route 132
URL:https://www.saint-fabien.ca/event-calendar/compost-et-recyclage-village-et-132/2026-09-25/
LOCATION:municipalité de Saint-Fabien\, 20-A 7 Avenue\, Saint-Fabien\, Québec\, G0L2Z0\, Canada
CATEGORIES:Compost et déchets - Village et 132
GEO:48.2935897;-68.8658383
X-APPLE-STRUCTURED-LOCATION;VALUE=URI;X-ADDRESS=municipalité de Saint-Fabien 20-A 7 Avenue Saint-Fabien Québec G0L2Z0 Canada;X-APPLE-RADIUS=500;X-TITLE=20-A 7 Avenue:geo:-68.8658383,48.2935897
END:VEVENT
BEGIN:VEVENT
DTSTART;VALUE=DATE:20260928
DTEND;VALUE=DATE:20260929
DTSTAMP:20260422T233032
CREATED:20251215T163738Z
LAST-MODIFIED:20251215T163738Z
UID:10026133-1790582400-1790614800@www.saint-fabien.ca
SUMMARY:Compost et déchets - Mer et rangs
DESCRIPTION:Secteur : St-Fabien-sur-Mer\, route Ladrière\, rang 2 est et ouest\, rang 3 est et ouest
URL:https://www.saint-fabien.ca/event-calendar/compost-et-dechets-mer-et-rangs/2026-09-28/
LOCATION:municipalité de Saint-Fabien\, 20-A 7 Avenue\, Saint-Fabien\, Québec\, G0L2Z0\, Canada
CATEGORIES:Compost et déchets - Mer et Rangs
GEO:48.2935897;-68.8658383
X-APPLE-STRUCTURED-LOCATION;VALUE=URI;X-ADDRESS=municipalité de Saint-Fabien 20-A 7 Avenue Saint-Fabien Québec G0L2Z0 Canada;X-APPLE-RADIUS=500;X-TITLE=20-A 7 Avenue:geo:-68.8658383,48.2935897
END:VEVENT
END:VCALENDAR