BEGIN:VCALENDAR
VERSION:2.0
PRODID:-//Municipalité de Saint-Fabien - ECPv6.15.20//NONSGML v1.0//EN
CALSCALE:GREGORIAN
METHOD:PUBLISH
X-ORIGINAL-URL:https://www.saint-fabien.ca
X-WR-CALDESC:Évènements pour Municipalité de Saint-Fabien
REFRESH-INTERVAL;VALUE=DURATION:PT1H
X-Robots-Tag:noindex
X-PUBLISHED-TTL:PT1H
BEGIN:VTIMEZONE
TZID:America/Toronto
BEGIN:DAYLIGHT
TZOFFSETFROM:-0500
TZOFFSETTO:-0400
TZNAME:EDT
DTSTART:20250309T070000
END:DAYLIGHT
BEGIN:STANDARD
TZOFFSETFROM:-0400
TZOFFSETTO:-0500
TZNAME:EST
DTSTART:20251102T060000
END:STANDARD
BEGIN:DAYLIGHT
TZOFFSETFROM:-0500
TZOFFSETTO:-0400
TZNAME:EDT
DTSTART:20260308T070000
END:DAYLIGHT
BEGIN:STANDARD
TZOFFSETFROM:-0400
TZOFFSETTO:-0500
TZNAME:EST
DTSTART:20261101T060000
END:STANDARD
BEGIN:DAYLIGHT
TZOFFSETFROM:-0500
TZOFFSETTO:-0400
TZNAME:EDT
DTSTART:20270314T070000
END:DAYLIGHT
BEGIN:STANDARD
TZOFFSETFROM:-0400
TZOFFSETTO:-0500
TZNAME:EST
DTSTART:20271107T060000
END:STANDARD
END:VTIMEZONE
BEGIN:VEVENT
DTSTART;VALUE=DATE:20261002
DTEND;VALUE=DATE:20261003
DTSTAMP:20260420T162425
CREATED:20251215T164209Z
LAST-MODIFIED:20251215T164209Z
UID:10026149-1790928000-1790960400@www.saint-fabien.ca
SUMMARY:Compost et déchets - Village et 132
DESCRIPTION:Secteur : Village\, rang 1 est et ouest\, route 132
URL:https://www.saint-fabien.ca/event-calendar/compost-et-dechets-village-et-132/2026-10-02/
LOCATION:municipalité de Saint-Fabien\, 20-A 7 Avenue\, Saint-Fabien\, Québec\, G0L2Z0\, Canada
CATEGORIES:Compost et déchets - Village et 132
GEO:48.2935897;-68.8658383
X-APPLE-STRUCTURED-LOCATION;VALUE=URI;X-ADDRESS=municipalité de Saint-Fabien 20-A 7 Avenue Saint-Fabien Québec G0L2Z0 Canada;X-APPLE-RADIUS=500;X-TITLE=20-A 7 Avenue:geo:-68.8658383,48.2935897
END:VEVENT
BEGIN:VEVENT
DTSTART;VALUE=DATE:20261005
DTEND;VALUE=DATE:20261006
DTSTAMP:20260420T162425
CREATED:20251215T161044Z
LAST-MODIFIED:20260129T210917Z
UID:10026103-1791187200-1791219600@www.saint-fabien.ca
SUMMARY:Compost et recyclage - Mer et Rangs
DESCRIPTION:Secteur : St-Fabien-sur-Mer\, route Ladrière\, rang 2 est et ouest\, rang 3 est et ouest
URL:https://www.saint-fabien.ca/event-calendar/compost-et-recyclage-mer-et-rangs/2026-10-05/
LOCATION:municipalité de Saint-Fabien\, 20-A 7 Avenue\, Saint-Fabien\, Québec\, G0L2Z0\, Canada
CATEGORIES:Compost et recyclage - Mer et Rangs
GEO:48.2935897;-68.8658383
X-APPLE-STRUCTURED-LOCATION;VALUE=URI;X-ADDRESS=municipalité de Saint-Fabien 20-A 7 Avenue Saint-Fabien Québec G0L2Z0 Canada;X-APPLE-RADIUS=500;X-TITLE=20-A 7 Avenue:geo:-68.8658383,48.2935897
END:VEVENT
BEGIN:VEVENT
DTSTART;VALUE=DATE:20261009
DTEND;VALUE=DATE:20261010
DTSTAMP:20260420T162425
CREATED:20251215T163059Z
LAST-MODIFIED:20260129T211003Z
UID:10026121-1791532800-1791565200@www.saint-fabien.ca
SUMMARY:Compost et recyclage - Village et 132
DESCRIPTION:Secteurs : Village\, rang 1 est et ouest\, route 132
URL:https://www.saint-fabien.ca/event-calendar/compost-et-recyclage-village-et-132/2026-10-09/
LOCATION:municipalité de Saint-Fabien\, 20-A 7 Avenue\, Saint-Fabien\, Québec\, G0L2Z0\, Canada
CATEGORIES:Compost et déchets - Village et 132
GEO:48.2935897;-68.8658383
X-APPLE-STRUCTURED-LOCATION;VALUE=URI;X-ADDRESS=municipalité de Saint-Fabien 20-A 7 Avenue Saint-Fabien Québec G0L2Z0 Canada;X-APPLE-RADIUS=500;X-TITLE=20-A 7 Avenue:geo:-68.8658383,48.2935897
END:VEVENT
BEGIN:VEVENT
DTSTART;VALUE=DATE:20261012
DTEND;VALUE=DATE:20261013
DTSTAMP:20260420T162425
CREATED:20251215T163738Z
LAST-MODIFIED:20251215T163738Z
UID:10026134-1791792000-1791824400@www.saint-fabien.ca
SUMMARY:Compost et déchets - Mer et rangs
DESCRIPTION:Secteur : St-Fabien-sur-Mer\, route Ladrière\, rang 2 est et ouest\, rang 3 est et ouest
URL:https://www.saint-fabien.ca/event-calendar/compost-et-dechets-mer-et-rangs/2026-10-12/
LOCATION:municipalité de Saint-Fabien\, 20-A 7 Avenue\, Saint-Fabien\, Québec\, G0L2Z0\, Canada
CATEGORIES:Compost et déchets - Mer et Rangs
GEO:48.2935897;-68.8658383
X-APPLE-STRUCTURED-LOCATION;VALUE=URI;X-ADDRESS=municipalité de Saint-Fabien 20-A 7 Avenue Saint-Fabien Québec G0L2Z0 Canada;X-APPLE-RADIUS=500;X-TITLE=20-A 7 Avenue:geo:-68.8658383,48.2935897
END:VEVENT
BEGIN:VEVENT
DTSTART;TZID=America/Toronto:20261013T190000
DTEND;TZID=America/Toronto:20261013T210000
DTSTAMP:20260420T162425
CREATED:20251215T193658Z
LAST-MODIFIED:20260129T211300Z
UID:10026167-1791918000-1791925200@www.saint-fabien.ca
SUMMARY:Séances ordinaires du conseil municipal
DESCRIPTION:Les séances publiques du conseil municipales se déroulent au sous-sol du bureau municipal situé au 20-A\, 7e Avenue.
URL:https://www.saint-fabien.ca/event-calendar/seances-ordinaires-du-conseil-municipal-3/2026-10-13/
LOCATION:municipalité de Saint-Fabien\, 20-A 7 Avenue\, Saint-Fabien\, Québec\, G0L2Z0\, Canada
CATEGORIES:Vie municipale
GEO:48.2935897;-68.8658383
X-APPLE-STRUCTURED-LOCATION;VALUE=URI;X-ADDRESS=municipalité de Saint-Fabien 20-A 7 Avenue Saint-Fabien Québec G0L2Z0 Canada;X-APPLE-RADIUS=500;X-TITLE=20-A 7 Avenue:geo:-68.8658383,48.2935897
END:VEVENT
BEGIN:VEVENT
DTSTART;VALUE=DATE:20261016
DTEND;VALUE=DATE:20261017
DTSTAMP:20260420T162425
CREATED:20251215T164209Z
LAST-MODIFIED:20251215T164209Z
UID:10026150-1792137600-1792170000@www.saint-fabien.ca
SUMMARY:Compost et déchets - Village et 132
DESCRIPTION:Secteur : Village\, rang 1 est et ouest\, route 132
URL:https://www.saint-fabien.ca/event-calendar/compost-et-dechets-village-et-132/2026-10-16/
LOCATION:municipalité de Saint-Fabien\, 20-A 7 Avenue\, Saint-Fabien\, Québec\, G0L2Z0\, Canada
CATEGORIES:Compost et déchets - Village et 132
GEO:48.2935897;-68.8658383
X-APPLE-STRUCTURED-LOCATION;VALUE=URI;X-ADDRESS=municipalité de Saint-Fabien 20-A 7 Avenue Saint-Fabien Québec G0L2Z0 Canada;X-APPLE-RADIUS=500;X-TITLE=20-A 7 Avenue:geo:-68.8658383,48.2935897
END:VEVENT
BEGIN:VEVENT
DTSTART;VALUE=DATE:20261019
DTEND;VALUE=DATE:20261020
DTSTAMP:20260420T162425
CREATED:20251215T160026Z
LAST-MODIFIED:20260129T211134Z
UID:10026075-1792396800-1792429200@www.saint-fabien.ca
SUMMARY:Recyclage - Mer et rangs
DESCRIPTION:Secteur : St-Fabien-sur-Mer\, Route Ladrière\, Rang 2 est et ouest\, Rang 3 est et ouest
URL:https://www.saint-fabien.ca/event-calendar/recyclage-mer-et-rangs/2026-10-19/
LOCATION:municipalité de Saint-Fabien\, 20-A 7 Avenue\, Saint-Fabien\, Québec\, G0L2Z0\, Canada
CATEGORIES:Recyclage - Mer et Rangs
GEO:48.2935897;-68.8658383
X-APPLE-STRUCTURED-LOCATION;VALUE=URI;X-ADDRESS=municipalité de Saint-Fabien 20-A 7 Avenue Saint-Fabien Québec G0L2Z0 Canada;X-APPLE-RADIUS=500;X-TITLE=20-A 7 Avenue:geo:-68.8658383,48.2935897
END:VEVENT
BEGIN:VEVENT
DTSTART;VALUE=DATE:20261023
DTEND;VALUE=DATE:20261024
DTSTAMP:20260420T162425
CREATED:20251215T160454Z
LAST-MODIFIED:20260129T210553Z
UID:10026085-1792742400-1792774800@www.saint-fabien.ca
SUMMARY:Recyclage - Village et 132
DESCRIPTION:Secteur : Village\, rang 1 est et ouest\, route 132
URL:https://www.saint-fabien.ca/event-calendar/recyclage-village-et-132/2026-10-23/
LOCATION:municipalité de Saint-Fabien\, 20-A 7 Avenue\, Saint-Fabien\, Québec\, G0L2Z0\, Canada
CATEGORIES:Recyclage - Village et 132
GEO:48.2935897;-68.8658383
X-APPLE-STRUCTURED-LOCATION;VALUE=URI;X-ADDRESS=municipalité de Saint-Fabien 20-A 7 Avenue Saint-Fabien Québec G0L2Z0 Canada;X-APPLE-RADIUS=500;X-TITLE=20-A 7 Avenue:geo:-68.8658383,48.2935897
END:VEVENT
BEGIN:VEVENT
DTSTART;VALUE=DATE:20261026
DTEND;VALUE=DATE:20261027
DTSTAMP:20260420T162425
CREATED:20251215T163738Z
LAST-MODIFIED:20251215T163738Z
UID:10026135-1793001600-1793034000@www.saint-fabien.ca
SUMMARY:Compost et déchets - Mer et rangs
DESCRIPTION:Secteur : St-Fabien-sur-Mer\, route Ladrière\, rang 2 est et ouest\, rang 3 est et ouest
URL:https://www.saint-fabien.ca/event-calendar/compost-et-dechets-mer-et-rangs/2026-10-26/
LOCATION:municipalité de Saint-Fabien\, 20-A 7 Avenue\, Saint-Fabien\, Québec\, G0L2Z0\, Canada
CATEGORIES:Compost et déchets - Mer et Rangs
GEO:48.2935897;-68.8658383
X-APPLE-STRUCTURED-LOCATION;VALUE=URI;X-ADDRESS=municipalité de Saint-Fabien 20-A 7 Avenue Saint-Fabien Québec G0L2Z0 Canada;X-APPLE-RADIUS=500;X-TITLE=20-A 7 Avenue:geo:-68.8658383,48.2935897
END:VEVENT
BEGIN:VEVENT
DTSTART;VALUE=DATE:20261030
DTEND;VALUE=DATE:20261031
DTSTAMP:20260420T162425
CREATED:20251215T164209Z
LAST-MODIFIED:20251215T164209Z
UID:10026151-1793347200-1793379600@www.saint-fabien.ca
SUMMARY:Compost et déchets - Village et 132
DESCRIPTION:Secteur : Village\, rang 1 est et ouest\, route 132
URL:https://www.saint-fabien.ca/event-calendar/compost-et-dechets-village-et-132/2026-10-30/
LOCATION:municipalité de Saint-Fabien\, 20-A 7 Avenue\, Saint-Fabien\, Québec\, G0L2Z0\, Canada
CATEGORIES:Compost et déchets - Village et 132
GEO:48.2935897;-68.8658383
X-APPLE-STRUCTURED-LOCATION;VALUE=URI;X-ADDRESS=municipalité de Saint-Fabien 20-A 7 Avenue Saint-Fabien Québec G0L2Z0 Canada;X-APPLE-RADIUS=500;X-TITLE=20-A 7 Avenue:geo:-68.8658383,48.2935897
END:VEVENT
END:VCALENDAR