BEGIN:VCALENDAR
VERSION:2.0
PRODID:-//Municipalité de Saint-Fabien - ECPv6.15.20//NONSGML v1.0//EN
CALSCALE:GREGORIAN
METHOD:PUBLISH
X-WR-CALNAME:Municipalité de Saint-Fabien
X-ORIGINAL-URL:https://www.saint-fabien.ca
X-WR-CALDESC:Évènements pour Municipalité de Saint-Fabien
REFRESH-INTERVAL;VALUE=DURATION:PT1H
X-Robots-Tag:noindex
X-PUBLISHED-TTL:PT1H
BEGIN:VTIMEZONE
TZID:America/Toronto
BEGIN:DAYLIGHT
TZOFFSETFROM:-0500
TZOFFSETTO:-0400
TZNAME:EDT
DTSTART:20210314T070000
END:DAYLIGHT
BEGIN:STANDARD
TZOFFSETFROM:-0400
TZOFFSETTO:-0500
TZNAME:EST
DTSTART:20211107T060000
END:STANDARD
BEGIN:DAYLIGHT
TZOFFSETFROM:-0500
TZOFFSETTO:-0400
TZNAME:EDT
DTSTART:20220313T070000
END:DAYLIGHT
BEGIN:STANDARD
TZOFFSETFROM:-0400
TZOFFSETTO:-0500
TZNAME:EST
DTSTART:20221106T060000
END:STANDARD
BEGIN:DAYLIGHT
TZOFFSETFROM:-0500
TZOFFSETTO:-0400
TZNAME:EDT
DTSTART:20230312T070000
END:DAYLIGHT
BEGIN:STANDARD
TZOFFSETFROM:-0400
TZOFFSETTO:-0500
TZNAME:EST
DTSTART:20231105T060000
END:STANDARD
END:VTIMEZONE
BEGIN:VEVENT
DTSTART;TZID=America/Toronto:20221118T160000
DTEND;TZID=America/Toronto:20221118T164500
DTSTAMP:20260421T071409
CREATED:20221114T163906Z
LAST-MODIFIED:20221114T163906Z
UID:10025320-1668787200-1668789900@www.saint-fabien.ca
SUMMARY:Patinage libre
DESCRIPTION:
URL:https://www.saint-fabien.ca/event-calendar/patinage-libre-222/
LOCATION:pavillon des loisirs\, 32 8e Avenue Ouest\, Saint-Fabien\, Québec\, G0L2Z0\, Canada
CATEGORIES:Patin libre,Sports et loisirs
ORGANIZER;CN="Les Loisirs St-Fabien Inc.":MAILTO:loisirss@cgocable.ca
GEO:48.2924537;-68.8624063
X-APPLE-STRUCTURED-LOCATION;VALUE=URI;X-ADDRESS=pavillon des loisirs 32 8e Avenue Ouest Saint-Fabien Québec G0L2Z0 Canada;X-APPLE-RADIUS=500;X-TITLE=32 8e Avenue Ouest:geo:-68.8624063,48.2924537
END:VEVENT
BEGIN:VEVENT
DTSTART;TZID=America/Toronto:20221120T090000
DTEND;TZID=America/Toronto:20221120T140000
DTSTAMP:20260421T071409
CREATED:20221103T180329Z
LAST-MODIFIED:20221103T180329Z
UID:10025316-1668934800-1668952800@www.saint-fabien.ca
SUMMARY:Marché de Noël !!
DESCRIPTION:Le Club optimiste\, en collaboration avec les Loisirs St-Fabien et la Municipalité\, est très ﬁer de présenter encore cette année son très populaire et toujours attendu Marché de Noël.\nDe 10h à 15h le 20 novembre prochain au Pavillon des loisirs\, il sera ainsi possible de visiter les kiosques de plus de trente artisans et de dénicher des cadeaux originaux pour toute la famille. Munissez-vous toutefois d’argent comptant\, puisque les artisans ne disposeront pas de terminaux de paiement.\nDeux paniers remplis de produits des exposants participants feront aussi l’objet d’un tirage par-mi les visiteurs qui se seront procuré des coupons (1 pour 2$ / 4 pour 5$).\nProﬁtez de cette belle occasion pour découvrir ou redécouvrir les talents d’ici!\nL’entrée est gratuite.
URL:https://www.saint-fabien.ca/event-calendar/marche-de-noel/
LOCATION:pavillon des loisirs\, 32 8e Avenue Ouest\, Saint-Fabien\, Québec\, G0L2Z0\, Canada
CATEGORIES:Autres
ATTACH;FMTTYPE=image/png:https://www.saint-fabien.ca/wp-content/uploads/2022/11/Capture-décran-le-2022-11-03-à-10.44.49.png
GEO:48.2924537;-68.8624063
X-APPLE-STRUCTURED-LOCATION;VALUE=URI;X-ADDRESS=pavillon des loisirs 32 8e Avenue Ouest Saint-Fabien Québec G0L2Z0 Canada;X-APPLE-RADIUS=500;X-TITLE=32 8e Avenue Ouest:geo:-68.8624063,48.2924537
END:VEVENT
BEGIN:VEVENT
DTSTART;TZID=America/Toronto:20221120T144500
DTEND;TZID=America/Toronto:20221120T153000
DTSTAMP:20260421T071409
CREATED:20221121T153151Z
LAST-MODIFIED:20221121T153151Z
UID:10025323-1668955500-1668958200@www.saint-fabien.ca
SUMMARY:Hockey libre
DESCRIPTION:
URL:https://www.saint-fabien.ca/event-calendar/hockey-libre-220/
LOCATION:pavillon des loisirs\, 32 8e Avenue Ouest\, Saint-Fabien\, Québec\, G0L2Z0\, Canada
CATEGORIES:Sports et loisirs
ORGANIZER;CN="Les Loisirs St-Fabien Inc.":MAILTO:loisirss@cgocable.ca
GEO:48.2924537;-68.8624063
X-APPLE-STRUCTURED-LOCATION;VALUE=URI;X-ADDRESS=pavillon des loisirs 32 8e Avenue Ouest Saint-Fabien Québec G0L2Z0 Canada;X-APPLE-RADIUS=500;X-TITLE=32 8e Avenue Ouest:geo:-68.8624063,48.2924537
END:VEVENT
END:VCALENDAR