BEGIN:VCALENDAR
VERSION:2.0
PRODID:-//Municipalité de Saint-Fabien - ECPv6.15.20//NONSGML v1.0//EN
CALSCALE:GREGORIAN
METHOD:PUBLISH
X-ORIGINAL-URL:https://www.saint-fabien.ca
X-WR-CALDESC:Évènements pour Municipalité de Saint-Fabien
REFRESH-INTERVAL;VALUE=DURATION:PT1H
X-Robots-Tag:noindex
X-PUBLISHED-TTL:PT1H
BEGIN:VTIMEZONE
TZID:America/Toronto
BEGIN:DAYLIGHT
TZOFFSETFROM:-0500
TZOFFSETTO:-0400
TZNAME:EDT
DTSTART:20210314T070000
END:DAYLIGHT
BEGIN:STANDARD
TZOFFSETFROM:-0400
TZOFFSETTO:-0500
TZNAME:EST
DTSTART:20211107T060000
END:STANDARD
BEGIN:DAYLIGHT
TZOFFSETFROM:-0500
TZOFFSETTO:-0400
TZNAME:EDT
DTSTART:20220313T070000
END:DAYLIGHT
BEGIN:STANDARD
TZOFFSETFROM:-0400
TZOFFSETTO:-0500
TZNAME:EST
DTSTART:20221106T060000
END:STANDARD
BEGIN:DAYLIGHT
TZOFFSETFROM:-0500
TZOFFSETTO:-0400
TZNAME:EDT
DTSTART:20230312T070000
END:DAYLIGHT
BEGIN:STANDARD
TZOFFSETFROM:-0400
TZOFFSETTO:-0500
TZNAME:EST
DTSTART:20231105T060000
END:STANDARD
END:VTIMEZONE
BEGIN:VEVENT
DTSTART;TZID=America/Toronto:20221227T114500
DTEND;TZID=America/Toronto:20221227T124500
DTSTAMP:20260421T065531
CREATED:20221225T222043Z
LAST-MODIFIED:20221225T222043Z
UID:10025338-1672141500-1672145100@www.saint-fabien.ca
SUMMARY:Patinage libre
DESCRIPTION:
URL:https://www.saint-fabien.ca/event-calendar/patinage-libre-229/
LOCATION:pavillon des loisirs\, 32 8e Avenue Ouest\, Saint-Fabien\, Québec\, G0L2Z0\, Canada
CATEGORIES:Sports et loisirs
ORGANIZER;CN="Les Loisirs St-Fabien Inc.":MAILTO:loisirss@cgocable.ca
GEO:48.2924537;-68.8624063
X-APPLE-STRUCTURED-LOCATION;VALUE=URI;X-ADDRESS=pavillon des loisirs 32 8e Avenue Ouest Saint-Fabien Québec G0L2Z0 Canada;X-APPLE-RADIUS=500;X-TITLE=32 8e Avenue Ouest:geo:-68.8624063,48.2924537
END:VEVENT
BEGIN:VEVENT
DTSTART;TZID=America/Toronto:20221227T124500
DTEND;TZID=America/Toronto:20221227T134500
DTSTAMP:20260421T065531
CREATED:20221225T222148Z
LAST-MODIFIED:20221225T222148Z
UID:10025339-1672145100-1672148700@www.saint-fabien.ca
SUMMARY:Hockey libre
DESCRIPTION:
URL:https://www.saint-fabien.ca/event-calendar/hockey-libre-226/
LOCATION:pavillon des loisirs\, 32 8e Avenue Ouest\, Saint-Fabien\, Québec\, G0L2Z0\, Canada
CATEGORIES:Sports et loisirs
ORGANIZER;CN="Les Loisirs St-Fabien Inc.":MAILTO:loisirss@cgocable.ca
GEO:48.2924537;-68.8624063
X-APPLE-STRUCTURED-LOCATION;VALUE=URI;X-ADDRESS=pavillon des loisirs 32 8e Avenue Ouest Saint-Fabien Québec G0L2Z0 Canada;X-APPLE-RADIUS=500;X-TITLE=32 8e Avenue Ouest:geo:-68.8624063,48.2924537
END:VEVENT
BEGIN:VEVENT
DTSTART;TZID=America/Toronto:20221227T173000
DTEND;TZID=America/Toronto:20221227T183000
DTSTAMP:20260421T065531
CREATED:20221225T222243Z
LAST-MODIFIED:20221225T222243Z
UID:10025340-1672162200-1672165800@www.saint-fabien.ca
SUMMARY:Patinage libre
DESCRIPTION:
URL:https://www.saint-fabien.ca/event-calendar/patinage-libre-230/
LOCATION:pavillon des loisirs\, 32 8e Avenue Ouest\, Saint-Fabien\, Québec\, G0L2Z0\, Canada
CATEGORIES:Sports et loisirs
ORGANIZER;CN="Les Loisirs St-Fabien Inc.":MAILTO:loisirss@cgocable.ca
GEO:48.2924537;-68.8624063
X-APPLE-STRUCTURED-LOCATION;VALUE=URI;X-ADDRESS=pavillon des loisirs 32 8e Avenue Ouest Saint-Fabien Québec G0L2Z0 Canada;X-APPLE-RADIUS=500;X-TITLE=32 8e Avenue Ouest:geo:-68.8624063,48.2924537
END:VEVENT
BEGIN:VEVENT
DTSTART;TZID=America/Toronto:20221227T183000
DTEND;TZID=America/Toronto:20221227T193000
DTSTAMP:20260421T065531
CREATED:20221225T222337Z
LAST-MODIFIED:20221225T222337Z
UID:10025341-1672165800-1672169400@www.saint-fabien.ca
SUMMARY:Hockey libre
DESCRIPTION:
URL:https://www.saint-fabien.ca/event-calendar/hockey-libre-227/
LOCATION:pavillon des loisirs\, 32 8e Avenue Ouest\, Saint-Fabien\, Québec\, G0L2Z0\, Canada
CATEGORIES:Sports et loisirs
ORGANIZER;CN="Les Loisirs St-Fabien Inc.":MAILTO:loisirss@cgocable.ca
GEO:48.2924537;-68.8624063
X-APPLE-STRUCTURED-LOCATION;VALUE=URI;X-ADDRESS=pavillon des loisirs 32 8e Avenue Ouest Saint-Fabien Québec G0L2Z0 Canada;X-APPLE-RADIUS=500;X-TITLE=32 8e Avenue Ouest:geo:-68.8624063,48.2924537
END:VEVENT
BEGIN:VEVENT
DTSTART;TZID=America/Toronto:20221228T114500
DTEND;TZID=America/Toronto:20221228T124500
DTSTAMP:20260421T065531
CREATED:20221225T222446Z
LAST-MODIFIED:20221225T222446Z
UID:10025342-1672227900-1672231500@www.saint-fabien.ca
SUMMARY:Patinage libre
DESCRIPTION:
URL:https://www.saint-fabien.ca/event-calendar/patinage-libre-231/
LOCATION:pavillon des loisirs\, 32 8e Avenue Ouest\, Saint-Fabien\, Québec\, G0L2Z0\, Canada
CATEGORIES:Sports et loisirs
ORGANIZER;CN="Les Loisirs St-Fabien Inc.":MAILTO:loisirss@cgocable.ca
GEO:48.2924537;-68.8624063
X-APPLE-STRUCTURED-LOCATION;VALUE=URI;X-ADDRESS=pavillon des loisirs 32 8e Avenue Ouest Saint-Fabien Québec G0L2Z0 Canada;X-APPLE-RADIUS=500;X-TITLE=32 8e Avenue Ouest:geo:-68.8624063,48.2924537
END:VEVENT
BEGIN:VEVENT
DTSTART;TZID=America/Toronto:20221228T124500
DTEND;TZID=America/Toronto:20221228T134500
DTSTAMP:20260421T065531
CREATED:20221225T222559Z
LAST-MODIFIED:20221225T222559Z
UID:10025343-1672231500-1672235100@www.saint-fabien.ca
SUMMARY:Hockey libre
DESCRIPTION:
URL:https://www.saint-fabien.ca/event-calendar/hockey-libre-228/
LOCATION:pavillon des loisirs\, 32 8e Avenue Ouest\, Saint-Fabien\, Québec\, G0L2Z0\, Canada
CATEGORIES:Sports et loisirs
ORGANIZER;CN="Les Loisirs St-Fabien Inc.":MAILTO:loisirss@cgocable.ca
GEO:48.2924537;-68.8624063
X-APPLE-STRUCTURED-LOCATION;VALUE=URI;X-ADDRESS=pavillon des loisirs 32 8e Avenue Ouest Saint-Fabien Québec G0L2Z0 Canada;X-APPLE-RADIUS=500;X-TITLE=32 8e Avenue Ouest:geo:-68.8624063,48.2924537
END:VEVENT
BEGIN:VEVENT
DTSTART;TZID=America/Toronto:20221228T173000
DTEND;TZID=America/Toronto:20221228T183000
DTSTAMP:20260421T065531
CREATED:20221225T222641Z
LAST-MODIFIED:20221225T222641Z
UID:10025344-1672248600-1672252200@www.saint-fabien.ca
SUMMARY:Patinage libre
DESCRIPTION:
URL:https://www.saint-fabien.ca/event-calendar/patinage-libre-232/
LOCATION:pavillon des loisirs\, 32 8e Avenue Ouest\, Saint-Fabien\, Québec\, G0L2Z0\, Canada
CATEGORIES:Sports et loisirs
ORGANIZER;CN="Les Loisirs St-Fabien Inc.":MAILTO:loisirss@cgocable.ca
GEO:48.2924537;-68.8624063
X-APPLE-STRUCTURED-LOCATION;VALUE=URI;X-ADDRESS=pavillon des loisirs 32 8e Avenue Ouest Saint-Fabien Québec G0L2Z0 Canada;X-APPLE-RADIUS=500;X-TITLE=32 8e Avenue Ouest:geo:-68.8624063,48.2924537
END:VEVENT
BEGIN:VEVENT
DTSTART;TZID=America/Toronto:20221228T183000
DTEND;TZID=America/Toronto:20221228T193000
DTSTAMP:20260421T065531
CREATED:20221225T222725Z
LAST-MODIFIED:20221225T222725Z
UID:10025345-1672252200-1672255800@www.saint-fabien.ca
SUMMARY:Hockey libre
DESCRIPTION:
URL:https://www.saint-fabien.ca/event-calendar/hockey-libre-229/
LOCATION:pavillon des loisirs\, 32 8e Avenue Ouest\, Saint-Fabien\, Québec\, G0L2Z0\, Canada
CATEGORIES:Sports et loisirs
ORGANIZER;CN="Les Loisirs St-Fabien Inc.":MAILTO:loisirss@cgocable.ca
GEO:48.2924537;-68.8624063
X-APPLE-STRUCTURED-LOCATION;VALUE=URI;X-ADDRESS=pavillon des loisirs 32 8e Avenue Ouest Saint-Fabien Québec G0L2Z0 Canada;X-APPLE-RADIUS=500;X-TITLE=32 8e Avenue Ouest:geo:-68.8624063,48.2924537
END:VEVENT
BEGIN:VEVENT
DTSTART;TZID=America/Toronto:20221229T093000
DTEND;TZID=America/Toronto:20221229T103000
DTSTAMP:20260421T065531
CREATED:20221225T222819Z
LAST-MODIFIED:20221225T222819Z
UID:10025346-1672306200-1672309800@www.saint-fabien.ca
SUMMARY:Patinage libre
DESCRIPTION:
URL:https://www.saint-fabien.ca/event-calendar/patinage-libre-233/
LOCATION:pavillon des loisirs\, 32 8e Avenue Ouest\, Saint-Fabien\, Québec\, G0L2Z0\, Canada
CATEGORIES:Sports et loisirs
ORGANIZER;CN="Les Loisirs St-Fabien Inc.":MAILTO:loisirss@cgocable.ca
GEO:48.2924537;-68.8624063
X-APPLE-STRUCTURED-LOCATION;VALUE=URI;X-ADDRESS=pavillon des loisirs 32 8e Avenue Ouest Saint-Fabien Québec G0L2Z0 Canada;X-APPLE-RADIUS=500;X-TITLE=32 8e Avenue Ouest:geo:-68.8624063,48.2924537
END:VEVENT
BEGIN:VEVENT
DTSTART;TZID=America/Toronto:20221229T103000
DTEND;TZID=America/Toronto:20221229T113000
DTSTAMP:20260421T065531
CREATED:20221225T222900Z
LAST-MODIFIED:20221225T222900Z
UID:10025347-1672309800-1672313400@www.saint-fabien.ca
SUMMARY:Hockey libre
DESCRIPTION:
URL:https://www.saint-fabien.ca/event-calendar/hockey-libre-230/
LOCATION:pavillon des loisirs\, 32 8e Avenue Ouest\, Saint-Fabien\, Québec\, G0L2Z0\, Canada
CATEGORIES:Sports et loisirs
ORGANIZER;CN="Les Loisirs St-Fabien Inc.":MAILTO:loisirss@cgocable.ca
GEO:48.2924537;-68.8624063
X-APPLE-STRUCTURED-LOCATION;VALUE=URI;X-ADDRESS=pavillon des loisirs 32 8e Avenue Ouest Saint-Fabien Québec G0L2Z0 Canada;X-APPLE-RADIUS=500;X-TITLE=32 8e Avenue Ouest:geo:-68.8624063,48.2924537
END:VEVENT
BEGIN:VEVENT
DTSTART;TZID=America/Toronto:20221229T141500
DTEND;TZID=America/Toronto:20221229T151500
DTSTAMP:20260421T065531
CREATED:20221225T222959Z
LAST-MODIFIED:20221225T222959Z
UID:10025348-1672323300-1672326900@www.saint-fabien.ca
SUMMARY:Patinage libre
DESCRIPTION:
URL:https://www.saint-fabien.ca/event-calendar/patinage-libre-234/
LOCATION:pavillon des loisirs\, 32 8e Avenue Ouest\, Saint-Fabien\, Québec\, G0L2Z0\, Canada
CATEGORIES:Sports et loisirs
ORGANIZER;CN="Les Loisirs St-Fabien Inc.":MAILTO:loisirss@cgocable.ca
GEO:48.2924537;-68.8624063
X-APPLE-STRUCTURED-LOCATION;VALUE=URI;X-ADDRESS=pavillon des loisirs 32 8e Avenue Ouest Saint-Fabien Québec G0L2Z0 Canada;X-APPLE-RADIUS=500;X-TITLE=32 8e Avenue Ouest:geo:-68.8624063,48.2924537
END:VEVENT
BEGIN:VEVENT
DTSTART;TZID=America/Toronto:20221229T151500
DTEND;TZID=America/Toronto:20221229T161500
DTSTAMP:20260421T065531
CREATED:20221225T223052Z
LAST-MODIFIED:20221225T223052Z
UID:10025349-1672326900-1672330500@www.saint-fabien.ca
SUMMARY:Hockey libre
DESCRIPTION:
URL:https://www.saint-fabien.ca/event-calendar/hockey-libre-231/
LOCATION:pavillon des loisirs\, 32 8e Avenue Ouest\, Saint-Fabien\, Québec\, G0L2Z0\, Canada
CATEGORIES:Sports et loisirs
ORGANIZER;CN="Les Loisirs St-Fabien Inc.":MAILTO:loisirss@cgocable.ca
GEO:48.2924537;-68.8624063
X-APPLE-STRUCTURED-LOCATION;VALUE=URI;X-ADDRESS=pavillon des loisirs 32 8e Avenue Ouest Saint-Fabien Québec G0L2Z0 Canada;X-APPLE-RADIUS=500;X-TITLE=32 8e Avenue Ouest:geo:-68.8624063,48.2924537
END:VEVENT
BEGIN:VEVENT
DTSTART;TZID=America/Toronto:20221230T161500
DTEND;TZID=America/Toronto:20221230T171500
DTSTAMP:20260421T065531
CREATED:20221225T223158Z
LAST-MODIFIED:20221225T223158Z
UID:10025350-1672416900-1672420500@www.saint-fabien.ca
SUMMARY:Patinage libre
DESCRIPTION:
URL:https://www.saint-fabien.ca/event-calendar/patinage-libre-235/
LOCATION:pavillon des loisirs\, 32 8e Avenue Ouest\, Saint-Fabien\, Québec\, G0L2Z0\, Canada
CATEGORIES:Sports et loisirs
ORGANIZER;CN="Les Loisirs St-Fabien Inc.":MAILTO:loisirss@cgocable.ca
GEO:48.2924537;-68.8624063
X-APPLE-STRUCTURED-LOCATION;VALUE=URI;X-ADDRESS=pavillon des loisirs 32 8e Avenue Ouest Saint-Fabien Québec G0L2Z0 Canada;X-APPLE-RADIUS=500;X-TITLE=32 8e Avenue Ouest:geo:-68.8624063,48.2924537
END:VEVENT
BEGIN:VEVENT
DTSTART;TZID=America/Toronto:20221230T171500
DTEND;TZID=America/Toronto:20221230T181500
DTSTAMP:20260421T065531
CREATED:20221225T223246Z
LAST-MODIFIED:20221225T223246Z
UID:10025351-1672420500-1672424100@www.saint-fabien.ca
SUMMARY:Hockey libre
DESCRIPTION:
URL:https://www.saint-fabien.ca/event-calendar/hockey-libre-232/
LOCATION:pavillon des loisirs\, 32 8e Avenue Ouest\, Saint-Fabien\, Québec\, G0L2Z0\, Canada
CATEGORIES:Sports et loisirs
ORGANIZER;CN="Les Loisirs St-Fabien Inc.":MAILTO:loisirss@cgocable.ca
GEO:48.2924537;-68.8624063
X-APPLE-STRUCTURED-LOCATION;VALUE=URI;X-ADDRESS=pavillon des loisirs 32 8e Avenue Ouest Saint-Fabien Québec G0L2Z0 Canada;X-APPLE-RADIUS=500;X-TITLE=32 8e Avenue Ouest:geo:-68.8624063,48.2924537
END:VEVENT
BEGIN:VEVENT
DTSTART;TZID=America/Toronto:20221231T121500
DTEND;TZID=America/Toronto:20221231T131500
DTSTAMP:20260421T065531
CREATED:20221225T223336Z
LAST-MODIFIED:20221225T223336Z
UID:10025352-1672488900-1672492500@www.saint-fabien.ca
SUMMARY:Patinage libre
DESCRIPTION:
URL:https://www.saint-fabien.ca/event-calendar/patinage-libre-236/
LOCATION:pavillon des loisirs\, 32 8e Avenue Ouest\, Saint-Fabien\, Québec\, G0L2Z0\, Canada
CATEGORIES:Sports et loisirs
ORGANIZER;CN="Les Loisirs St-Fabien Inc.":MAILTO:loisirss@cgocable.ca
GEO:48.2924537;-68.8624063
X-APPLE-STRUCTURED-LOCATION;VALUE=URI;X-ADDRESS=pavillon des loisirs 32 8e Avenue Ouest Saint-Fabien Québec G0L2Z0 Canada;X-APPLE-RADIUS=500;X-TITLE=32 8e Avenue Ouest:geo:-68.8624063,48.2924537
END:VEVENT
END:VCALENDAR