BEGIN:VCALENDAR
VERSION:2.0
PRODID:-//Municipalité de Saint-Fabien - ECPv6.15.20//NONSGML v1.0//EN
CALSCALE:GREGORIAN
METHOD:PUBLISH
X-WR-CALNAME:Municipalité de Saint-Fabien
X-ORIGINAL-URL:https://www.saint-fabien.ca
X-WR-CALDESC:Évènements pour Municipalité de Saint-Fabien
REFRESH-INTERVAL;VALUE=DURATION:PT1H
X-Robots-Tag:noindex
X-PUBLISHED-TTL:PT1H
BEGIN:VTIMEZONE
TZID:America/Toronto
BEGIN:DAYLIGHT
TZOFFSETFROM:-0500
TZOFFSETTO:-0400
TZNAME:EDT
DTSTART:20230312T070000
END:DAYLIGHT
BEGIN:STANDARD
TZOFFSETFROM:-0400
TZOFFSETTO:-0500
TZNAME:EST
DTSTART:20231105T060000
END:STANDARD
BEGIN:DAYLIGHT
TZOFFSETFROM:-0500
TZOFFSETTO:-0400
TZNAME:EDT
DTSTART:20240310T070000
END:DAYLIGHT
BEGIN:STANDARD
TZOFFSETFROM:-0400
TZOFFSETTO:-0500
TZNAME:EST
DTSTART:20241103T060000
END:STANDARD
BEGIN:DAYLIGHT
TZOFFSETFROM:-0500
TZOFFSETTO:-0400
TZNAME:EDT
DTSTART:20250309T070000
END:DAYLIGHT
BEGIN:STANDARD
TZOFFSETFROM:-0400
TZOFFSETTO:-0500
TZNAME:EST
DTSTART:20251102T060000
END:STANDARD
END:VTIMEZONE
BEGIN:VEVENT
DTSTART;TZID=America/Toronto:20240223T183000
DTEND;TZID=America/Toronto:20240223T191500
DTSTAMP:20260424T195011
CREATED:20240219T171348Z
LAST-MODIFIED:20240219T171348Z
UID:10025655-1708713000-1708715700@www.saint-fabien.ca
SUMMARY:Patinage libre
DESCRIPTION:
URL:https://www.saint-fabien.ca/event-calendar/patinage-libre-310/
LOCATION:pavillon des loisirs\, 32 8e Avenue Ouest\, Saint-Fabien\, Québec\, G0L2Z0\, Canada
CATEGORIES:Sports et loisirs
ORGANIZER;CN="Les Loisirs St-Fabien Inc.":MAILTO:loisirss@cgocable.ca
GEO:48.2924537;-68.8624063
X-APPLE-STRUCTURED-LOCATION;VALUE=URI;X-ADDRESS=pavillon des loisirs 32 8e Avenue Ouest Saint-Fabien Québec G0L2Z0 Canada;X-APPLE-RADIUS=500;X-TITLE=32 8e Avenue Ouest:geo:-68.8624063,48.2924537
END:VEVENT
BEGIN:VEVENT
DTSTART;TZID=America/Toronto:20240224T083000
DTEND;TZID=America/Toronto:20240224T103000
DTSTAMP:20260424T195011
CREATED:20240215T211813Z
LAST-MODIFIED:20240215T211813Z
UID:10025654-1708763400-1708770600@www.saint-fabien.ca
SUMMARY:Suites de la Saint-Valentin - Atelier avec l'artiste relieure Hélène Francoeur
DESCRIPTION:Hélène Francoeur vous invite à fabriquer une enveloppe virevent\, une forme de pliage de papier très ancienne\, qui peut contenir de petits objets ou servir de support à des mots tendres\, des dessins.\nÇa se passe samedi le 24 février à la bibliothèque\, de 9h30 à 11h30. L’atelier est gratuit mais l’inscription obligatoire (418 869-2602). Le matériel et les petits outils sont fournis. Maximum de 8 participants !
URL:https://www.saint-fabien.ca/event-calendar/suites-de-la-saint-valentin-atelier-avec-lartiste-relieure-helene-francoeur/
LOCATION:Bibliothèque Jovette-Bernier\, 30\, 7e Avenue\, Saint-Fabien\, Québec\, G0L2Z0\, Canada
CATEGORIES:Culture
ATTACH;FMTTYPE=image/jpeg:https://www.saint-fabien.ca/wp-content/uploads/2024/02/main-image.jpeg
ORGANIZER;CN="Biblioth%C3%A8que Jovette-Bernier":MAILTO:biblio.fabien@crsbp.net
GEO:48.2928805;-68.8651986
X-APPLE-STRUCTURED-LOCATION;VALUE=URI;X-ADDRESS=Bibliothèque Jovette-Bernier 30 7e Avenue Saint-Fabien Québec G0L2Z0 Canada;X-APPLE-RADIUS=500;X-TITLE=30\, 7e Avenue:geo:-68.8651986,48.2928805
END:VEVENT
BEGIN:VEVENT
DTSTART;TZID=America/Toronto:20240224T130000
DTEND;TZID=America/Toronto:20240224T150000
DTSTAMP:20260424T195011
CREATED:20240214T173321Z
LAST-MODIFIED:20240214T173321Z
UID:10025653-1708779600-1708786800@www.saint-fabien.ca
SUMMARY:Après-midi Jeux de société avec Vincent Bonner !
DESCRIPTION:Un bel après-midi Jeux de société est planifié le 24 février de 14h à 16h à le bibliothèque Jovette-Bernier de Saint-Fabien ! L’activité est animée par Vincent Bonner\, un passionné de jeux de société (c’est simple\, il les connaît presque tous !! : ) ) Profitez-en\, c’est gratuit ! Et c’est une belle occasion de découvrir et d’essayer de nouveaux jeux en famille.
URL:https://www.saint-fabien.ca/event-calendar/apres-midi-jeux-de-societe-avec-vincent-bonner/
LOCATION:Bibliothèque Jovette-Bernier\, 30\, 7e Avenue\, Saint-Fabien\, Québec\, G0L2Z0\, Canada
CATEGORIES:Sports et loisirs
ATTACH;FMTTYPE=image/jpeg:https://www.saint-fabien.ca/wp-content/uploads/2024/02/yellow-pink-dices-colorful-background-scaled.jpg
ORGANIZER;CN="Biblioth%C3%A8que Jovette-Bernier":MAILTO:biblio.fabien@crsbp.net
GEO:48.2928805;-68.8651986
X-APPLE-STRUCTURED-LOCATION;VALUE=URI;X-ADDRESS=Bibliothèque Jovette-Bernier 30 7e Avenue Saint-Fabien Québec G0L2Z0 Canada;X-APPLE-RADIUS=500;X-TITLE=30\, 7e Avenue:geo:-68.8651986,48.2928805
END:VEVENT
BEGIN:VEVENT
DTSTART;TZID=America/Toronto:20240224T183000
DTEND;TZID=America/Toronto:20240224T223000
DTSTAMP:20260424T195011
CREATED:20240202T170326Z
LAST-MODIFIED:20240202T170326Z
UID:10025634-1708799400-1708813800@www.saint-fabien.ca
SUMMARY:Soirée country !
DESCRIPTION:Une troisième soirée country au proﬁt du Centre d’entraide et de bénévolat de Saint-Fabien est prévue à 19h30 le 24 février au Pavillon des loisirs !\nAu programme :\nAlain St-Pierre : Hommage à Elvis Presley Jude Côté : musique country et dans en ligne\, musique rétro\, demandes spéciales\nRosario Proulx : musique d’ambiance \nBillets au coût de 10$ en prévente ou à la porte. Il est possible de réserver une table pour un mini-mum de trois personnes.\nOrganisateurs :\nDenis Vaillancourt : 581 246-4311\nMario Beauchesne : 418 318-1042\nNe vous gênez pas pour appeler vos organisa-teurs et réserver vos billets ! Il est aussi possible de faire un don pour la cause. Merci à tous !
URL:https://www.saint-fabien.ca/event-calendar/soiree-country-2/
LOCATION:pavillon des loisirs\, 32 8e Avenue Ouest\, Saint-Fabien\, Québec\, G0L2Z0\, Canada
CATEGORIES:Activités communautaires
GEO:48.2924537;-68.8624063
X-APPLE-STRUCTURED-LOCATION;VALUE=URI;X-ADDRESS=pavillon des loisirs 32 8e Avenue Ouest Saint-Fabien Québec G0L2Z0 Canada;X-APPLE-RADIUS=500;X-TITLE=32 8e Avenue Ouest:geo:-68.8624063,48.2924537
END:VEVENT
BEGIN:VEVENT
DTSTART;TZID=America/Toronto:20240225T090000
DTEND;TZID=America/Toronto:20240225T190000
DTSTAMP:20260424T195011
CREATED:20240202T170041Z
LAST-MODIFIED:20240202T170041Z
UID:10025633-1708851600-1708887600@www.saint-fabien.ca
SUMMARY:Élections partielles - Jour de scrutin
DESCRIPTION:Les postes de conseillères ou de conseillers des districts 3 et 6 seront en élections.\nLes candidats du district 3 sont : \n– Isabelle Roy \n– Gaston Carrier \nLes candidats du district 6 sont : \n– Daniel Lebel \n– Denis Vaillancourt \nLes élections se dérouleront le 25 février 2024 de 10h à 20h et seul.e.s les résident.e.s des districts 3 et 6 seront appelé.e.s à voter.\nLe vote par anticipation se déroulera quant à lui le 18 février\, de 12h à 20h.\nLes périodes de révision de la liste électorale sont prévues le 12 février de 19h à 22h ainsi que le 13 février de 10h à 13h.\nLes deux périodes de vote et de révision de la liste électorale se tiendront toutes au bureau munici-pal – 20-A\, 7e Avenue.\nConsultez les avis publics relatifs à l’élection par-tielle sur le site web : www.saint-fabien.ca Pour toute info supplémentaire\, contactez le pré-sident d’élections de la Municipalité\, Yves Gal-brand\, au 418 869-2950 poste 205 ou écrivez un courriel à direction@saintfabien.net
URL:https://www.saint-fabien.ca/event-calendar/elections-partielles-jour-de-scrutin/
LOCATION:municipalité de Saint-Fabien\, 20-A 7 Avenue\, Saint-Fabien\, Québec\, G0L2Z0\, Canada
CATEGORIES:Vie municipale
ATTACH;FMTTYPE=image/png:https://www.saint-fabien.ca/wp-content/uploads/2024/01/Capture-décran-le-2024-01-05-à-14.34.49.png
GEO:48.2935897;-68.8658383
X-APPLE-STRUCTURED-LOCATION;VALUE=URI;X-ADDRESS=municipalité de Saint-Fabien 20-A 7 Avenue Saint-Fabien Québec G0L2Z0 Canada;X-APPLE-RADIUS=500;X-TITLE=20-A 7 Avenue:geo:-68.8658383,48.2935897
END:VEVENT
END:VCALENDAR