BEGIN:VCALENDAR
VERSION:2.0
PRODID:-//Municipalité de Saint-Fabien - ECPv6.15.20//NONSGML v1.0//EN
CALSCALE:GREGORIAN
METHOD:PUBLISH
X-ORIGINAL-URL:https://www.saint-fabien.ca
X-WR-CALDESC:Évènements pour Municipalité de Saint-Fabien
REFRESH-INTERVAL;VALUE=DURATION:PT1H
X-Robots-Tag:noindex
X-PUBLISHED-TTL:PT1H
BEGIN:VTIMEZONE
TZID:America/Toronto
BEGIN:DAYLIGHT
TZOFFSETFROM:-0500
TZOFFSETTO:-0400
TZNAME:EDT
DTSTART:20230312T070000
END:DAYLIGHT
BEGIN:STANDARD
TZOFFSETFROM:-0400
TZOFFSETTO:-0500
TZNAME:EST
DTSTART:20231105T060000
END:STANDARD
BEGIN:DAYLIGHT
TZOFFSETFROM:-0500
TZOFFSETTO:-0400
TZNAME:EDT
DTSTART:20240310T070000
END:DAYLIGHT
BEGIN:STANDARD
TZOFFSETFROM:-0400
TZOFFSETTO:-0500
TZNAME:EST
DTSTART:20241103T060000
END:STANDARD
BEGIN:DAYLIGHT
TZOFFSETFROM:-0500
TZOFFSETTO:-0400
TZNAME:EDT
DTSTART:20250309T070000
END:DAYLIGHT
BEGIN:STANDARD
TZOFFSETFROM:-0400
TZOFFSETTO:-0500
TZNAME:EST
DTSTART:20251102T060000
END:STANDARD
END:VTIMEZONE
BEGIN:VEVENT
DTSTART;VALUE=DATE:20240401
DTEND;VALUE=DATE:20240402
DTSTAMP:20260425T184842
CREATED:20240328T183117Z
LAST-MODIFIED:20240328T183117Z
UID:10025671-1711958400-1711990800@www.saint-fabien.ca
SUMMARY:Pâques - Bureau fermé !
DESCRIPTION:Prenez note que le bureau municipal sera fermé vendredi 29 mars ainsi que le lundi 1er avril.\nJoyeuses Pâques à toutes et à tous !
URL:https://www.saint-fabien.ca/event-calendar/paques-bureau-ferme-3/2024-04-01/
LOCATION:municipalité de Saint-Fabien\, 20-A 7 Avenue\, Saint-Fabien\, Québec\, G0L2Z0\, Canada
CATEGORIES:Autres
GEO:48.2935897;-68.8658383
X-APPLE-STRUCTURED-LOCATION;VALUE=URI;X-ADDRESS=municipalité de Saint-Fabien 20-A 7 Avenue Saint-Fabien Québec G0L2Z0 Canada;X-APPLE-RADIUS=500;X-TITLE=20-A 7 Avenue:geo:-68.8658383,48.2935897
END:VEVENT
BEGIN:VEVENT
DTSTART;TZID=America/Toronto:20240402T193000
DTEND;TZID=America/Toronto:20240402T213000
DTSTAMP:20260425T184842
CREATED:20231213T154204Z
LAST-MODIFIED:20231213T154204Z
UID:10025583-1712086200-1712093400@www.saint-fabien.ca
SUMMARY:Séance du conseil municipal
DESCRIPTION:Les séances du conseil se tiennent au sous-sol du bureau municipal (20-A\, 7e Avenue).
URL:https://www.saint-fabien.ca/event-calendar/seance-du-conseil-municipal-3/2024-04-02/
LOCATION:municipalité de Saint-Fabien\, 20-A 7 Avenue\, Saint-Fabien\, Québec\, G0L2Z0\, Canada
CATEGORIES:Vie municipale
ATTACH;FMTTYPE=image/jpeg:https://www.saint-fabien.ca/wp-content/uploads/2023/12/Bandeau-séance-conseil.jpg
GEO:48.2935897;-68.8658383
X-APPLE-STRUCTURED-LOCATION;VALUE=URI;X-ADDRESS=municipalité de Saint-Fabien 20-A 7 Avenue Saint-Fabien Québec G0L2Z0 Canada;X-APPLE-RADIUS=500;X-TITLE=20-A 7 Avenue:geo:-68.8658383,48.2935897
END:VEVENT
BEGIN:VEVENT
DTSTART;TZID=America/Toronto:20240405T190000
DTEND;TZID=America/Toronto:20240405T203000
DTSTAMP:20260425T184842
CREATED:20240325T190851Z
LAST-MODIFIED:20240412T183317Z
UID:10025669-1712343600-1712349000@www.saint-fabien.ca
SUMMARY:Événement annulé - Heure du conte
DESCRIPTION:L’Heure du conte qui était planifiée ce soir doit être annulée en raison du mauvais temps ! \nRestez aux aguets pour connaître la nouvelle date. \nSoyez prudents !\nL’Heure du conte de Pâques est planifiée le vendredi 5 avril prochain\, dès 19h. Parents et enfants sont donc invités à se présenter en pyjama à la Bibliothèque pour écouter une belle histoire\, toute douce et sucrée ! \nProfitez-en\, c’est gratuit !
URL:https://www.saint-fabien.ca/event-calendar/heure-du-conte-paques/
LOCATION:Bibliothèque Jovette-Bernier\, 30\, 7e Avenue\, Saint-Fabien\, Québec\, G0L2Z0\, Canada
CATEGORIES:Culture
ATTACH;FMTTYPE=image/png:https://www.saint-fabien.ca/wp-content/uploads/2024/03/Capture-décran-le-2024-03-25-à-15.08.18.png
ORGANIZER;CN="Biblioth%C3%A8que Jovette-Bernier":MAILTO:biblio.fabien@crsbp.net
GEO:48.2928805;-68.8651986
X-APPLE-STRUCTURED-LOCATION;VALUE=URI;X-ADDRESS=Bibliothèque Jovette-Bernier 30 7e Avenue Saint-Fabien Québec G0L2Z0 Canada;X-APPLE-RADIUS=500;X-TITLE=30\, 7e Avenue:geo:-68.8651986,48.2928805
END:VEVENT
BEGIN:VEVENT
DTSTART;TZID=America/Toronto:20240406T093000
DTEND;TZID=America/Toronto:20240406T113000
DTSTAMP:20260425T184842
CREATED:20240315T134259Z
LAST-MODIFIED:20240315T134259Z
UID:10025659-1712395800-1712403000@www.saint-fabien.ca
SUMMARY:Les Samedis de reliure avec Hélène Francoeur
DESCRIPTION:Venez apprendre des techniques simples et faciles pour produire des livres de petit format. Aucun pré-requis nécessaire. Matériaux\, notes de cours et petits outils fournis. \nGratuit\, 8 adultes/adolescents maximum\, inscription obligatoire à la bibliothèque 418 869 2602. \nLes samedis suivants\, de 9h30 à 11h30 : \n23 mars : Couture simple à un cahier\, carnet en vis-à-vis. \n6 avril : Couture sur rubans lacés dans une couverture souple. \n18 mai : Livre pop-up. \n15 juin : Couture japonaise à quatre trous.
URL:https://www.saint-fabien.ca/event-calendar/les-samedis-de-reliure-avec-helene-francoeur/2024-04-06/
LOCATION:Bibliothèque Jovette-Bernier\, 30\, 7e Avenue\, Saint-Fabien\, Québec\, G0L2Z0\, Canada
ATTACH;FMTTYPE=image/jpeg:https://www.saint-fabien.ca/wp-content/uploads/2024/03/AteliersPrintemps2024.jpg
ORGANIZER;CN="Biblioth%C3%A8que Jovette-Bernier":MAILTO:biblio.fabien@crsbp.net
GEO:48.2928805;-68.8651986
X-APPLE-STRUCTURED-LOCATION;VALUE=URI;X-ADDRESS=Bibliothèque Jovette-Bernier 30 7e Avenue Saint-Fabien Québec G0L2Z0 Canada;X-APPLE-RADIUS=500;X-TITLE=30\, 7e Avenue:geo:-68.8651986,48.2928805
END:VEVENT
BEGIN:VEVENT
DTSTART;TZID=America/Toronto:20240407T140000
DTEND;TZID=America/Toronto:20240407T144500
DTSTAMP:20260425T184842
CREATED:20240404T184403Z
LAST-MODIFIED:20240404T184403Z
UID:10025674-1712498400-1712501100@www.saint-fabien.ca
SUMMARY:Patinage libre
DESCRIPTION:
URL:https://www.saint-fabien.ca/event-calendar/patinage-libre-316/
LOCATION:pavillon des loisirs\, 32 8e Avenue Ouest\, Saint-Fabien\, Québec\, G0L2Z0\, Canada
CATEGORIES:Sports et loisirs
ORGANIZER;CN="Les Loisirs St-Fabien Inc.":MAILTO:loisirss@cgocable.ca
GEO:48.2924537;-68.8624063
X-APPLE-STRUCTURED-LOCATION;VALUE=URI;X-ADDRESS=pavillon des loisirs 32 8e Avenue Ouest Saint-Fabien Québec G0L2Z0 Canada;X-APPLE-RADIUS=500;X-TITLE=32 8e Avenue Ouest:geo:-68.8624063,48.2924537
END:VEVENT
BEGIN:VEVENT
DTSTART;TZID=America/Toronto:20240407T144500
DTEND;TZID=America/Toronto:20240407T153000
DTSTAMP:20260425T184842
CREATED:20240404T184541Z
LAST-MODIFIED:20240404T184541Z
UID:10025675-1712501100-1712503800@www.saint-fabien.ca
SUMMARY:Hockey libre
DESCRIPTION:
URL:https://www.saint-fabien.ca/event-calendar/hockey-libre-297/
LOCATION:pavillon des loisirs\, 32 8e Avenue Ouest\, Saint-Fabien\, Québec\, G0L2Z0\, Canada
CATEGORIES:Sports et loisirs
ORGANIZER;CN="Les Loisirs St-Fabien Inc.":MAILTO:loisirss@cgocable.ca
GEO:48.2924537;-68.8624063
X-APPLE-STRUCTURED-LOCATION;VALUE=URI;X-ADDRESS=pavillon des loisirs 32 8e Avenue Ouest Saint-Fabien Québec G0L2Z0 Canada;X-APPLE-RADIUS=500;X-TITLE=32 8e Avenue Ouest:geo:-68.8624063,48.2924537
END:VEVENT
END:VCALENDAR