BEGIN:VCALENDAR
VERSION:2.0
PRODID:-//Municipalité de Saint-Fabien - ECPv6.15.20//NONSGML v1.0//EN
CALSCALE:GREGORIAN
METHOD:PUBLISH
X-WR-CALNAME:Municipalité de Saint-Fabien
X-ORIGINAL-URL:https://www.saint-fabien.ca
X-WR-CALDESC:Évènements pour Municipalité de Saint-Fabien
REFRESH-INTERVAL;VALUE=DURATION:PT1H
X-Robots-Tag:noindex
X-PUBLISHED-TTL:PT1H
BEGIN:VTIMEZONE
TZID:America/Toronto
BEGIN:DAYLIGHT
TZOFFSETFROM:-0500
TZOFFSETTO:-0400
TZNAME:EDT
DTSTART:20240310T070000
END:DAYLIGHT
BEGIN:STANDARD
TZOFFSETFROM:-0400
TZOFFSETTO:-0500
TZNAME:EST
DTSTART:20241103T060000
END:STANDARD
BEGIN:DAYLIGHT
TZOFFSETFROM:-0500
TZOFFSETTO:-0400
TZNAME:EDT
DTSTART:20250309T070000
END:DAYLIGHT
BEGIN:STANDARD
TZOFFSETFROM:-0400
TZOFFSETTO:-0500
TZNAME:EST
DTSTART:20251102T060000
END:STANDARD
BEGIN:DAYLIGHT
TZOFFSETFROM:-0500
TZOFFSETTO:-0400
TZNAME:EDT
DTSTART:20260308T070000
END:DAYLIGHT
BEGIN:STANDARD
TZOFFSETFROM:-0400
TZOFFSETTO:-0500
TZNAME:EST
DTSTART:20261101T060000
END:STANDARD
END:VTIMEZONE
BEGIN:VEVENT
DTSTART;TZID=America/Toronto:20250428T080000
DTEND;TZID=America/Toronto:20250428T170000
DTSTAMP:20260419T103538
CREATED:20250428T123511Z
LAST-MODIFIED:20250428T123511Z
UID:10025936-1745827200-1745859600@www.saint-fabien.ca
SUMMARY:Élections fédérales - Pavillon des loisirs
DESCRIPTION:C’est jour d’élections fédérales ! \nPour les résident.e.s de Saint-Fabien\, le vote se déroule au Pavillon des loisirs.
URL:https://www.saint-fabien.ca/event-calendar/elections-federales-pavillon-des-loisirs/
LOCATION:pavillon des loisirs\, 32 8e Avenue Ouest\, Saint-Fabien\, Québec\, G0L2Z0\, Canada
CATEGORIES:Autres
GEO:48.2924537;-68.8624063
X-APPLE-STRUCTURED-LOCATION;VALUE=URI;X-ADDRESS=pavillon des loisirs 32 8e Avenue Ouest Saint-Fabien Québec G0L2Z0 Canada;X-APPLE-RADIUS=500;X-TITLE=32 8e Avenue Ouest:geo:-68.8624063,48.2924537
END:VEVENT
BEGIN:VEVENT
DTSTART;TZID=America/Toronto:20250430T183000
DTEND;TZID=America/Toronto:20250430T200000
DTSTAMP:20260419T103538
CREATED:20250219T194627Z
LAST-MODIFIED:20250219T194627Z
UID:10025881-1746037800-1746043200@www.saint-fabien.ca
SUMMARY:Le jardin écologique : se réapproprier les savoir-faire
DESCRIPTION:Le jardinage est intrinsèquement lié à des considérations écologiques. De l’approvisionnement local en produits frais à l’élimination des produits chimiques\, les efforts des jardinier.ères contribuent à réinscrire l’alimentation dans les cycles écologiques. Toutefois\, les jardinier.ères dépendent encore d’approvisionnements externes\, des semences au compost\, pour répondre à leurs besoins.\n\nL’objectif de cette conférence est donc d’explorer quelques pratiques culturales qui permettent la réappropriation de savoir-faire en vue d’atteindre une autonomie collective.\n\nComment peut-on produire ses propres semences? Comment maintenir la santé du sol sans recourir aux produits du magasin? Comment assurer une récolte abondante pour s’en nourrir toute l’année?\n\nLes réponses à ces questions sauront éclairer la planification des jardins écologiques.\n\n :Gabriel Leblanc\, cofondateur de la ferme la Dérive\n\n Gratuit D’une durée de 1h30 Places limitées\n\n       : bit.ly/partagesavoirfaire2025\n\nLa programmation   – est une série de formations GRATUITES qui visent à aider la communauté à améliorer ses connaissances en autonomie alimentaire tout en valorisant le savoir des producteurs et transformateurs du territoire. Pour plus d’information sur la programmation complète\, visitez agricultureRN.ca\nCes activités sont offertes par le comité d’Agriculture urbaine de Rimouski-Neigette en collaboration avec Créneau d’excellence Tourbe et substrats\, Promutuel de l’Estuaire\, MRC Rimouski-Neigette\, Députée de Rimouski Maïté Blanchette Vézina. Ce projet cadre dans le Plan d’agriculture urbaine de Rimouski-Neigette.
URL:https://www.saint-fabien.ca/event-calendar/le-jardin-ecologique-se-reapproprier-les-savoir-faire/
LOCATION:Bibliothèque Jovette-Bernier\, 30\, 7e Avenue\, Saint-Fabien\, Québec\, G0L2Z0\, Canada
CATEGORIES:Sports et loisirs
GEO:48.2928805;-68.8651986
X-APPLE-STRUCTURED-LOCATION;VALUE=URI;X-ADDRESS=Bibliothèque Jovette-Bernier 30 7e Avenue Saint-Fabien Québec G0L2Z0 Canada;X-APPLE-RADIUS=500;X-TITLE=30\, 7e Avenue:geo:-68.8651986,48.2928805
END:VEVENT
BEGIN:VEVENT
DTSTART;VALUE=DATE:20250501
DTEND;VALUE=DATE:20250502
DTSTAMP:20260419T103538
CREATED:20250407T153238Z
LAST-MODIFIED:20250407T153238Z
UID:10025925-1746057600-1746143999@www.saint-fabien.ca
SUMMARY:Retrait des abris d'auto temporaires
DESCRIPTION:Suivant le règlement de zonage numéro 476\, les abris d’auto temporaires doivent être retirés à partir du 1er mai. L’inspecteur en urbanisme\, Steeven Boucher\, débutera à cet effet ses inspections vers la mi-mai. Notez que les abris doivent être entièrement démontés\, incluant la structure métallique ou de bois. Pour plus d’infos\, n’hésitez pas à contacter l’inspecteur par courriel à : steeven.boucher@mrc-rn.ca
URL:https://www.saint-fabien.ca/event-calendar/retrait-des-abris-dauto-temporaires/
LOCATION:municipalité de Saint-Fabien\, 20-A 7 Avenue\, Saint-Fabien\, Québec\, G0L2Z0\, Canada
CATEGORIES:Vie municipale
GEO:48.2935897;-68.8658383
X-APPLE-STRUCTURED-LOCATION;VALUE=URI;X-ADDRESS=municipalité de Saint-Fabien 20-A 7 Avenue Saint-Fabien Québec G0L2Z0 Canada;X-APPLE-RADIUS=500;X-TITLE=20-A 7 Avenue:geo:-68.8658383,48.2935897
END:VEVENT
BEGIN:VEVENT
DTSTART;TZID=America/Toronto:20250503T190000
DTEND;TZID=America/Toronto:20250503T230000
DTSTAMP:20260419T103538
CREATED:20250404T131610Z
LAST-MODIFIED:20250404T131610Z
UID:10025912-1746298800-1746313200@www.saint-fabien.ca
SUMMARY:Soirée country - Duo Éric et Francine
DESCRIPTION:Le duo Éric et Francine sera de retour sur la scène du Pavillon des loisirs le 3 mai à 20h. La soirée commencera dès 19h avec une musique d’ambiance. \nÀ noter que grâce à cette soirée\, le Centre de bénévolat et d’entraide remettra 500$ à l’école l’Écho-des-Montagnes pour l’organisation du voyage des jeunes de secondaire 1 et 2 sur la Côte-Nord. \nCoût des billets : 10$ à l’entrée ou en prévente auprès des organisateurs : \nMario Beauchesne – 418 318-1042 \nDenis Vaillancourt – 581 246-4311 \nMartine Thériault – 418 750-5460 \nGeneviève Berger – 418 869-1282
URL:https://www.saint-fabien.ca/event-calendar/soiree-country-duo-eric-et-francine/
LOCATION:pavillon des loisirs\, 32 8e Avenue Ouest\, Saint-Fabien\, Québec\, G0L2Z0\, Canada
CATEGORIES:Culture
GEO:48.2924537;-68.8624063
X-APPLE-STRUCTURED-LOCATION;VALUE=URI;X-ADDRESS=pavillon des loisirs 32 8e Avenue Ouest Saint-Fabien Québec G0L2Z0 Canada;X-APPLE-RADIUS=500;X-TITLE=32 8e Avenue Ouest:geo:-68.8624063,48.2924537
END:VEVENT
END:VCALENDAR