BEGIN:VCALENDAR
VERSION:2.0
PRODID:-//Municipalité de Saint-Fabien - ECPv6.15.20//NONSGML v1.0//EN
CALSCALE:GREGORIAN
METHOD:PUBLISH
X-ORIGINAL-URL:https://www.saint-fabien.ca
X-WR-CALDESC:Évènements pour Municipalité de Saint-Fabien
REFRESH-INTERVAL;VALUE=DURATION:PT1H
X-Robots-Tag:noindex
X-PUBLISHED-TTL:PT1H
BEGIN:VTIMEZONE
TZID:America/Toronto
BEGIN:DAYLIGHT
TZOFFSETFROM:-0500
TZOFFSETTO:-0400
TZNAME:EDT
DTSTART:20240310T070000
END:DAYLIGHT
BEGIN:STANDARD
TZOFFSETFROM:-0400
TZOFFSETTO:-0500
TZNAME:EST
DTSTART:20241103T060000
END:STANDARD
BEGIN:DAYLIGHT
TZOFFSETFROM:-0500
TZOFFSETTO:-0400
TZNAME:EDT
DTSTART:20250309T070000
END:DAYLIGHT
BEGIN:STANDARD
TZOFFSETFROM:-0400
TZOFFSETTO:-0500
TZNAME:EST
DTSTART:20251102T060000
END:STANDARD
BEGIN:DAYLIGHT
TZOFFSETFROM:-0500
TZOFFSETTO:-0400
TZNAME:EDT
DTSTART:20260308T070000
END:DAYLIGHT
BEGIN:STANDARD
TZOFFSETFROM:-0400
TZOFFSETTO:-0500
TZNAME:EST
DTSTART:20261101T060000
END:STANDARD
END:VTIMEZONE
BEGIN:VEVENT
DTSTART;VALUE=DATE:20250512
DTEND;VALUE=DATE:20250513
DTSTAMP:20260421T065050
CREATED:20250430T201807Z
LAST-MODIFIED:20250430T201807Z
UID:10025938-1747008000-1747094399@www.saint-fabien.ca
SUMMARY:Date de tombée des articles pour Le Fabiennois
DESCRIPTION:Envoyez vos infos ou vos textes avant le lundi 12 mai à communication@sainfabien.net
URL:https://www.saint-fabien.ca/event-calendar/date-de-tombee-des-articles-pour-le-fabiennois-18/
LOCATION:municipalité de Saint-Fabien\, 20-A 7 Avenue\, Saint-Fabien\, Québec\, G0L2Z0\, Canada
CATEGORIES:Autres
GEO:48.2935897;-68.8658383
X-APPLE-STRUCTURED-LOCATION;VALUE=URI;X-ADDRESS=municipalité de Saint-Fabien 20-A 7 Avenue Saint-Fabien Québec G0L2Z0 Canada;X-APPLE-RADIUS=500;X-TITLE=20-A 7 Avenue:geo:-68.8658383,48.2935897
END:VEVENT
BEGIN:VEVENT
DTSTART;TZID=America/Toronto:20250512T190000
DTEND;TZID=America/Toronto:20250512T210000
DTSTAMP:20260421T065050
CREATED:20241211T154850Z
LAST-MODIFIED:20241211T154850Z
UID:10025810-1747076400-1747083600@www.saint-fabien.ca
SUMMARY:Séances ordinaires du conseil municipal
DESCRIPTION:Les séances du Conseil se déroulent à partir de 19h au sous-sol du bureau municipal situé au 20-A\, 7e Avenue.
URL:https://www.saint-fabien.ca/event-calendar/seances-ordinaires-du-conseil-municipal-2/2025-05-12/
LOCATION:municipalité de Saint-Fabien\, 20-A 7 Avenue\, Saint-Fabien\, Québec\, G0L2Z0\, Canada
CATEGORIES:Vie municipale
GEO:48.2935897;-68.8658383
X-APPLE-STRUCTURED-LOCATION;VALUE=URI;X-ADDRESS=municipalité de Saint-Fabien 20-A 7 Avenue Saint-Fabien Québec G0L2Z0 Canada;X-APPLE-RADIUS=500;X-TITLE=20-A 7 Avenue:geo:-68.8658383,48.2935897
END:VEVENT
BEGIN:VEVENT
DTSTART;TZID=America/Toronto:20250513T190000
DTEND;TZID=America/Toronto:20250513T210000
DTSTAMP:20260421T065050
CREATED:20250404T131843Z
LAST-MODIFIED:20250404T131843Z
UID:10025913-1747162800-1747170000@www.saint-fabien.ca
SUMMARY:AGA du club des 50 ans et plus
DESCRIPTION:L’assemblée générale annuelle du Club est prévue le mardi 13 mai à la salle du conseil municipal.
URL:https://www.saint-fabien.ca/event-calendar/aga-du-club-des-50-ans-et-plus/
LOCATION:municipalité de Saint-Fabien\, 20-A 7 Avenue\, Saint-Fabien\, Québec\, G0L2Z0\, Canada
CATEGORIES:Sports et loisirs
GEO:48.2935897;-68.8658383
X-APPLE-STRUCTURED-LOCATION;VALUE=URI;X-ADDRESS=municipalité de Saint-Fabien 20-A 7 Avenue Saint-Fabien Québec G0L2Z0 Canada;X-APPLE-RADIUS=500;X-TITLE=20-A 7 Avenue:geo:-68.8658383,48.2935897
END:VEVENT
BEGIN:VEVENT
DTSTART;TZID=America/Toronto:20250514T140000
DTEND;TZID=America/Toronto:20250514T160000
DTSTAMP:20260421T065050
CREATED:20250404T132343Z
LAST-MODIFIED:20250404T132343Z
UID:10025918-1747231200-1747238400@www.saint-fabien.ca
SUMMARY:Ateliers santé avec Yvette Ravenet
DESCRIPTION:Yvette Ravenet\, naturopathe\, propose deux ateliers santé à la bibliothèque Jovette-Bernier. \n– «Fatigué.e ? Des solutions simples pour retrouver votre énergie» \nmercredi 16 avril 14h et samedi 19 avril 10h \n– «Du bon sens dans votre assiette pour une cuisine plus saine» \nmercredi 14 mai à 14h et samedi 17 mai à 10h
URL:https://www.saint-fabien.ca/event-calendar/ateliers-sante-avec-yvette-ravenet/2025-05-14/
LOCATION:Bibliothèque Jovette-Bernier\, 30\, 7e Avenue\, Saint-Fabien\, Québec\, G0L2Z0\, Canada
CATEGORIES:Sports et loisirs
ORGANIZER;CN="Biblioth%C3%A8que Jovette-Bernier":MAILTO:biblio.fabien@crsbp.net
GEO:48.2928805;-68.8651986
X-APPLE-STRUCTURED-LOCATION;VALUE=URI;X-ADDRESS=Bibliothèque Jovette-Bernier 30 7e Avenue Saint-Fabien Québec G0L2Z0 Canada;X-APPLE-RADIUS=500;X-TITLE=30\, 7e Avenue:geo:-68.8651986,48.2928805
END:VEVENT
BEGIN:VEVENT
DTSTART;VALUE=DATE:20250517
DTEND;VALUE=DATE:20250518
DTSTAMP:20260421T065050
CREATED:20250514T124422Z
LAST-MODIFIED:20250514T124422Z
UID:10025942-1747440000-1747526399@www.saint-fabien.ca
SUMMARY:Distribution printanière de compost
DESCRIPTION:DISTRIBUTION PRINTANIÈRE DE COMPOST \nLa distribution de compost commencera le samedi 17 mai à Saint-Fabien à partir de 8h et durera jusqu’à épuisement des stocks !\n\n\nRendez-vous dans le Parc industriel (entrée juste à côté du garage Multi-Mécanique Plourde : 60\, 1re Rue) avec vos contenants et votre pelle.\n\n\nLes quantités sont limitées à l’équivalent d’un bac brun par personne.\n\n\n Il est interdit de venir chercher du compost en tracteur : on veut qu’il y en ait pour tout le monde ! Si vous désirez de très grandes quantités\, il est toujours possible de vous rendre directement à l’Écocentre avec une remorque domestique. Une minipelle mécanique sera disponible pour charger votre remorque. Pour bénéficier de ce service\, vous devez toutefois vous rendre à l’Écocentre les 17-18 mai ou les 24-25 mai. L’Écocentre est ouvert du lundi au vendredi\, de 7h15 à 16h\, le samedi\, de 8h30 à 16h et le dimanche\, de 12h à 16h.
URL:https://www.saint-fabien.ca/event-calendar/distribution-printaniere-de-compost-3/
LOCATION:Parc industriel
CATEGORIES:Autres
ATTACH;FMTTYPE=image/jpeg:https://www.saint-fabien.ca/wp-content/uploads/2022/05/Capture-décran-le-2021-05-18-à-09.57.jpg
END:VEVENT
BEGIN:VEVENT
DTSTART;TZID=America/Toronto:20250517T100000
DTEND;TZID=America/Toronto:20250517T120000
DTSTAMP:20260421T065050
CREATED:20250404T132343Z
LAST-MODIFIED:20250404T132343Z
UID:10025919-1747476000-1747483200@www.saint-fabien.ca
SUMMARY:Ateliers santé avec Yvette Ravenet
DESCRIPTION:Yvette Ravenet\, naturopathe\, propose deux ateliers santé à la bibliothèque Jovette-Bernier. \n– «Fatigué.e ? Des solutions simples pour retrouver votre énergie» \nmercredi 16 avril 14h et samedi 19 avril 10h \n– «Du bon sens dans votre assiette pour une cuisine plus saine» \nmercredi 14 mai à 14h et samedi 17 mai à 10h
URL:https://www.saint-fabien.ca/event-calendar/ateliers-sante-avec-yvette-ravenet/2025-05-17/
LOCATION:Bibliothèque Jovette-Bernier\, 30\, 7e Avenue\, Saint-Fabien\, Québec\, G0L2Z0\, Canada
CATEGORIES:Sports et loisirs
ORGANIZER;CN="Biblioth%C3%A8que Jovette-Bernier":MAILTO:biblio.fabien@crsbp.net
GEO:48.2928805;-68.8651986
X-APPLE-STRUCTURED-LOCATION;VALUE=URI;X-ADDRESS=Bibliothèque Jovette-Bernier 30 7e Avenue Saint-Fabien Québec G0L2Z0 Canada;X-APPLE-RADIUS=500;X-TITLE=30\, 7e Avenue:geo:-68.8651986,48.2928805
END:VEVENT
BEGIN:VEVENT
DTSTART;TZID=America/Toronto:20250517T110000
DTEND;TZID=America/Toronto:20250517T123000
DTSTAMP:20260421T065050
CREATED:20250508T174540Z
LAST-MODIFIED:20250508T174540Z
UID:10025940-1747479600-1747485000@www.saint-fabien.ca
SUMMARY:La vengeance n'a pas eu lieu / Wina Forget
DESCRIPTION:Faire l’expérience des classes populaires\, c’est généralement faire l’expérience de violences\, parfois de traumatismes. Entremêlant sociologie et réflexions politiques\, la lecture-performance La vengeance n’a pas eu lieu plonge dans l’imaginaire des récits de transfuges. On y entend malgré tout une histoire banale\, une traversée autofictionnelle qui navigue les tensions entre vulnérabilité et puissance.\nRomantiser la misère\, banaliser le poids des inégalités ne sont pas des options possibles. Déverser la honte sur celles·ceux qui sont resté·e·s «derrière»\, leur recracher un mépris de classe connu par cœur\, leur offrir une charité condescendante qui grince longtemps\, non plus. Alerte spoiler: personne ne nous a jamais vengé·e·s\, et Wina ne vengera personne à son tour.\nWina Forget a développé La vengeance n’aura pas lieu à travers 3 résidences de création au Bic\, à Saint-Fabien et à Saint-Valérien. Pour le festival\, elle retourne dans chacun de ces lieux pour partager le fruit de ses recherches. Les 3 lectures publiques présentent le même contenu.\nCaravansérail a reçu le soutien de la MRC Rimouski-Neigette pour le projet La vengeance n’a pas eu lieu de Wina Forget\, dans le cadre de son Entente de développement culturel.\nTendresse! est un festival artistique printanier proposé par le Centre d’artistes Caravansérail (Rimouski\, QC). Bien que la programmation publique de Tendresse! s’étale sur 10 jours en mai\, elle repose sur plus d’un an de recherches artistiques et de construction de relations. Tendresse!\, c’est Caravansérail qui dit «venez\, c’est ouvert!». C’est une programmation pour se rencontrer\, se découvrir et échanger dans des contextes conviviaux.\nLien vers le site web: https://tendresserimouski.org/2025-winaforget
URL:https://www.saint-fabien.ca/event-calendar/la-vengeance-na-pas-eu-lieu-wina-forget/
LOCATION:Bibliothèque Jovette-Bernier\, 30\, 7e Avenue\, Saint-Fabien\, Québec\, G0L2Z0\, Canada
CATEGORIES:Culture
ORGANIZER;CN="Biblioth%C3%A8que Jovette-Bernier":MAILTO:biblio.fabien@crsbp.net
GEO:48.2928805;-68.8651986
X-APPLE-STRUCTURED-LOCATION;VALUE=URI;X-ADDRESS=Bibliothèque Jovette-Bernier 30 7e Avenue Saint-Fabien Québec G0L2Z0 Canada;X-APPLE-RADIUS=500;X-TITLE=30\, 7e Avenue:geo:-68.8651986,48.2928805
END:VEVENT
BEGIN:VEVENT
DTSTART;TZID=America/Toronto:20250517T130000
DTEND;TZID=America/Toronto:20250517T150000
DTSTAMP:20260421T065050
CREATED:20250429T192002Z
LAST-MODIFIED:20250514T124632Z
UID:10025937-1747486800-1747494000@www.saint-fabien.ca
SUMMARY:Mois de l'Arbre - Distribution d'arbres et activité de land art
DESCRIPTION:MAI\, MOIS DE L’ARBRE ET DES FORÊTS – DISTRIBUTION D’ARBRES ET ACTIVITÉ DE LAND ART !! \nLa Municipalité de Saint-Fabien\, en collaboration avec l’Association forestière bas-laurentienne et le Ministère des Ressources naturelles et des Forêts\, distribuera gratuitement de jolis petits bébés arbres à la Bibliothèque Jovette-Bernier de Saint-Fabien le 17 mai prochain entre 13h et 15h.\nDe plus\, l’Association forestière proposera au même moment une chouette activité de land art aux jeunes (et moins jeunes) qui auront le goût d’éveiller leur créativité en réalisant une oeuvre éphémère à l’aide d’éléments naturels.\nPas besoin de s’inscrire\, c’est gratuit et si jamais la météo n’est pas de notre bord\, l’activité se déroulera à l’intérieur.\nÀ noter que les essences d’arbres distribuées seront : pin blanc\, érable à sucre et bouleau jaune. Premier arrivé\, premier servi ! Limite d’un arbre par famille.\n\n\nEnfin\, quelques barils de récupération d’eau de pluie seront distribués au coût de 25$ aux premières personnes qui se présenteront à la distribution d’arbres. C’est premier arrivé\, premier servi ! Les quantités sont très limitées.
URL:https://www.saint-fabien.ca/event-calendar/mois-de-larbre-distribution-darbres-et-activite-de-land-art/
LOCATION:Bibliothèque Jovette-Bernier\, 30\, 7e Avenue\, Saint-Fabien\, Québec\, G0L2Z0\, Canada
CATEGORIES:Activités communautaires
ATTACH;FMTTYPE=image/png:https://www.saint-fabien.ca/wp-content/uploads/2025/04/Activités-de-LAFBL-Land-art.png
GEO:48.2928805;-68.8651986
X-APPLE-STRUCTURED-LOCATION;VALUE=URI;X-ADDRESS=Bibliothèque Jovette-Bernier 30 7e Avenue Saint-Fabien Québec G0L2Z0 Canada;X-APPLE-RADIUS=500;X-TITLE=30\, 7e Avenue:geo:-68.8651986,48.2928805
END:VEVENT
BEGIN:VEVENT
DTSTART;TZID=America/Toronto:20250518T123000
DTEND;TZID=America/Toronto:20250518T170000
DTSTAMP:20260421T065050
CREATED:20250404T131954Z
LAST-MODIFIED:20250404T131954Z
UID:10025914-1747571400-1747587600@www.saint-fabien.ca
SUMMARY:Gala folklorique - Club des 50 ans et plus
DESCRIPTION:Gala folklorique avec Jean-Claude Voyer\, Sébastien Caron et Tommy Fournier \n18 mai à 13h au Pavillon des loisirs \n(inscription des musiciens : 12h30) \nCoût d’entrée : 10$\, gratuit pour les 12 ans et – \nCafé\, thé\, tisane et breuvage enfant : gratuit \nBar et comptoir-lunch disponible (soupe\, sandwich\, desserts) – Prix de présence \nInfos : Lucette Fortin (418 318-1029) \nDenise Gagnon (418 740-3358)
URL:https://www.saint-fabien.ca/event-calendar/gala-folklorique-club-des-50-ans-et-plus-2/
LOCATION:pavillon des loisirs\, 32 8e Avenue Ouest\, Saint-Fabien\, Québec\, G0L2Z0\, Canada
CATEGORIES:Culture
GEO:48.2924537;-68.8624063
X-APPLE-STRUCTURED-LOCATION;VALUE=URI;X-ADDRESS=pavillon des loisirs 32 8e Avenue Ouest Saint-Fabien Québec G0L2Z0 Canada;X-APPLE-RADIUS=500;X-TITLE=32 8e Avenue Ouest:geo:-68.8624063,48.2924537
END:VEVENT
END:VCALENDAR