BEGIN:VCALENDAR
VERSION:2.0
PRODID:-//Municipalité de Saint-Fabien - ECPv6.15.20//NONSGML v1.0//EN
CALSCALE:GREGORIAN
METHOD:PUBLISH
X-WR-CALNAME:Municipalité de Saint-Fabien
X-ORIGINAL-URL:https://www.saint-fabien.ca
X-WR-CALDESC:Évènements pour Municipalité de Saint-Fabien
REFRESH-INTERVAL;VALUE=DURATION:PT1H
X-Robots-Tag:noindex
X-PUBLISHED-TTL:PT1H
BEGIN:VTIMEZONE
TZID:America/Toronto
BEGIN:DAYLIGHT
TZOFFSETFROM:-0500
TZOFFSETTO:-0400
TZNAME:EDT
DTSTART:20240310T070000
END:DAYLIGHT
BEGIN:STANDARD
TZOFFSETFROM:-0400
TZOFFSETTO:-0500
TZNAME:EST
DTSTART:20241103T060000
END:STANDARD
BEGIN:DAYLIGHT
TZOFFSETFROM:-0500
TZOFFSETTO:-0400
TZNAME:EDT
DTSTART:20250309T070000
END:DAYLIGHT
BEGIN:STANDARD
TZOFFSETFROM:-0400
TZOFFSETTO:-0500
TZNAME:EST
DTSTART:20251102T060000
END:STANDARD
BEGIN:DAYLIGHT
TZOFFSETFROM:-0500
TZOFFSETTO:-0400
TZNAME:EDT
DTSTART:20260308T070000
END:DAYLIGHT
BEGIN:STANDARD
TZOFFSETFROM:-0400
TZOFFSETTO:-0500
TZNAME:EST
DTSTART:20261101T060000
END:STANDARD
END:VTIMEZONE
BEGIN:VEVENT
DTSTART;TZID=America/Toronto:20251105T123000
DTEND;TZID=America/Toronto:20251105T150000
DTSTAMP:20260419T160702
CREATED:20251029T132823Z
LAST-MODIFIED:20251029T132823Z
UID:10026022-1762345800-1762354800@www.saint-fabien.ca
SUMMARY:Atelier avec Hélène Francoeur - Fabriquer un journal intime\, un carnet de voyage
DESCRIPTION:Pour vous-même ou à offrir en cadeau\, apprenez à fabriquer un journal intime\, un carnet de voyage. Hélène Francoeur vous montrera à plier les feuilles\, coudre les pages\, recouvrir le tout d’une couverture souple. Matériaux\, outils et notes de cours fournis.\nL’activité est gratuite\, l’inscription obligatoire 418-869-2602\, maximum 8 personnes. Mercredi le 5 novembre 2025\, de 13h30 à 16h00\, à la Bibliothèque Jovette-Bernier.
URL:https://www.saint-fabien.ca/event-calendar/atelier-avec-helene-francoeur-fabriquer-un-journal-intime-un-carnet-de-voyage/
LOCATION:Bibliothèque Jovette-Bernier\, 30\, 7e Avenue\, Saint-Fabien\, Québec\, G0L2Z0\, Canada
CATEGORIES:Culture
ORGANIZER;CN="Biblioth%C3%A8que Jovette-Bernier":MAILTO:biblio.fabien@crsbp.net
GEO:48.2928805;-68.8651986
X-APPLE-STRUCTURED-LOCATION;VALUE=URI;X-ADDRESS=Bibliothèque Jovette-Bernier 30 7e Avenue Saint-Fabien Québec G0L2Z0 Canada;X-APPLE-RADIUS=500;X-TITLE=30\, 7e Avenue:geo:-68.8651986,48.2928805
END:VEVENT
BEGIN:VEVENT
DTSTART;TZID=America/Toronto:20251107T191500
DTEND;TZID=America/Toronto:20251107T200000
DTSTAMP:20260419T160702
CREATED:20251105T195730Z
LAST-MODIFIED:20251105T195730Z
UID:10026028-1762542900-1762545600@www.saint-fabien.ca
SUMMARY:Hockey libre - 12 ans et plus
DESCRIPTION:
URL:https://www.saint-fabien.ca/event-calendar/hockey-libre-12-ans-et-plus-12/
LOCATION:pavillon des loisirs\, 32 8e Avenue Ouest\, Saint-Fabien\, Québec\, G0L2Z0\, Canada
CATEGORIES:Sports et loisirs
ORGANIZER;CN="Les Loisirs St-Fabien Inc.":MAILTO:loisirss@cgocable.ca
GEO:48.2924537;-68.8624063
X-APPLE-STRUCTURED-LOCATION;VALUE=URI;X-ADDRESS=pavillon des loisirs 32 8e Avenue Ouest Saint-Fabien Québec G0L2Z0 Canada;X-APPLE-RADIUS=500;X-TITLE=32 8e Avenue Ouest:geo:-68.8624063,48.2924537
END:VEVENT
BEGIN:VEVENT
DTSTART;TZID=America/Toronto:20251108T170000
DTEND;TZID=America/Toronto:20251108T174500
DTSTAMP:20260419T160702
CREATED:20251105T195835Z
LAST-MODIFIED:20251105T195835Z
UID:10026029-1762621200-1762623900@www.saint-fabien.ca
SUMMARY:Patinage libre
DESCRIPTION:
URL:https://www.saint-fabien.ca/event-calendar/patinage-libre-392/
LOCATION:pavillon des loisirs\, 32 8e Avenue Ouest\, Saint-Fabien\, Québec\, G0L2Z0\, Canada
CATEGORIES:Sports et loisirs
ORGANIZER;CN="Les Loisirs St-Fabien Inc.":MAILTO:loisirss@cgocable.ca
GEO:48.2924537;-68.8624063
X-APPLE-STRUCTURED-LOCATION;VALUE=URI;X-ADDRESS=pavillon des loisirs 32 8e Avenue Ouest Saint-Fabien Québec G0L2Z0 Canada;X-APPLE-RADIUS=500;X-TITLE=32 8e Avenue Ouest:geo:-68.8624063,48.2924537
END:VEVENT
BEGIN:VEVENT
DTSTART;TZID=America/Toronto:20251109T131500
DTEND;TZID=America/Toronto:20251109T141500
DTSTAMP:20260419T160702
CREATED:20251105T195928Z
LAST-MODIFIED:20251105T195928Z
UID:10026030-1762694100-1762697700@www.saint-fabien.ca
SUMMARY:Hockey libre - 12 ans et moins
DESCRIPTION:
URL:https://www.saint-fabien.ca/event-calendar/hockey-libre-12-ans-et-moins-25/
LOCATION:pavillon des loisirs\, 32 8e Avenue Ouest\, Saint-Fabien\, Québec\, G0L2Z0\, Canada
CATEGORIES:Sports et loisirs
ORGANIZER;CN="Les Loisirs St-Fabien Inc.":MAILTO:loisirss@cgocable.ca
GEO:48.2924537;-68.8624063
X-APPLE-STRUCTURED-LOCATION;VALUE=URI;X-ADDRESS=pavillon des loisirs 32 8e Avenue Ouest Saint-Fabien Québec G0L2Z0 Canada;X-APPLE-RADIUS=500;X-TITLE=32 8e Avenue Ouest:geo:-68.8624063,48.2924537
END:VEVENT
END:VCALENDAR