BEGIN:VCALENDAR
VERSION:2.0
PRODID:-//Municipalité de Saint-Fabien - ECPv6.15.20//NONSGML v1.0//EN
CALSCALE:GREGORIAN
METHOD:PUBLISH
X-ORIGINAL-URL:https://www.saint-fabien.ca
X-WR-CALDESC:Évènements pour Municipalité de Saint-Fabien
REFRESH-INTERVAL;VALUE=DURATION:PT1H
X-Robots-Tag:noindex
X-PUBLISHED-TTL:PT1H
BEGIN:VTIMEZONE
TZID:America/Toronto
BEGIN:DAYLIGHT
TZOFFSETFROM:-0500
TZOFFSETTO:-0400
TZNAME:EDT
DTSTART:20180311T070000
END:DAYLIGHT
BEGIN:STANDARD
TZOFFSETFROM:-0400
TZOFFSETTO:-0500
TZNAME:EST
DTSTART:20181104T060000
END:STANDARD
BEGIN:DAYLIGHT
TZOFFSETFROM:-0500
TZOFFSETTO:-0400
TZNAME:EDT
DTSTART:20190310T070000
END:DAYLIGHT
BEGIN:STANDARD
TZOFFSETFROM:-0400
TZOFFSETTO:-0500
TZNAME:EST
DTSTART:20191103T060000
END:STANDARD
BEGIN:DAYLIGHT
TZOFFSETFROM:-0500
TZOFFSETTO:-0400
TZNAME:EDT
DTSTART:20200308T070000
END:DAYLIGHT
BEGIN:STANDARD
TZOFFSETFROM:-0400
TZOFFSETTO:-0500
TZNAME:EST
DTSTART:20201101T060000
END:STANDARD
BEGIN:DAYLIGHT
TZOFFSETFROM:-0500
TZOFFSETTO:-0400
TZNAME:EDT
DTSTART:20210314T070000
END:DAYLIGHT
BEGIN:STANDARD
TZOFFSETFROM:-0400
TZOFFSETTO:-0500
TZNAME:EST
DTSTART:20211107T060000
END:STANDARD
BEGIN:DAYLIGHT
TZOFFSETFROM:-0500
TZOFFSETTO:-0400
TZNAME:EDT
DTSTART:20220313T070000
END:DAYLIGHT
BEGIN:STANDARD
TZOFFSETFROM:-0400
TZOFFSETTO:-0500
TZNAME:EST
DTSTART:20221106T060000
END:STANDARD
BEGIN:DAYLIGHT
TZOFFSETFROM:-0500
TZOFFSETTO:-0400
TZNAME:EDT
DTSTART:20230312T070000
END:DAYLIGHT
BEGIN:STANDARD
TZOFFSETFROM:-0400
TZOFFSETTO:-0500
TZNAME:EST
DTSTART:20231105T060000
END:STANDARD
BEGIN:DAYLIGHT
TZOFFSETFROM:-0500
TZOFFSETTO:-0400
TZNAME:EDT
DTSTART:20240310T070000
END:DAYLIGHT
BEGIN:STANDARD
TZOFFSETFROM:-0400
TZOFFSETTO:-0500
TZNAME:EST
DTSTART:20241103T060000
END:STANDARD
BEGIN:DAYLIGHT
TZOFFSETFROM:-0500
TZOFFSETTO:-0400
TZNAME:EDT
DTSTART:20250309T070000
END:DAYLIGHT
BEGIN:STANDARD
TZOFFSETFROM:-0400
TZOFFSETTO:-0500
TZNAME:EST
DTSTART:20251102T060000
END:STANDARD
BEGIN:DAYLIGHT
TZOFFSETFROM:-0500
TZOFFSETTO:-0400
TZNAME:EDT
DTSTART:20260308T070000
END:DAYLIGHT
BEGIN:STANDARD
TZOFFSETFROM:-0400
TZOFFSETTO:-0500
TZNAME:EST
DTSTART:20261101T060000
END:STANDARD
END:VTIMEZONE
BEGIN:VEVENT
DTSTART;TZID=America/Toronto:20250910T190000
DTEND;TZID=America/Toronto:20250910T203000
DTSTAMP:20260419T141108
CREATED:20250612T133137Z
LAST-MODIFIED:20250612T133137Z
UID:10025958-1757530800-1757536200@www.saint-fabien.ca
SUMMARY:Ateliers cuisine santé avec Yvette Ravenet
DESCRIPTION:Les ateliers seront proposés au Camping de Saint-Fabien à 19h les mercredis et seront d’une durée de 1h30 environ. \nIls sont gratuits\, sans inscription\, ouverts à toutes et à tous : campeurs\, vacanciers\, Fabiennois.e.s… \nPour plus d’informations : YRnaturopathe@icloud.com \n25 juin : les graines germées \n23 juillet : cuisine santé en vacances \n30 juillet : la déshydratation pour les vacances \n6 août : cuisine santé petit budget \n13 août : les lactofermentations pour les vacances \n27 août : initiation à la déshydratation \n3 septembre : initiation à la lactofermentation \n10 septembre : cuisine anti-inflammatoire
URL:https://www.saint-fabien.ca/event-calendar/ateliers-cuisine-sante-avec-yvette-ravenet/2025-09-10/
LOCATION:Bureau d’accueil touristique\, 33 route 132 Ouest\, Saint-Fabien\, Québec\, G0L2Z0\, Canada
CATEGORIES:Sports et loisirs
GEO:48.2967343;-68.8686548
X-APPLE-STRUCTURED-LOCATION;VALUE=URI;X-ADDRESS=Bureau d’accueil touristique 33 route 132 Ouest Saint-Fabien Québec G0L2Z0 Canada;X-APPLE-RADIUS=500;X-TITLE=33 route 132 Ouest:geo:-68.8686548,48.2967343
END:VEVENT
BEGIN:VEVENT
DTSTART;TZID=America/Toronto:20250903T190000
DTEND;TZID=America/Toronto:20250903T203000
DTSTAMP:20260419T141108
CREATED:20250612T133137Z
LAST-MODIFIED:20250612T133137Z
UID:10025957-1756926000-1756931400@www.saint-fabien.ca
SUMMARY:Ateliers cuisine santé avec Yvette Ravenet
DESCRIPTION:Les ateliers seront proposés au Camping de Saint-Fabien à 19h les mercredis et seront d’une durée de 1h30 environ. \nIls sont gratuits\, sans inscription\, ouverts à toutes et à tous : campeurs\, vacanciers\, Fabiennois.e.s… \nPour plus d’informations : YRnaturopathe@icloud.com \n25 juin : les graines germées \n23 juillet : cuisine santé en vacances \n30 juillet : la déshydratation pour les vacances \n6 août : cuisine santé petit budget \n13 août : les lactofermentations pour les vacances \n27 août : initiation à la déshydratation \n3 septembre : initiation à la lactofermentation \n10 septembre : cuisine anti-inflammatoire
URL:https://www.saint-fabien.ca/event-calendar/ateliers-cuisine-sante-avec-yvette-ravenet/2025-09-03/
LOCATION:Bureau d’accueil touristique\, 33 route 132 Ouest\, Saint-Fabien\, Québec\, G0L2Z0\, Canada
CATEGORIES:Sports et loisirs
GEO:48.2967343;-68.8686548
X-APPLE-STRUCTURED-LOCATION;VALUE=URI;X-ADDRESS=Bureau d’accueil touristique 33 route 132 Ouest Saint-Fabien Québec G0L2Z0 Canada;X-APPLE-RADIUS=500;X-TITLE=33 route 132 Ouest:geo:-68.8686548,48.2967343
END:VEVENT
BEGIN:VEVENT
DTSTART;TZID=America/Toronto:20250827T190000
DTEND;TZID=America/Toronto:20250827T203000
DTSTAMP:20260419T141108
CREATED:20250612T133137Z
LAST-MODIFIED:20250612T133137Z
UID:10025956-1756321200-1756326600@www.saint-fabien.ca
SUMMARY:Ateliers cuisine santé avec Yvette Ravenet
DESCRIPTION:Les ateliers seront proposés au Camping de Saint-Fabien à 19h les mercredis et seront d’une durée de 1h30 environ. \nIls sont gratuits\, sans inscription\, ouverts à toutes et à tous : campeurs\, vacanciers\, Fabiennois.e.s… \nPour plus d’informations : YRnaturopathe@icloud.com \n25 juin : les graines germées \n23 juillet : cuisine santé en vacances \n30 juillet : la déshydratation pour les vacances \n6 août : cuisine santé petit budget \n13 août : les lactofermentations pour les vacances \n27 août : initiation à la déshydratation \n3 septembre : initiation à la lactofermentation \n10 septembre : cuisine anti-inflammatoire
URL:https://www.saint-fabien.ca/event-calendar/ateliers-cuisine-sante-avec-yvette-ravenet/2025-08-27/
LOCATION:Bureau d’accueil touristique\, 33 route 132 Ouest\, Saint-Fabien\, Québec\, G0L2Z0\, Canada
CATEGORIES:Sports et loisirs
GEO:48.2967343;-68.8686548
X-APPLE-STRUCTURED-LOCATION;VALUE=URI;X-ADDRESS=Bureau d’accueil touristique 33 route 132 Ouest Saint-Fabien Québec G0L2Z0 Canada;X-APPLE-RADIUS=500;X-TITLE=33 route 132 Ouest:geo:-68.8686548,48.2967343
END:VEVENT
BEGIN:VEVENT
DTSTART;TZID=America/Toronto:20250813T190000
DTEND;TZID=America/Toronto:20250813T203000
DTSTAMP:20260419T141108
CREATED:20250612T133137Z
LAST-MODIFIED:20250612T133137Z
UID:10025955-1755111600-1755117000@www.saint-fabien.ca
SUMMARY:Ateliers cuisine santé avec Yvette Ravenet
DESCRIPTION:Les ateliers seront proposés au Camping de Saint-Fabien à 19h les mercredis et seront d’une durée de 1h30 environ. \nIls sont gratuits\, sans inscription\, ouverts à toutes et à tous : campeurs\, vacanciers\, Fabiennois.e.s… \nPour plus d’informations : YRnaturopathe@icloud.com \n25 juin : les graines germées \n23 juillet : cuisine santé en vacances \n30 juillet : la déshydratation pour les vacances \n6 août : cuisine santé petit budget \n13 août : les lactofermentations pour les vacances \n27 août : initiation à la déshydratation \n3 septembre : initiation à la lactofermentation \n10 septembre : cuisine anti-inflammatoire
URL:https://www.saint-fabien.ca/event-calendar/ateliers-cuisine-sante-avec-yvette-ravenet/2025-08-13/
LOCATION:Bureau d’accueil touristique\, 33 route 132 Ouest\, Saint-Fabien\, Québec\, G0L2Z0\, Canada
CATEGORIES:Sports et loisirs
GEO:48.2967343;-68.8686548
X-APPLE-STRUCTURED-LOCATION;VALUE=URI;X-ADDRESS=Bureau d’accueil touristique 33 route 132 Ouest Saint-Fabien Québec G0L2Z0 Canada;X-APPLE-RADIUS=500;X-TITLE=33 route 132 Ouest:geo:-68.8686548,48.2967343
END:VEVENT
BEGIN:VEVENT
DTSTART;TZID=America/Toronto:20250806T190000
DTEND;TZID=America/Toronto:20250806T203000
DTSTAMP:20260419T141108
CREATED:20250612T133137Z
LAST-MODIFIED:20250612T133137Z
UID:10025954-1754506800-1754512200@www.saint-fabien.ca
SUMMARY:Ateliers cuisine santé avec Yvette Ravenet
DESCRIPTION:Les ateliers seront proposés au Camping de Saint-Fabien à 19h les mercredis et seront d’une durée de 1h30 environ. \nIls sont gratuits\, sans inscription\, ouverts à toutes et à tous : campeurs\, vacanciers\, Fabiennois.e.s… \nPour plus d’informations : YRnaturopathe@icloud.com \n25 juin : les graines germées \n23 juillet : cuisine santé en vacances \n30 juillet : la déshydratation pour les vacances \n6 août : cuisine santé petit budget \n13 août : les lactofermentations pour les vacances \n27 août : initiation à la déshydratation \n3 septembre : initiation à la lactofermentation \n10 septembre : cuisine anti-inflammatoire
URL:https://www.saint-fabien.ca/event-calendar/ateliers-cuisine-sante-avec-yvette-ravenet/2025-08-06/
LOCATION:Bureau d’accueil touristique\, 33 route 132 Ouest\, Saint-Fabien\, Québec\, G0L2Z0\, Canada
CATEGORIES:Sports et loisirs
GEO:48.2967343;-68.8686548
X-APPLE-STRUCTURED-LOCATION;VALUE=URI;X-ADDRESS=Bureau d’accueil touristique 33 route 132 Ouest Saint-Fabien Québec G0L2Z0 Canada;X-APPLE-RADIUS=500;X-TITLE=33 route 132 Ouest:geo:-68.8686548,48.2967343
END:VEVENT
BEGIN:VEVENT
DTSTART;TZID=America/Toronto:20250730T190000
DTEND;TZID=America/Toronto:20250730T203000
DTSTAMP:20260419T141108
CREATED:20250612T133137Z
LAST-MODIFIED:20250612T133137Z
UID:10025953-1753902000-1753907400@www.saint-fabien.ca
SUMMARY:Ateliers cuisine santé avec Yvette Ravenet
DESCRIPTION:Les ateliers seront proposés au Camping de Saint-Fabien à 19h les mercredis et seront d’une durée de 1h30 environ. \nIls sont gratuits\, sans inscription\, ouverts à toutes et à tous : campeurs\, vacanciers\, Fabiennois.e.s… \nPour plus d’informations : YRnaturopathe@icloud.com \n25 juin : les graines germées \n23 juillet : cuisine santé en vacances \n30 juillet : la déshydratation pour les vacances \n6 août : cuisine santé petit budget \n13 août : les lactofermentations pour les vacances \n27 août : initiation à la déshydratation \n3 septembre : initiation à la lactofermentation \n10 septembre : cuisine anti-inflammatoire
URL:https://www.saint-fabien.ca/event-calendar/ateliers-cuisine-sante-avec-yvette-ravenet/2025-07-30/
LOCATION:Bureau d’accueil touristique\, 33 route 132 Ouest\, Saint-Fabien\, Québec\, G0L2Z0\, Canada
CATEGORIES:Sports et loisirs
GEO:48.2967343;-68.8686548
X-APPLE-STRUCTURED-LOCATION;VALUE=URI;X-ADDRESS=Bureau d’accueil touristique 33 route 132 Ouest Saint-Fabien Québec G0L2Z0 Canada;X-APPLE-RADIUS=500;X-TITLE=33 route 132 Ouest:geo:-68.8686548,48.2967343
END:VEVENT
BEGIN:VEVENT
DTSTART;TZID=America/Toronto:20250723T190000
DTEND;TZID=America/Toronto:20250723T203000
DTSTAMP:20260419T141108
CREATED:20250612T133137Z
LAST-MODIFIED:20250612T133137Z
UID:10025952-1753297200-1753302600@www.saint-fabien.ca
SUMMARY:Ateliers cuisine santé avec Yvette Ravenet
DESCRIPTION:Les ateliers seront proposés au Camping de Saint-Fabien à 19h les mercredis et seront d’une durée de 1h30 environ. \nIls sont gratuits\, sans inscription\, ouverts à toutes et à tous : campeurs\, vacanciers\, Fabiennois.e.s… \nPour plus d’informations : YRnaturopathe@icloud.com \n25 juin : les graines germées \n23 juillet : cuisine santé en vacances \n30 juillet : la déshydratation pour les vacances \n6 août : cuisine santé petit budget \n13 août : les lactofermentations pour les vacances \n27 août : initiation à la déshydratation \n3 septembre : initiation à la lactofermentation \n10 septembre : cuisine anti-inflammatoire
URL:https://www.saint-fabien.ca/event-calendar/ateliers-cuisine-sante-avec-yvette-ravenet/2025-07-23/
LOCATION:Bureau d’accueil touristique\, 33 route 132 Ouest\, Saint-Fabien\, Québec\, G0L2Z0\, Canada
CATEGORIES:Sports et loisirs
GEO:48.2967343;-68.8686548
X-APPLE-STRUCTURED-LOCATION;VALUE=URI;X-ADDRESS=Bureau d’accueil touristique 33 route 132 Ouest Saint-Fabien Québec G0L2Z0 Canada;X-APPLE-RADIUS=500;X-TITLE=33 route 132 Ouest:geo:-68.8686548,48.2967343
END:VEVENT
BEGIN:VEVENT
DTSTART;TZID=America/Toronto:20250625T190000
DTEND;TZID=America/Toronto:20250625T203000
DTSTAMP:20260419T141108
CREATED:20250612T133137Z
LAST-MODIFIED:20250612T133137Z
UID:10025951-1750878000-1750883400@www.saint-fabien.ca
SUMMARY:Ateliers cuisine santé avec Yvette Ravenet
DESCRIPTION:Les ateliers seront proposés au Camping de Saint-Fabien à 19h les mercredis et seront d’une durée de 1h30 environ. \nIls sont gratuits\, sans inscription\, ouverts à toutes et à tous : campeurs\, vacanciers\, Fabiennois.e.s… \nPour plus d’informations : YRnaturopathe@icloud.com \n25 juin : les graines germées \n23 juillet : cuisine santé en vacances \n30 juillet : la déshydratation pour les vacances \n6 août : cuisine santé petit budget \n13 août : les lactofermentations pour les vacances \n27 août : initiation à la déshydratation \n3 septembre : initiation à la lactofermentation \n10 septembre : cuisine anti-inflammatoire
URL:https://www.saint-fabien.ca/event-calendar/ateliers-cuisine-sante-avec-yvette-ravenet/2025-06-25/
LOCATION:Bureau d’accueil touristique\, 33 route 132 Ouest\, Saint-Fabien\, Québec\, G0L2Z0\, Canada
CATEGORIES:Sports et loisirs
GEO:48.2967343;-68.8686548
X-APPLE-STRUCTURED-LOCATION;VALUE=URI;X-ADDRESS=Bureau d’accueil touristique 33 route 132 Ouest Saint-Fabien Québec G0L2Z0 Canada;X-APPLE-RADIUS=500;X-TITLE=33 route 132 Ouest:geo:-68.8686548,48.2967343
END:VEVENT
BEGIN:VEVENT
DTSTART;TZID=America/Toronto:20250318T163000
DTEND;TZID=America/Toronto:20250318T183000
DTSTAMP:20260419T141108
CREATED:20250129T221943Z
LAST-MODIFIED:20250129T221943Z
UID:10025851-1742315400-1742322600@www.saint-fabien.ca
SUMMARY:Ateliers de cuisine
DESCRIPTION:Des ateliers de cuisine dispensés par Marie-Christine Boulanger\, diplômée en technique de diététique au cégep de Rimouski et technicienne en travaux pratiques au Lab École de Rimouski\, se dérouleront le mardi 18 février de 16h30 à 18h30 et le mardi 18 mars de 16h30 à 18h30 au sous-sol du Bureau d’accueil touristique (33 Route 132 Ouest). Le thème du premier atelier sera Tofu façon général Tao et le deuxième sera Barres tendres aux lentilles. Il est déjà possible de s’inscrire (maximum de 8 participants par atelier) en écrivant à : communication@saintfabien.net \nProfitez-en\, c’est gratuit !!
URL:https://www.saint-fabien.ca/event-calendar/ateliers-de-cuisine-2/2025-03-18/
LOCATION:Bureau d’accueil touristique\, 33 route 132 Ouest\, Saint-Fabien\, Québec\, G0L2Z0\, Canada
CATEGORIES:Activités communautaires
GEO:48.2967343;-68.8686548
X-APPLE-STRUCTURED-LOCATION;VALUE=URI;X-ADDRESS=Bureau d’accueil touristique 33 route 132 Ouest Saint-Fabien Québec G0L2Z0 Canada;X-APPLE-RADIUS=500;X-TITLE=33 route 132 Ouest:geo:-68.8686548,48.2967343
END:VEVENT
BEGIN:VEVENT
DTSTART;TZID=America/Toronto:20250305T153000
DTEND;TZID=America/Toronto:20250305T173000
DTSTAMP:20260419T141108
CREATED:20250227T154420Z
LAST-MODIFIED:20250227T154420Z
UID:10025886-1741188600-1741195800@www.saint-fabien.ca
SUMMARY:Atelier de cuisine avec Marie-Christine Boulanger
DESCRIPTION:Des ateliers de cuisine dispensés par Marie-Christine Boulanger\, diplômée en technique de diététique au cégep de Rimouski et technicienne en travaux pratiques au Lab École de Rimouski\, se dérouleront le mercredi 5 mars de 16h30 à 18h30 et le mardi 18 mars de 16h30 à 18h30 au sous-sol du Bureau d’information touristique (33 Route 132 Ouest). Le thème du premier atelier sera “Tofu façon général Tao” et le deuxième sera “Barres tendres aux lentilles”. Il est déjà possible de s’inscrire (maximum de 8 participants par atelier) en écrivant à : communication@saintfabien.netProfitez-en\, c’est gratuit !!
URL:https://www.saint-fabien.ca/event-calendar/atelier-de-cuisine-avec-marie-christine-boulanger/
LOCATION:Bureau d’accueil touristique\, 33 route 132 Ouest\, Saint-Fabien\, Québec\, G0L2Z0\, Canada
CATEGORIES:Sports et loisirs
GEO:48.2967343;-68.8686548
X-APPLE-STRUCTURED-LOCATION;VALUE=URI;X-ADDRESS=Bureau d’accueil touristique 33 route 132 Ouest Saint-Fabien Québec G0L2Z0 Canada;X-APPLE-RADIUS=500;X-TITLE=33 route 132 Ouest:geo:-68.8686548,48.2967343
END:VEVENT
BEGIN:VEVENT
DTSTART;TZID=America/Toronto:20250218T153000
DTEND;TZID=America/Toronto:20250218T173000
DTSTAMP:20260419T141108
CREATED:20250218T172954Z
LAST-MODIFIED:20250218T172954Z
UID:10025850-1739892600-1739899800@www.saint-fabien.ca
SUMMARY:ANNULÉ - Ateliers de cuisine
DESCRIPTION:MISE À JOUR\, 18 FÉVRIER : L’atelier du 18 février doit être remis en raison des conditions météo encore difficiles. Restez aux aguets pour connaître la nouvelle date. Merci de votre compréhension ! \nDes ateliers de cuisine dispensés par Marie-Christine Boulanger\, diplômée en technique de diététique au cégep de Rimouski et technicienne en travaux pratiques au Lab École de Rimouski\, se dérouleront le mardi 18 février de 16h30 à 18h30 et le mardi 18 mars de 16h30 à 18h30 au sous-sol du Bureau d’accueil touristique (33 Route 132 Ouest). Le thème du premier atelier sera Tofu façon général Tao et le deuxième sera Barres tendres aux lentilles. Il est déjà possible de s’inscrire (maximum de 8 participants par atelier) en écrivant à : communication@saintfabien.net \nProfitez-en\, c’est gratuit !!
URL:https://www.saint-fabien.ca/event-calendar/ateliers-de-cuisine-2-2/
LOCATION:Bureau d’accueil touristique\, 33 route 132 Ouest\, Saint-Fabien\, Québec\, G0L2Z0\, Canada
CATEGORIES:Activités communautaires
GEO:48.2967343;-68.8686548
X-APPLE-STRUCTURED-LOCATION;VALUE=URI;X-ADDRESS=Bureau d’accueil touristique 33 route 132 Ouest Saint-Fabien Québec G0L2Z0 Canada;X-APPLE-RADIUS=500;X-TITLE=33 route 132 Ouest:geo:-68.8686548,48.2967343
END:VEVENT
BEGIN:VEVENT
DTSTART;TZID=America/Toronto:20240525T100000
DTEND;TZID=America/Toronto:20240525T120000
DTSTAMP:20260419T141108
CREATED:20240408T125644Z
LAST-MODIFIED:20240408T125725Z
UID:10025679-1716631200-1716638400@www.saint-fabien.ca
SUMMARY:Ateliers de cuisine
DESCRIPTION:Des ateliers de cuisine dispensés par Marie-Christine Boulanger\, diplômée en technique de diététique au cégep de Rimouski et responsable en alimentation au CPE du Bic\, se dérouleront le jeudi 25 avril de 16h30 à 18h30 et le samedi 25 mai de 10h à 12h au sous-sol du Bureau d’accueil touristique (33 Route 132 Ouest). Le thème des deux ateliers reste à définir\, mais il est déjà possible de s’inscrire (pour un maximum de 8 participants par atelier) en écrivant à Maryse Aubut à l’adresse suivante : communication@saintfabien.net \nProfitez-en\, c’est gratuit !!
URL:https://www.saint-fabien.ca/event-calendar/ateliers-de-cuisine/2024-05-25/
LOCATION:Bureau d’accueil touristique\, 33 route 132 Ouest\, Saint-Fabien\, Québec\, G0L2Z0\, Canada
CATEGORIES:Activités communautaires
GEO:48.2967343;-68.8686548
X-APPLE-STRUCTURED-LOCATION;VALUE=URI;X-ADDRESS=Bureau d’accueil touristique 33 route 132 Ouest Saint-Fabien Québec G0L2Z0 Canada;X-APPLE-RADIUS=500;X-TITLE=33 route 132 Ouest:geo:-68.8686548,48.2967343
END:VEVENT
BEGIN:VEVENT
DTSTART;TZID=America/Toronto:20240425T163000
DTEND;TZID=America/Toronto:20240425T183000
DTSTAMP:20260419T141108
CREATED:20240408T125644Z
LAST-MODIFIED:20240408T125725Z
UID:10025678-1714062600-1714069800@www.saint-fabien.ca
SUMMARY:Ateliers de cuisine
DESCRIPTION:Des ateliers de cuisine dispensés par Marie-Christine Boulanger\, diplômée en technique de diététique au cégep de Rimouski et responsable en alimentation au CPE du Bic\, se dérouleront le jeudi 25 avril de 16h30 à 18h30 et le samedi 25 mai de 10h à 12h au sous-sol du Bureau d’accueil touristique (33 Route 132 Ouest). Le thème des deux ateliers reste à définir\, mais il est déjà possible de s’inscrire (pour un maximum de 8 participants par atelier) en écrivant à Maryse Aubut à l’adresse suivante : communication@saintfabien.net \nProfitez-en\, c’est gratuit !!
URL:https://www.saint-fabien.ca/event-calendar/ateliers-de-cuisine/2024-04-25/
LOCATION:Bureau d’accueil touristique\, 33 route 132 Ouest\, Saint-Fabien\, Québec\, G0L2Z0\, Canada
CATEGORIES:Activités communautaires
GEO:48.2967343;-68.8686548
X-APPLE-STRUCTURED-LOCATION;VALUE=URI;X-ADDRESS=Bureau d’accueil touristique 33 route 132 Ouest Saint-Fabien Québec G0L2Z0 Canada;X-APPLE-RADIUS=500;X-TITLE=33 route 132 Ouest:geo:-68.8686548,48.2967343
END:VEVENT
BEGIN:VEVENT
DTSTART;TZID=America/Toronto:20230923T083000
DTEND;TZID=America/Toronto:20230923T133000
DTSTAMP:20260419T141108
CREATED:20230905T185154Z
LAST-MODIFIED:20230905T185154Z
UID:10025506-1695457800-1695475800@www.saint-fabien.ca
SUMMARY:Atelier d'initiation à l'autoclave
DESCRIPTION:La Municipalité de Saint-Fabien\, grâce au soutien ﬁnancier de l’Alliance pour la solidarité\, propose aux Fabien-nois.e.s un atelier d’initiation à la mise en conserve à l’autoclave avec Hélène Beauchesne.\nL’atelier\, d’une durée d’environ 4 heures\, permettra aux participant.e.s d’apprendre une méthode éprouvée et sécuritaire de mise en conserve des aliments.\nL’activité est gratuite\, mais il est nécessaire de s’inscrire puisqu’elle est limitée à un maximum de 8 participants par atelier. Les légumes seront fournis\, mais les participants devront amener leurs pots (3 pots de type Mason de 500ml\, avec bagues et couvercles «snaps» neufs).\nIl est possible de s’inscrire pour le vendredi 22 septembre ou le samedi 23 septembre. Les ateliers se dérouleront de 8h30 à 13h30\, au sous-sol du Bureau d’accueil touristique (33 route 132 Ouest). Prévoyez un lunch !\nPour vous inscrire\, écrivez à communication@saintfabien.net en n’oubliant pas de spéciﬁer la jour-née de votre choix ou téléphonez au 418.869.2950 poste 202.\nMentionnons pour terminer que les deux autoclaves utilisés durant la formation pourront être prêtés gratuitement aux Fabiennois.e.s qui l’auront suivie. Un calendrier de prêt sera établi selon les besoins.\nPhoto : Bernardin
URL:https://www.saint-fabien.ca/event-calendar/atelier-dinitiation-a-lautoclave/2023-09-23/
LOCATION:Bureau d’accueil touristique\, 33 route 132 Ouest\, Saint-Fabien\, Québec\, G0L2Z0\, Canada
CATEGORIES:Sports et loisirs
ATTACH;FMTTYPE=image/jpeg:https://www.saint-fabien.ca/wp-content/uploads/2023/09/7302015_114327_134_hot-pickle-mix.jpg
GEO:48.2967343;-68.8686548
X-APPLE-STRUCTURED-LOCATION;VALUE=URI;X-ADDRESS=Bureau d’accueil touristique 33 route 132 Ouest Saint-Fabien Québec G0L2Z0 Canada;X-APPLE-RADIUS=500;X-TITLE=33 route 132 Ouest:geo:-68.8686548,48.2967343
END:VEVENT
BEGIN:VEVENT
DTSTART;TZID=America/Toronto:20230922T083000
DTEND;TZID=America/Toronto:20230922T133000
DTSTAMP:20260419T141108
CREATED:20230905T185154Z
LAST-MODIFIED:20230905T185154Z
UID:10025505-1695371400-1695389400@www.saint-fabien.ca
SUMMARY:Atelier d'initiation à l'autoclave
DESCRIPTION:La Municipalité de Saint-Fabien\, grâce au soutien ﬁnancier de l’Alliance pour la solidarité\, propose aux Fabien-nois.e.s un atelier d’initiation à la mise en conserve à l’autoclave avec Hélène Beauchesne.\nL’atelier\, d’une durée d’environ 4 heures\, permettra aux participant.e.s d’apprendre une méthode éprouvée et sécuritaire de mise en conserve des aliments.\nL’activité est gratuite\, mais il est nécessaire de s’inscrire puisqu’elle est limitée à un maximum de 8 participants par atelier. Les légumes seront fournis\, mais les participants devront amener leurs pots (3 pots de type Mason de 500ml\, avec bagues et couvercles «snaps» neufs).\nIl est possible de s’inscrire pour le vendredi 22 septembre ou le samedi 23 septembre. Les ateliers se dérouleront de 8h30 à 13h30\, au sous-sol du Bureau d’accueil touristique (33 route 132 Ouest). Prévoyez un lunch !\nPour vous inscrire\, écrivez à communication@saintfabien.net en n’oubliant pas de spéciﬁer la jour-née de votre choix ou téléphonez au 418.869.2950 poste 202.\nMentionnons pour terminer que les deux autoclaves utilisés durant la formation pourront être prêtés gratuitement aux Fabiennois.e.s qui l’auront suivie. Un calendrier de prêt sera établi selon les besoins.\nPhoto : Bernardin
URL:https://www.saint-fabien.ca/event-calendar/atelier-dinitiation-a-lautoclave/2023-09-22/
LOCATION:Bureau d’accueil touristique\, 33 route 132 Ouest\, Saint-Fabien\, Québec\, G0L2Z0\, Canada
CATEGORIES:Sports et loisirs
ATTACH;FMTTYPE=image/jpeg:https://www.saint-fabien.ca/wp-content/uploads/2023/09/7302015_114327_134_hot-pickle-mix.jpg
GEO:48.2967343;-68.8686548
X-APPLE-STRUCTURED-LOCATION;VALUE=URI;X-ADDRESS=Bureau d’accueil touristique 33 route 132 Ouest Saint-Fabien Québec G0L2Z0 Canada;X-APPLE-RADIUS=500;X-TITLE=33 route 132 Ouest:geo:-68.8686548,48.2967343
END:VEVENT
BEGIN:VEVENT
DTSTART;TZID=America/Toronto:20230305T123000
DTEND;TZID=America/Toronto:20230305T160000
DTSTAMP:20260419T141108
CREATED:20230224T152548Z
LAST-MODIFIED:20230224T152548Z
UID:10025421-1678019400-1678032000@www.saint-fabien.ca
SUMMARY:Relâche - Randonnée en raquettes !
DESCRIPTION:Départ à 13h30 sur le stationnement du Bureau d’accueil touristique (33 Route 132 Ouest)\nDurée déterminée selon l’âge et la capacité des participants\nSi vous n’avez pas de raquettes\, le Club des 50 ans et + pourra vous en prêter !\nResponsable : Grégory Mertenat – 418 832-0138
URL:https://www.saint-fabien.ca/event-calendar/relache-randonnee-en-raquettes/
LOCATION:Bureau d’accueil touristique\, 33 route 132 Ouest\, Saint-Fabien\, Québec\, G0L2Z0\, Canada
CATEGORIES:Sports et loisirs
GEO:48.2967343;-68.8686548
X-APPLE-STRUCTURED-LOCATION;VALUE=URI;X-ADDRESS=Bureau d’accueil touristique 33 route 132 Ouest Saint-Fabien Québec G0L2Z0 Canada;X-APPLE-RADIUS=500;X-TITLE=33 route 132 Ouest:geo:-68.8686548,48.2967343
END:VEVENT
BEGIN:VEVENT
DTSTART;TZID=America/Toronto:20220924T100000
DTEND;TZID=America/Toronto:20220924T120000
DTSTAMP:20260419T141108
CREATED:20220906T154143Z
LAST-MODIFIED:20220906T154143Z
UID:10025274-1664013600-1664020800@www.saint-fabien.ca
SUMMARY:Randonnée guidée - Sentier des Coulombe
DESCRIPTION:La Corporation de développement Bic/Saint-Fabien propose une randonnée guidée suivie d’une petite collation (contribution volontaire) dans le Sentier des Coulombe\, qui offre pas moins de six points de vue magnifiques sur le fleuve et les montagnes environnantes. \nIl y aura même un prix tiré au hasard parmi tous les participants : une carte de membre randonneur-lecteur de Rando-Québec \nQuand et où ? Le 24 septembre dès 10h\, rdv sur le stationnement du Camping des Murailles \nDifficulté ? Facile à modérée \n25 personnes maximum \nMunissez-vous de bonnes chaussures de marche\, d’eau et d’un sac de rando. \nInscription obligatoire auprès de Grégory Mertenat\, 418 869-3333 poste 2 ou admin@parcdubic.com
URL:https://www.saint-fabien.ca/event-calendar/randonnee-guidee-sentier-des-coulombe/
LOCATION:Bureau d’accueil touristique\, 33 route 132 Ouest\, Saint-Fabien\, Québec\, G0L2Z0\, Canada
CATEGORIES:Sports et loisirs
ATTACH;FMTTYPE=image/jpeg:https://www.saint-fabien.ca/wp-content/uploads/2022/09/302437211_121058857362449_3766233584652988381_n.jpg
GEO:48.2967343;-68.8686548
X-APPLE-STRUCTURED-LOCATION;VALUE=URI;X-ADDRESS=Bureau d’accueil touristique 33 route 132 Ouest Saint-Fabien Québec G0L2Z0 Canada;X-APPLE-RADIUS=500;X-TITLE=33 route 132 Ouest:geo:-68.8686548,48.2967343
END:VEVENT
BEGIN:VEVENT
DTSTART;TZID=America/Toronto:20220709T140000
DTEND;TZID=America/Toronto:20220709T190000
DTSTAMP:20260419T141108
CREATED:20220707T170801Z
LAST-MODIFIED:20220707T170801Z
UID:10025245-1657375200-1657393200@www.saint-fabien.ca
SUMMARY:Cabaret de la diversité
DESCRIPTION:Rando à 14h sur le sentier des Coulombe et BBQ dès 17h !!
URL:https://www.saint-fabien.ca/event-calendar/cabaret-de-la-diversite/
LOCATION:Bureau d’accueil touristique\, 33 route 132 Ouest\, Saint-Fabien\, Québec\, G0L2Z0\, Canada
CATEGORIES:Sports et loisirs
GEO:48.2967343;-68.8686548
X-APPLE-STRUCTURED-LOCATION;VALUE=URI;X-ADDRESS=Bureau d’accueil touristique 33 route 132 Ouest Saint-Fabien Québec G0L2Z0 Canada;X-APPLE-RADIUS=500;X-TITLE=33 route 132 Ouest:geo:-68.8686548,48.2967343
END:VEVENT
BEGIN:VEVENT
DTSTART;TZID=America/Toronto:20191116T080000
DTEND;TZID=America/Toronto:20191116T103000
DTSTAMP:20260419T141108
CREATED:20190828T195058Z
LAST-MODIFIED:20191104T152401Z
UID:10024271-1573891200-1573900200@www.saint-fabien.ca
SUMMARY:Les ateliers de cuisine - Les recettes d'antan
DESCRIPTION:Ces beaux ateliers se tiennent pour une 6e année consécutive et sont rendus possibles grâce au travail des bénévoles et du soutien de la Municipalité et des Loisirs St-Fabien. \nPour participer\, il suffit de s’inscrire auprès de l’une des trois organisatrices\, au moins une semaine à l’avance. \nLes ateliers se déroulent au Bureau d’accueil touristique\, entre 9h et 11h30. \nFrais de 3$ pour les résidents de Saint-Fabien ; 6$ pour les non résidents. \nInfos et inscriptions : \nMarie-France Rioux – 418 869-2484 \nBrigitte Fortin – 418 318-1483 \nNicole Côté – 418 869-2020
URL:https://www.saint-fabien.ca/event-calendar/les-ateliers-de-cuisine-les-recettes-dantan/
LOCATION:Bureau d’accueil touristique\, 33 route 132 Ouest\, Saint-Fabien\, Québec\, G0L2Z0\, Canada
CATEGORIES:Activités communautaires
GEO:48.2967343;-68.8686548
X-APPLE-STRUCTURED-LOCATION;VALUE=URI;X-ADDRESS=Bureau d’accueil touristique 33 route 132 Ouest Saint-Fabien Québec G0L2Z0 Canada;X-APPLE-RADIUS=500;X-TITLE=33 route 132 Ouest:geo:-68.8686548,48.2967343
END:VEVENT
END:VCALENDAR