BEGIN:VCALENDAR
VERSION:2.0
PRODID:-//Municipalité de Saint-Fabien - ECPv6.15.20//NONSGML v1.0//EN
CALSCALE:GREGORIAN
METHOD:PUBLISH
X-WR-CALNAME:Municipalité de Saint-Fabien
X-ORIGINAL-URL:https://www.saint-fabien.ca
X-WR-CALDESC:Évènements pour Municipalité de Saint-Fabien
REFRESH-INTERVAL;VALUE=DURATION:PT1H
X-Robots-Tag:noindex
X-PUBLISHED-TTL:PT1H
BEGIN:VTIMEZONE
TZID:America/Toronto
BEGIN:DAYLIGHT
TZOFFSETFROM:-0500
TZOFFSETTO:-0400
TZNAME:EDT
DTSTART:20240310T070000
END:DAYLIGHT
BEGIN:STANDARD
TZOFFSETFROM:-0400
TZOFFSETTO:-0500
TZNAME:EST
DTSTART:20241103T060000
END:STANDARD
BEGIN:DAYLIGHT
TZOFFSETFROM:-0500
TZOFFSETTO:-0400
TZNAME:EDT
DTSTART:20250309T070000
END:DAYLIGHT
BEGIN:STANDARD
TZOFFSETFROM:-0400
TZOFFSETTO:-0500
TZNAME:EST
DTSTART:20251102T060000
END:STANDARD
BEGIN:DAYLIGHT
TZOFFSETFROM:-0500
TZOFFSETTO:-0400
TZNAME:EDT
DTSTART:20260308T070000
END:DAYLIGHT
BEGIN:STANDARD
TZOFFSETFROM:-0400
TZOFFSETTO:-0500
TZNAME:EST
DTSTART:20261101T060000
END:STANDARD
BEGIN:DAYLIGHT
TZOFFSETFROM:-0500
TZOFFSETTO:-0400
TZNAME:EDT
DTSTART:20270314T070000
END:DAYLIGHT
BEGIN:STANDARD
TZOFFSETFROM:-0400
TZOFFSETTO:-0500
TZNAME:EST
DTSTART:20271107T060000
END:STANDARD
END:VTIMEZONE
BEGIN:VEVENT
DTSTART;VALUE=DATE:20260220
DTEND;VALUE=DATE:20260221
DTSTAMP:20260422T075531
CREATED:20251215T152549Z
LAST-MODIFIED:20260129T210829Z
UID:10026219-1771574400-1771606800@www.saint-fabien.ca
SUMMARY:Déchets - Village et 132
DESCRIPTION:Secteur : village\, rang 1 est et ouest\, route 132
URL:https://www.saint-fabien.ca/event-calendar/dechets-village-et-132/2026-02-20/
LOCATION:municipalité de Saint-Fabien\, 20-A 7 Avenue\, Saint-Fabien\, Québec\, G0L2Z0\, Canada
CATEGORIES:Déchets - Village et 132
GEO:48.2935897;-68.8658383
X-APPLE-STRUCTURED-LOCATION;VALUE=URI;X-ADDRESS=municipalité de Saint-Fabien 20-A 7 Avenue Saint-Fabien Québec G0L2Z0 Canada;X-APPLE-RADIUS=500;X-TITLE=20-A 7 Avenue:geo:-68.8658383,48.2935897
END:VEVENT
BEGIN:VEVENT
DTSTART;VALUE=DATE:20260216
DTEND;VALUE=DATE:20260217
DTSTAMP:20260422T075531
CREATED:20251212T180018Z
LAST-MODIFIED:20260129T210727Z
UID:10026212-1771228800-1771261200@www.saint-fabien.ca
SUMMARY:Déchets - Mer et Rangs
DESCRIPTION:Secteur St-Fabien-sur-Mer\, Route Ladrière\, Rang 2 est et ouest\, Rang 3 est et ouest
URL:https://www.saint-fabien.ca/event-calendar/dechets-mer-et-rangs/2026-02-16/
LOCATION:municipalité de Saint-Fabien\, 20-A 7 Avenue\, Saint-Fabien\, Québec\, G0L2Z0\, Canada
CATEGORIES:Déchets - Mer et Rangs
GEO:48.2935897;-68.8658383
X-APPLE-STRUCTURED-LOCATION;VALUE=URI;X-ADDRESS=municipalité de Saint-Fabien 20-A 7 Avenue Saint-Fabien Québec G0L2Z0 Canada;X-APPLE-RADIUS=500;X-TITLE=20-A 7 Avenue:geo:-68.8658383,48.2935897
END:VEVENT
BEGIN:VEVENT
DTSTART;VALUE=DATE:20260213
DTEND;VALUE=DATE:20260214
DTSTAMP:20260422T075531
CREATED:20251215T163059Z
LAST-MODIFIED:20260129T211003Z
UID:10026226-1770969600-1771002000@www.saint-fabien.ca
SUMMARY:Compost et recyclage - Village et 132
DESCRIPTION:Secteurs : Village\, rang 1 est et ouest\, route 132
URL:https://www.saint-fabien.ca/event-calendar/compost-et-recyclage-village-et-132/2026-02-13/
LOCATION:municipalité de Saint-Fabien\, 20-A 7 Avenue\, Saint-Fabien\, Québec\, G0L2Z0\, Canada
CATEGORIES:Compost et déchets - Village et 132
GEO:48.2935897;-68.8658383
X-APPLE-STRUCTURED-LOCATION;VALUE=URI;X-ADDRESS=municipalité de Saint-Fabien 20-A 7 Avenue Saint-Fabien Québec G0L2Z0 Canada;X-APPLE-RADIUS=500;X-TITLE=20-A 7 Avenue:geo:-68.8658383,48.2935897
END:VEVENT
BEGIN:VEVENT
DTSTART;TZID=America/Toronto:20260209T190000
DTEND;TZID=America/Toronto:20260209T210000
DTSTAMP:20260422T075531
CREATED:20251215T193658Z
LAST-MODIFIED:20260129T211300Z
UID:10026198-1770663600-1770670800@www.saint-fabien.ca
SUMMARY:Séances ordinaires du conseil municipal
DESCRIPTION:Les séances publiques du conseil municipales se déroulent au sous-sol du bureau municipal situé au 20-A\, 7e Avenue.
URL:https://www.saint-fabien.ca/event-calendar/seances-ordinaires-du-conseil-municipal-3/2026-02-09/
LOCATION:municipalité de Saint-Fabien\, 20-A 7 Avenue\, Saint-Fabien\, Québec\, G0L2Z0\, Canada
CATEGORIES:Vie municipale
GEO:48.2935897;-68.8658383
X-APPLE-STRUCTURED-LOCATION;VALUE=URI;X-ADDRESS=municipalité de Saint-Fabien 20-A 7 Avenue Saint-Fabien Québec G0L2Z0 Canada;X-APPLE-RADIUS=500;X-TITLE=20-A 7 Avenue:geo:-68.8658383,48.2935897
END:VEVENT
BEGIN:VEVENT
DTSTART;VALUE=DATE:20260209
DTEND;VALUE=DATE:20260210
DTSTAMP:20260422T075531
CREATED:20251215T161044Z
LAST-MODIFIED:20260129T210917Z
UID:10026224-1770624000-1770656400@www.saint-fabien.ca
SUMMARY:Compost et recyclage - Mer et Rangs
DESCRIPTION:Secteur : St-Fabien-sur-Mer\, route Ladrière\, rang 2 est et ouest\, rang 3 est et ouest
URL:https://www.saint-fabien.ca/event-calendar/compost-et-recyclage-mer-et-rangs/2026-02-09/
LOCATION:municipalité de Saint-Fabien\, 20-A 7 Avenue\, Saint-Fabien\, Québec\, G0L2Z0\, Canada
CATEGORIES:Compost et recyclage - Mer et Rangs
GEO:48.2935897;-68.8658383
X-APPLE-STRUCTURED-LOCATION;VALUE=URI;X-ADDRESS=municipalité de Saint-Fabien 20-A 7 Avenue Saint-Fabien Québec G0L2Z0 Canada;X-APPLE-RADIUS=500;X-TITLE=20-A 7 Avenue:geo:-68.8658383,48.2935897
END:VEVENT
BEGIN:VEVENT
DTSTART;VALUE=DATE:20260206
DTEND;VALUE=DATE:20260207
DTSTAMP:20260422T075531
CREATED:20251215T152549Z
LAST-MODIFIED:20260129T210829Z
UID:10026218-1770364800-1770397200@www.saint-fabien.ca
SUMMARY:Déchets - Village et 132
DESCRIPTION:Secteur : village\, rang 1 est et ouest\, route 132
URL:https://www.saint-fabien.ca/event-calendar/dechets-village-et-132/2026-02-06/
LOCATION:municipalité de Saint-Fabien\, 20-A 7 Avenue\, Saint-Fabien\, Québec\, G0L2Z0\, Canada
CATEGORIES:Déchets - Village et 132
GEO:48.2935897;-68.8658383
X-APPLE-STRUCTURED-LOCATION;VALUE=URI;X-ADDRESS=municipalité de Saint-Fabien 20-A 7 Avenue Saint-Fabien Québec G0L2Z0 Canada;X-APPLE-RADIUS=500;X-TITLE=20-A 7 Avenue:geo:-68.8658383,48.2935897
END:VEVENT
BEGIN:VEVENT
DTSTART;VALUE=DATE:20260202
DTEND;VALUE=DATE:20260203
DTSTAMP:20260422T075531
CREATED:20251212T180018Z
LAST-MODIFIED:20260129T210727Z
UID:10026211-1770019200-1770051600@www.saint-fabien.ca
SUMMARY:Déchets - Mer et Rangs
DESCRIPTION:Secteur St-Fabien-sur-Mer\, Route Ladrière\, Rang 2 est et ouest\, Rang 3 est et ouest
URL:https://www.saint-fabien.ca/event-calendar/dechets-mer-et-rangs/2026-02-02/
LOCATION:municipalité de Saint-Fabien\, 20-A 7 Avenue\, Saint-Fabien\, Québec\, G0L2Z0\, Canada
CATEGORIES:Déchets - Mer et Rangs
GEO:48.2935897;-68.8658383
X-APPLE-STRUCTURED-LOCATION;VALUE=URI;X-ADDRESS=municipalité de Saint-Fabien 20-A 7 Avenue Saint-Fabien Québec G0L2Z0 Canada;X-APPLE-RADIUS=500;X-TITLE=20-A 7 Avenue:geo:-68.8658383,48.2935897
END:VEVENT
BEGIN:VEVENT
DTSTART;VALUE=DATE:20260130
DTEND;VALUE=DATE:20260131
DTSTAMP:20260422T075531
CREATED:20251215T160454Z
LAST-MODIFIED:20260129T210553Z
UID:10026203-1769760000-1769792400@www.saint-fabien.ca
SUMMARY:Recyclage - Village et 132
DESCRIPTION:Secteur : Village\, rang 1 est et ouest\, route 132
URL:https://www.saint-fabien.ca/event-calendar/recyclage-village-et-132/2026-01-30/
LOCATION:municipalité de Saint-Fabien\, 20-A 7 Avenue\, Saint-Fabien\, Québec\, G0L2Z0\, Canada
CATEGORIES:Recyclage - Village et 132
GEO:48.2935897;-68.8658383
X-APPLE-STRUCTURED-LOCATION;VALUE=URI;X-ADDRESS=municipalité de Saint-Fabien 20-A 7 Avenue Saint-Fabien Québec G0L2Z0 Canada;X-APPLE-RADIUS=500;X-TITLE=20-A 7 Avenue:geo:-68.8658383,48.2935897
END:VEVENT
BEGIN:VEVENT
DTSTART;VALUE=DATE:20260126
DTEND;VALUE=DATE:20260127
DTSTAMP:20260422T075531
CREATED:20251215T160026Z
LAST-MODIFIED:20260129T211134Z
UID:10026227-1769385600-1769471999@www.saint-fabien.ca
SUMMARY:Recyclage - Mer et rangs
DESCRIPTION:Secteur : St-Fabien-sur-Mer\, Route Ladrière\, Rang 2 est et ouest\, Rang 3 est et ouest
URL:https://www.saint-fabien.ca/event-calendar/recyclage-mer-et-rangs/2026-01-26/
LOCATION:municipalité de Saint-Fabien\, 20-A 7 Avenue\, Saint-Fabien\, Québec\, G0L2Z0\, Canada
CATEGORIES:Recyclage - Mer et Rangs
GEO:48.2935897;-68.8658383
X-APPLE-STRUCTURED-LOCATION;VALUE=URI;X-ADDRESS=municipalité de Saint-Fabien 20-A 7 Avenue Saint-Fabien Québec G0L2Z0 Canada;X-APPLE-RADIUS=500;X-TITLE=20-A 7 Avenue:geo:-68.8658383,48.2935897
END:VEVENT
BEGIN:VEVENT
DTSTART;VALUE=DATE:20260123
DTEND;VALUE=DATE:20260124
DTSTAMP:20260422T075531
CREATED:20251215T152549Z
LAST-MODIFIED:20260129T210829Z
UID:10026217-1769155200-1769187600@www.saint-fabien.ca
SUMMARY:Déchets - Village et 132
DESCRIPTION:Secteur : village\, rang 1 est et ouest\, route 132
URL:https://www.saint-fabien.ca/event-calendar/dechets-village-et-132/2026-01-23/
LOCATION:municipalité de Saint-Fabien\, 20-A 7 Avenue\, Saint-Fabien\, Québec\, G0L2Z0\, Canada
CATEGORIES:Déchets - Village et 132
GEO:48.2935897;-68.8658383
X-APPLE-STRUCTURED-LOCATION;VALUE=URI;X-ADDRESS=municipalité de Saint-Fabien 20-A 7 Avenue Saint-Fabien Québec G0L2Z0 Canada;X-APPLE-RADIUS=500;X-TITLE=20-A 7 Avenue:geo:-68.8658383,48.2935897
END:VEVENT
BEGIN:VEVENT
DTSTART;VALUE=DATE:20260119
DTEND;VALUE=DATE:20260120
DTSTAMP:20260422T075531
CREATED:20251212T180018Z
LAST-MODIFIED:20260129T210727Z
UID:10026210-1768809600-1768842000@www.saint-fabien.ca
SUMMARY:Déchets - Mer et Rangs
DESCRIPTION:Secteur St-Fabien-sur-Mer\, Route Ladrière\, Rang 2 est et ouest\, Rang 3 est et ouest
URL:https://www.saint-fabien.ca/event-calendar/dechets-mer-et-rangs/2026-01-19/
LOCATION:municipalité de Saint-Fabien\, 20-A 7 Avenue\, Saint-Fabien\, Québec\, G0L2Z0\, Canada
CATEGORIES:Déchets - Mer et Rangs
GEO:48.2935897;-68.8658383
X-APPLE-STRUCTURED-LOCATION;VALUE=URI;X-ADDRESS=municipalité de Saint-Fabien 20-A 7 Avenue Saint-Fabien Québec G0L2Z0 Canada;X-APPLE-RADIUS=500;X-TITLE=20-A 7 Avenue:geo:-68.8658383,48.2935897
END:VEVENT
BEGIN:VEVENT
DTSTART;VALUE=DATE:20260118
DTEND;VALUE=DATE:20260119
DTSTAMP:20260422T075531
CREATED:20251215T220530Z
LAST-MODIFIED:20260129T211042Z
UID:10026170-1768694400-1768780799@www.saint-fabien.ca
SUMMARY:Date de tombée des articles pour Le Fabiennois
DESCRIPTION:Envoyez vos infos ou articles avant le 18 janvier 2026 !
URL:https://www.saint-fabien.ca/event-calendar/date-de-tombee-des-articles-pour-le-fabiennois-21/
LOCATION:municipalité de Saint-Fabien\, 20-A 7 Avenue\, Saint-Fabien\, Québec\, G0L2Z0\, Canada
CATEGORIES:Vie municipale
GEO:48.2935897;-68.8658383
X-APPLE-STRUCTURED-LOCATION;VALUE=URI;X-ADDRESS=municipalité de Saint-Fabien 20-A 7 Avenue Saint-Fabien Québec G0L2Z0 Canada;X-APPLE-RADIUS=500;X-TITLE=20-A 7 Avenue:geo:-68.8658383,48.2935897
END:VEVENT
BEGIN:VEVENT
DTSTART;VALUE=DATE:20260116
DTEND;VALUE=DATE:20260117
DTSTAMP:20260422T075531
CREATED:20251215T163059Z
LAST-MODIFIED:20260129T211003Z
UID:10026225-1768521600-1768607999@www.saint-fabien.ca
SUMMARY:Compost et recyclage - Village et 132
DESCRIPTION:Secteurs : Village\, rang 1 est et ouest\, route 132
URL:https://www.saint-fabien.ca/event-calendar/compost-et-recyclage-village-et-132/2026-01-16/
LOCATION:municipalité de Saint-Fabien\, 20-A 7 Avenue\, Saint-Fabien\, Québec\, G0L2Z0\, Canada
CATEGORIES:Compost et déchets - Village et 132
GEO:48.2935897;-68.8658383
X-APPLE-STRUCTURED-LOCATION;VALUE=URI;X-ADDRESS=municipalité de Saint-Fabien 20-A 7 Avenue Saint-Fabien Québec G0L2Z0 Canada;X-APPLE-RADIUS=500;X-TITLE=20-A 7 Avenue:geo:-68.8658383,48.2935897
END:VEVENT
BEGIN:VEVENT
DTSTART;TZID=America/Toronto:20260112T190000
DTEND;TZID=America/Toronto:20260112T210000
DTSTAMP:20260422T075531
CREATED:20251215T193658Z
LAST-MODIFIED:20260129T211300Z
UID:10026234-1768244400-1768251600@www.saint-fabien.ca
SUMMARY:Séances ordinaires du conseil municipal
DESCRIPTION:Les séances publiques du conseil municipales se déroulent au sous-sol du bureau municipal situé au 20-A\, 7e Avenue.
URL:https://www.saint-fabien.ca/event-calendar/seances-ordinaires-du-conseil-municipal-3/2026-01-12/
LOCATION:municipalité de Saint-Fabien\, 20-A 7 Avenue\, Saint-Fabien\, Québec\, G0L2Z0\, Canada
CATEGORIES:Vie municipale
GEO:48.2935897;-68.8658383
X-APPLE-STRUCTURED-LOCATION;VALUE=URI;X-ADDRESS=municipalité de Saint-Fabien 20-A 7 Avenue Saint-Fabien Québec G0L2Z0 Canada;X-APPLE-RADIUS=500;X-TITLE=20-A 7 Avenue:geo:-68.8658383,48.2935897
END:VEVENT
BEGIN:VEVENT
DTSTART;VALUE=DATE:20260112
DTEND;VALUE=DATE:20260113
DTSTAMP:20260422T075531
CREATED:20251215T161044Z
LAST-MODIFIED:20260129T210917Z
UID:10026223-1768176000-1768262399@www.saint-fabien.ca
SUMMARY:Compost et recyclage - Mer et Rangs
DESCRIPTION:Secteur : St-Fabien-sur-Mer\, route Ladrière\, rang 2 est et ouest\, rang 3 est et ouest
URL:https://www.saint-fabien.ca/event-calendar/compost-et-recyclage-mer-et-rangs/2026-01-12/
LOCATION:municipalité de Saint-Fabien\, 20-A 7 Avenue\, Saint-Fabien\, Québec\, G0L2Z0\, Canada
CATEGORIES:Compost et recyclage - Mer et Rangs
GEO:48.2935897;-68.8658383
X-APPLE-STRUCTURED-LOCATION;VALUE=URI;X-ADDRESS=municipalité de Saint-Fabien 20-A 7 Avenue Saint-Fabien Québec G0L2Z0 Canada;X-APPLE-RADIUS=500;X-TITLE=20-A 7 Avenue:geo:-68.8658383,48.2935897
END:VEVENT
BEGIN:VEVENT
DTSTART;VALUE=DATE:20260109
DTEND;VALUE=DATE:20260110
DTSTAMP:20260422T075531
CREATED:20251215T152549Z
LAST-MODIFIED:20260129T210829Z
UID:10026216-1767916800-1768003199@www.saint-fabien.ca
SUMMARY:Déchets - Village et 132
DESCRIPTION:Secteur : village\, rang 1 est et ouest\, route 132
URL:https://www.saint-fabien.ca/event-calendar/dechets-village-et-132/2026-01-09/
LOCATION:municipalité de Saint-Fabien\, 20-A 7 Avenue\, Saint-Fabien\, Québec\, G0L2Z0\, Canada
CATEGORIES:Déchets - Village et 132
GEO:48.2935897;-68.8658383
X-APPLE-STRUCTURED-LOCATION;VALUE=URI;X-ADDRESS=municipalité de Saint-Fabien 20-A 7 Avenue Saint-Fabien Québec G0L2Z0 Canada;X-APPLE-RADIUS=500;X-TITLE=20-A 7 Avenue:geo:-68.8658383,48.2935897
END:VEVENT
BEGIN:VEVENT
DTSTART;VALUE=DATE:20260105
DTEND;VALUE=DATE:20260106
DTSTAMP:20260422T075531
CREATED:20251212T180018Z
LAST-MODIFIED:20260129T210727Z
UID:10026209-1767571200-1767657599@www.saint-fabien.ca
SUMMARY:Déchets - Mer et Rangs
DESCRIPTION:Secteur St-Fabien-sur-Mer\, Route Ladrière\, Rang 2 est et ouest\, Rang 3 est et ouest
URL:https://www.saint-fabien.ca/event-calendar/dechets-mer-et-rangs/2026-01-05/
LOCATION:municipalité de Saint-Fabien\, 20-A 7 Avenue\, Saint-Fabien\, Québec\, G0L2Z0\, Canada
CATEGORIES:Déchets - Mer et Rangs
GEO:48.2935897;-68.8658383
X-APPLE-STRUCTURED-LOCATION;VALUE=URI;X-ADDRESS=municipalité de Saint-Fabien 20-A 7 Avenue Saint-Fabien Québec G0L2Z0 Canada;X-APPLE-RADIUS=500;X-TITLE=20-A 7 Avenue:geo:-68.8658383,48.2935897
END:VEVENT
BEGIN:VEVENT
DTSTART;VALUE=DATE:20260102
DTEND;VALUE=DATE:20260103
DTSTAMP:20260422T075531
CREATED:20251215T160454Z
LAST-MODIFIED:20260129T210553Z
UID:10026202-1767312000-1767398399@www.saint-fabien.ca
SUMMARY:Recyclage - Village et 132
DESCRIPTION:Secteur : Village\, rang 1 est et ouest\, route 132
URL:https://www.saint-fabien.ca/event-calendar/recyclage-village-et-132/2026-01-02/
LOCATION:municipalité de Saint-Fabien\, 20-A 7 Avenue\, Saint-Fabien\, Québec\, G0L2Z0\, Canada
CATEGORIES:Recyclage - Village et 132
GEO:48.2935897;-68.8658383
X-APPLE-STRUCTURED-LOCATION;VALUE=URI;X-ADDRESS=municipalité de Saint-Fabien 20-A 7 Avenue Saint-Fabien Québec G0L2Z0 Canada;X-APPLE-RADIUS=500;X-TITLE=20-A 7 Avenue:geo:-68.8658383,48.2935897
END:VEVENT
BEGIN:VEVENT
DTSTART;TZID=America/Toronto:20251216T060000
DTEND;TZID=America/Toronto:20251216T160000
DTSTAMP:20260422T075531
CREATED:20251215T151443Z
LAST-MODIFIED:20251215T151443Z
UID:10026061-1765864800-1765900800@www.saint-fabien.ca
SUMMARY:Travaux sur la station de pompage des eaux usées du Faubourg du moulin
DESCRIPTION:Des travaux seront réalisés mardi le 16 décembre entre 7h et 17h sur la station de pompage des eaux usées située dans le Faubourg du moulin. Nous demandons donc la collaboration des résidents de ce secteur pour éviter de surcharger le réseau d’égout sur cette plage horaire et ainsi faciliter (et accélérer) le travail des intervenants. S’il vous est par exemple possible de reporter vos brassées de lavage\, ce serait super apprécié !\nMerci de votre collaboration !
URL:https://www.saint-fabien.ca/event-calendar/travaux-sur-la-station-de-pompage-des-eaux-usees-du-faubourg-du-moulin/
LOCATION:municipalité de Saint-Fabien\, 20-A 7 Avenue\, Saint-Fabien\, Québec\, G0L2Z0\, Canada
CATEGORIES:Autres
GEO:48.2935897;-68.8658383
X-APPLE-STRUCTURED-LOCATION;VALUE=URI;X-ADDRESS=municipalité de Saint-Fabien 20-A 7 Avenue Saint-Fabien Québec G0L2Z0 Canada;X-APPLE-RADIUS=500;X-TITLE=20-A 7 Avenue:geo:-68.8658383,48.2935897
END:VEVENT
BEGIN:VEVENT
DTSTART;TZID=America/Toronto:20251215T180000
DTEND;TZID=America/Toronto:20251215T190000
DTSTAMP:20260422T075531
CREATED:20251204T204959Z
LAST-MODIFIED:20251204T204959Z
UID:10026047-1765821600-1765825200@www.saint-fabien.ca
SUMMARY:Budget 2026 - Séance extraordinaire du conseil
DESCRIPTION:
URL:https://www.saint-fabien.ca/event-calendar/budget-2026-seance-extraordinaire-du-conseil/
LOCATION:municipalité de Saint-Fabien\, 20-A 7 Avenue\, Saint-Fabien\, Québec\, G0L2Z0\, Canada
CATEGORIES:Vie municipale
GEO:48.2935897;-68.8658383
X-APPLE-STRUCTURED-LOCATION;VALUE=URI;X-ADDRESS=municipalité de Saint-Fabien 20-A 7 Avenue Saint-Fabien Québec G0L2Z0 Canada;X-APPLE-RADIUS=500;X-TITLE=20-A 7 Avenue:geo:-68.8658383,48.2935897
END:VEVENT
BEGIN:VEVENT
DTSTART;TZID=America/Toronto:20251208T180000
DTEND;TZID=America/Toronto:20251208T200000
DTSTAMP:20260422T075531
CREATED:20241211T154850Z
LAST-MODIFIED:20241211T154850Z
UID:10025817-1765216800-1765224000@www.saint-fabien.ca
SUMMARY:Séances ordinaires du conseil municipal
DESCRIPTION:Les séances du Conseil se déroulent à partir de 19h au sous-sol du bureau municipal situé au 20-A\, 7e Avenue.
URL:https://www.saint-fabien.ca/event-calendar/seances-ordinaires-du-conseil-municipal-2/2025-12-08/
LOCATION:municipalité de Saint-Fabien\, 20-A 7 Avenue\, Saint-Fabien\, Québec\, G0L2Z0\, Canada
CATEGORIES:Vie municipale
GEO:48.2935897;-68.8658383
X-APPLE-STRUCTURED-LOCATION;VALUE=URI;X-ADDRESS=municipalité de Saint-Fabien 20-A 7 Avenue Saint-Fabien Québec G0L2Z0 Canada;X-APPLE-RADIUS=500;X-TITLE=20-A 7 Avenue:geo:-68.8658383,48.2935897
END:VEVENT
BEGIN:VEVENT
DTSTART;VALUE=DATE:20251110
DTEND;VALUE=DATE:20251112
DTSTAMP:20260422T075531
CREATED:20251110T204905Z
LAST-MODIFIED:20251110T204905Z
UID:10026033-1762815600-1762901999@www.saint-fabien.ca
SUMMARY:Jour du souvenir - Bureau municipal fermé
DESCRIPTION:Le bureau municipal sera fermé le 11 novembre pour souligner le Jour du souvenir.
URL:https://www.saint-fabien.ca/event-calendar/jour-du-souvenir-bureau-municipal-ferme-2/
LOCATION:municipalité de Saint-Fabien\, 20-A 7 Avenue\, Saint-Fabien\, Québec\, G0L2Z0\, Canada
CATEGORIES:Autres
GEO:48.2935897;-68.8658383
X-APPLE-STRUCTURED-LOCATION;VALUE=URI;X-ADDRESS=municipalité de Saint-Fabien 20-A 7 Avenue Saint-Fabien Québec G0L2Z0 Canada;X-APPLE-RADIUS=500;X-TITLE=20-A 7 Avenue:geo:-68.8658383,48.2935897
END:VEVENT
BEGIN:VEVENT
DTSTART;TZID=America/Toronto:20251110T180000
DTEND;TZID=America/Toronto:20251110T200000
DTSTAMP:20260422T075531
CREATED:20241211T154850Z
LAST-MODIFIED:20241211T154850Z
UID:10025816-1762797600-1762804800@www.saint-fabien.ca
SUMMARY:Séances ordinaires du conseil municipal
DESCRIPTION:Les séances du Conseil se déroulent à partir de 19h au sous-sol du bureau municipal situé au 20-A\, 7e Avenue.
URL:https://www.saint-fabien.ca/event-calendar/seances-ordinaires-du-conseil-municipal-2/2025-11-10/
LOCATION:municipalité de Saint-Fabien\, 20-A 7 Avenue\, Saint-Fabien\, Québec\, G0L2Z0\, Canada
CATEGORIES:Vie municipale
GEO:48.2935897;-68.8658383
X-APPLE-STRUCTURED-LOCATION;VALUE=URI;X-ADDRESS=municipalité de Saint-Fabien 20-A 7 Avenue Saint-Fabien Québec G0L2Z0 Canada;X-APPLE-RADIUS=500;X-TITLE=20-A 7 Avenue:geo:-68.8658383,48.2935897
END:VEVENT
BEGIN:VEVENT
DTSTART;TZID=America/Toronto:20251102T090000
DTEND;TZID=America/Toronto:20251102T190000
DTSTAMP:20260422T075531
CREATED:20251031T125352Z
LAST-MODIFIED:20251031T125352Z
UID:10026026-1762074000-1762110000@www.saint-fabien.ca
SUMMARY:Élections municipales - District 4
DESCRIPTION:ÉLECTIONS MUNICIPALES – DISTRICT 4Les résident.e.s du district 4 sont appelé.e.s à voter ce dimanche 2 novembre !Pour exercer votre droit de vote\, munissez-vous d’une pièce d’identité et présentez-vous au bureau municipal (20-A\, 7e Avenue).Rappelons que le District 4 correspond aux adresses civiques situées sur ces voies :\n1re Rue (nos civiques 87 à 97)4e Rue (nos civiques 94 à 98 ; 93 à 95)5e Avenue (nos civiques 2 à 40 ; 3 à 41)6e Avenue (nos civiques 2 à 44 ; 1 à 43)7e Avenue (nos civiques 3 à 111)Ruelle Caron (nos civiques 2 à 8 ; 3 à 7)Ruelle Alphonse-JeanRuelle de la Station (nos civiques 2 à 16 ; 3 à 17)\nBonne chance aux candidat.e.s !
URL:https://www.saint-fabien.ca/event-calendar/elections-municipales-district-4/
LOCATION:municipalité de Saint-Fabien\, 20-A 7 Avenue\, Saint-Fabien\, Québec\, G0L2Z0\, Canada
CATEGORIES:Vie municipale
GEO:48.2935897;-68.8658383
X-APPLE-STRUCTURED-LOCATION;VALUE=URI;X-ADDRESS=municipalité de Saint-Fabien 20-A 7 Avenue Saint-Fabien Québec G0L2Z0 Canada;X-APPLE-RADIUS=500;X-TITLE=20-A 7 Avenue:geo:-68.8658383,48.2935897
END:VEVENT
BEGIN:VEVENT
DTSTART;TZID=America/Toronto:20251026T120000
DTEND;TZID=America/Toronto:20251026T200000
DTSTAMP:20260422T075531
CREATED:20251020T190100Z
LAST-MODIFIED:20251020T190113Z
UID:10026016-1761480000-1761508800@www.saint-fabien.ca
SUMMARY:Élections municipales - Vote par anticipation - District 4
DESCRIPTION:Le vote par anticipation se déroule le 26 octobre de 12h à 20h au bureau municipal. \nSeul le District 4 est en élections. Suivez ce lien pour connaître les limites des districts. \nDistricts électoraux
URL:https://www.saint-fabien.ca/event-calendar/elections-municipales-vote-par-anticipation-district-4/
LOCATION:municipalité de Saint-Fabien\, 20-A 7 Avenue\, Saint-Fabien\, Québec\, G0L2Z0\, Canada
CATEGORIES:Vie municipale
ATTACH;FMTTYPE=image/png:https://www.saint-fabien.ca/wp-content/uploads/2025/10/Capture-décran-le-2025-10-08-à-13.59.29.png
GEO:48.2935897;-68.8658383
X-APPLE-STRUCTURED-LOCATION;VALUE=URI;X-ADDRESS=municipalité de Saint-Fabien 20-A 7 Avenue Saint-Fabien Québec G0L2Z0 Canada;X-APPLE-RADIUS=500;X-TITLE=20-A 7 Avenue:geo:-68.8658383,48.2935897
END:VEVENT
BEGIN:VEVENT
DTSTART;VALUE=DATE:20251026
DTEND;VALUE=DATE:20251027
DTSTAMP:20260422T075531
CREATED:20251014T173256Z
LAST-MODIFIED:20251014T173256Z
UID:10026013-1761436800-1761523199@www.saint-fabien.ca
SUMMARY:Date de tombée des articles pour Le Fabiennois
DESCRIPTION:Vous avez des infos à transmettre aux Fabiennois.es ?\nEnvoyez-les par courriel à communication@saintfabien.net avant le 26 octobre. La prochaine édition couvrira les mois de novembre\, décembre 2025 et janvier 2026. Merci !
URL:https://www.saint-fabien.ca/event-calendar/date-de-tombee-des-articles-pour-le-fabiennois-20/
LOCATION:municipalité de Saint-Fabien\, 20-A 7 Avenue\, Saint-Fabien\, Québec\, G0L2Z0\, Canada
CATEGORIES:Vie municipale
ATTACH;FMTTYPE=image/png:https://www.saint-fabien.ca/wp-content/uploads/2023/05/Capture-décran-2018-07-27-à-10.56.27.png
GEO:48.2935897;-68.8658383
X-APPLE-STRUCTURED-LOCATION;VALUE=URI;X-ADDRESS=municipalité de Saint-Fabien 20-A 7 Avenue Saint-Fabien Québec G0L2Z0 Canada;X-APPLE-RADIUS=500;X-TITLE=20-A 7 Avenue:geo:-68.8658383,48.2935897
END:VEVENT
BEGIN:VEVENT
DTSTART;TZID=America/Toronto:20251016T170000
DTEND;TZID=America/Toronto:20251016T200000
DTSTAMP:20260422T075531
CREATED:20251016T212927Z
LAST-MODIFIED:20251016T212927Z
UID:10026015-1760634000-1760644800@www.saint-fabien.ca
SUMMARY:Révision de la liste électorale - Élections municipales district 4
DESCRIPTION:ÉLECTIONS MUNICIPALES – DISTRICT 4\nPassez le 16 octobre\, au bureau municipal (20-A\, 7e Avenue) entre 17h et 20h si vous n’êtes pas sûr.e d’être sur la liste !
URL:https://www.saint-fabien.ca/event-calendar/revision-de-la-liste-electorale-elections-municipales-district-4/
LOCATION:municipalité de Saint-Fabien\, 20-A 7 Avenue\, Saint-Fabien\, Québec\, G0L2Z0\, Canada
CATEGORIES:Vie municipale
GEO:48.2935897;-68.8658383
X-APPLE-STRUCTURED-LOCATION;VALUE=URI;X-ADDRESS=municipalité de Saint-Fabien 20-A 7 Avenue Saint-Fabien Québec G0L2Z0 Canada;X-APPLE-RADIUS=500;X-TITLE=20-A 7 Avenue:geo:-68.8658383,48.2935897
END:VEVENT
BEGIN:VEVENT
DTSTART;TZID=America/Toronto:20251002T190000
DTEND;TZID=America/Toronto:20251002T210000
DTSTAMP:20260422T075531
CREATED:20241211T154850Z
LAST-MODIFIED:20241211T154850Z
UID:10025815-1759431600-1759438800@www.saint-fabien.ca
SUMMARY:Séances ordinaires du conseil municipal
DESCRIPTION:Les séances du Conseil se déroulent à partir de 19h au sous-sol du bureau municipal situé au 20-A\, 7e Avenue.
URL:https://www.saint-fabien.ca/event-calendar/seances-ordinaires-du-conseil-municipal-2/2025-10-02/
LOCATION:municipalité de Saint-Fabien\, 20-A 7 Avenue\, Saint-Fabien\, Québec\, G0L2Z0\, Canada
CATEGORIES:Vie municipale
GEO:48.2935897;-68.8658383
X-APPLE-STRUCTURED-LOCATION;VALUE=URI;X-ADDRESS=municipalité de Saint-Fabien 20-A 7 Avenue Saint-Fabien Québec G0L2Z0 Canada;X-APPLE-RADIUS=500;X-TITLE=20-A 7 Avenue:geo:-68.8658383,48.2935897
END:VEVENT
BEGIN:VEVENT
DTSTART;VALUE=DATE:20250929
DTEND;VALUE=DATE:20250930
DTSTAMP:20260422T075531
CREATED:20250905T130652Z
LAST-MODIFIED:20250905T130652Z
UID:10025985-1759104000-1759190399@www.saint-fabien.ca
SUMMARY:Collecte des gros rebuts
DESCRIPTION:La collecte des gros rebuts se tiendra le 29 septembre 2025. Vous êtes donc invités à déposer vos gros rebuts le long de la voie publique au plus tard le 28 septembre.Il est aussi très important de tenir compte de la liste des rebuts acceptés ou refusés : les rebuts qui ne sont pas acceptés seront laissés sur place.Un maximum de 3 mètres cubes de rebuts est accepté par foyer.Pour savoir où déposer les matières qui ne seront pas ramassées lors de la collecte des gros rebuts\, consultez www.infobac.ca\n– Matières acceptées :Meubles d’intérieur ou de jardinÉlectroménagers : cuisinière\, laveuse\, sécheuse\, lave-vaisselle\, réfrigérateur\, congélateur\, climatiseur\, déshumidificateur\, refroidisseur à eau ou à vin\, thermopompeChauffe-eau (vide)\, planche à repasser\, storesBain\, douche\, toilette\, lavabo\, évier (métallique\, en porcelaine ou plastique)Portes et fenêtres (max 1\,5m x 1\,5m)Piscine hors terre et accessoires (filtre vidé)\, toile solaire\, piscine pour enfants\, vélosRéservoir d’huile (vide)Jeux pour enfants (balançoire\, glissoire\, etc.) et autres jouets de grandes taillesBBQ (sans bonbonne de propane)Tondeuse\, souffleuse (réservoir d’essence vide)Matelas et sommierTapis et couvre-sol souple enroulé et attachéBranches d’arbres attachées\n– Matières refusées :Résidus domestiques dangereuxRebuts de construction\, rénovation\, démolitionPneus et pièces automobilesAppareils électroniques\, informatiquesTéléviseurs et autres écransRésidus verts autres que des branchesRebuts des institutions\, commerces et industries
URL:https://www.saint-fabien.ca/event-calendar/collecte-des-gros-rebuts-16/
LOCATION:municipalité de Saint-Fabien\, 20-A 7 Avenue\, Saint-Fabien\, Québec\, G0L2Z0\, Canada
CATEGORIES:Autres
GEO:48.2935897;-68.8658383
X-APPLE-STRUCTURED-LOCATION;VALUE=URI;X-ADDRESS=municipalité de Saint-Fabien 20-A 7 Avenue Saint-Fabien Québec G0L2Z0 Canada;X-APPLE-RADIUS=500;X-TITLE=20-A 7 Avenue:geo:-68.8658383,48.2935897
END:VEVENT
BEGIN:VEVENT
DTSTART;TZID=America/Toronto:20250920T093000
DTEND;TZID=America/Toronto:20250920T120000
DTSTAMP:20260422T075531
CREATED:20250915T153329Z
LAST-MODIFIED:20250915T153329Z
UID:10025991-1758360600-1758369600@www.saint-fabien.ca
SUMMARY:Nettoyage des berges avec l'OBV
DESCRIPTION:Pour souligner la journée internationale des nettoyages\, l’OBV du Nord-Est du Bas-Saint-Laurent et la municipalité de Saint-Fabien vous invitent à participer à une corvée de nettoyage des berges.\nLes participant.es peuvent se rendre à l’un des deux point de rassemblement\, pour 9h30 :\nBureau municipal de Saint-Fabien\nOu\nStationnement de la Chapelle à la mer\nNous formerons ensuite les équipes pour le nettoyage de certains secteurs.\nNous aurons tout le matériel de nettoyage nécessaire (gants\, chaudières pour le verre et le métal\, sacs robustes et pinces).\nVers 11h30-12h\, un diner festif pour les bénévoles aura lieu au stationnement de la municipalité. Nous ferons aussi tirer des prix de présence!  En cas de pluie\, le diner aura lieu dans la salle du sous-sol de la municipalité.
URL:https://www.saint-fabien.ca/event-calendar/nettoyage-des-berges-avec-lobv/
LOCATION:municipalité de Saint-Fabien\, 20-A 7 Avenue\, Saint-Fabien\, Québec\, G0L2Z0\, Canada
CATEGORIES:Autres
ATTACH;FMTTYPE=image/jpeg:https://www.saint-fabien.ca/wp-content/uploads/2025/09/541662215_1231922842307782_5785363770733936119_n.jpg
GEO:48.2935897;-68.8658383
X-APPLE-STRUCTURED-LOCATION;VALUE=URI;X-ADDRESS=municipalité de Saint-Fabien 20-A 7 Avenue Saint-Fabien Québec G0L2Z0 Canada;X-APPLE-RADIUS=500;X-TITLE=20-A 7 Avenue:geo:-68.8658383,48.2935897
END:VEVENT
END:VCALENDAR