BEGIN:VCALENDAR
VERSION:2.0
PRODID:-//Municipalité de Saint-Fabien - ECPv6.15.20//NONSGML v1.0//EN
CALSCALE:GREGORIAN
METHOD:PUBLISH
X-WR-CALNAME:Municipalité de Saint-Fabien
X-ORIGINAL-URL:https://www.saint-fabien.ca
X-WR-CALDESC:Évènements pour Municipalité de Saint-Fabien
REFRESH-INTERVAL;VALUE=DURATION:PT1H
X-Robots-Tag:noindex
X-PUBLISHED-TTL:PT1H
BEGIN:VTIMEZONE
TZID:America/Toronto
BEGIN:DAYLIGHT
TZOFFSETFROM:-0500
TZOFFSETTO:-0400
TZNAME:EDT
DTSTART:20170312T070000
END:DAYLIGHT
BEGIN:STANDARD
TZOFFSETFROM:-0400
TZOFFSETTO:-0500
TZNAME:EST
DTSTART:20171105T060000
END:STANDARD
BEGIN:DAYLIGHT
TZOFFSETFROM:-0500
TZOFFSETTO:-0400
TZNAME:EDT
DTSTART:20180311T070000
END:DAYLIGHT
BEGIN:STANDARD
TZOFFSETFROM:-0400
TZOFFSETTO:-0500
TZNAME:EST
DTSTART:20181104T060000
END:STANDARD
BEGIN:DAYLIGHT
TZOFFSETFROM:-0500
TZOFFSETTO:-0400
TZNAME:EDT
DTSTART:20190310T070000
END:DAYLIGHT
BEGIN:STANDARD
TZOFFSETFROM:-0400
TZOFFSETTO:-0500
TZNAME:EST
DTSTART:20191103T060000
END:STANDARD
BEGIN:DAYLIGHT
TZOFFSETFROM:-0500
TZOFFSETTO:-0400
TZNAME:EDT
DTSTART:20200308T070000
END:DAYLIGHT
BEGIN:STANDARD
TZOFFSETFROM:-0400
TZOFFSETTO:-0500
TZNAME:EST
DTSTART:20201101T060000
END:STANDARD
BEGIN:DAYLIGHT
TZOFFSETFROM:-0500
TZOFFSETTO:-0400
TZNAME:EDT
DTSTART:20210314T070000
END:DAYLIGHT
BEGIN:STANDARD
TZOFFSETFROM:-0400
TZOFFSETTO:-0500
TZNAME:EST
DTSTART:20211107T060000
END:STANDARD
BEGIN:DAYLIGHT
TZOFFSETFROM:-0500
TZOFFSETTO:-0400
TZNAME:EDT
DTSTART:20220313T070000
END:DAYLIGHT
BEGIN:STANDARD
TZOFFSETFROM:-0400
TZOFFSETTO:-0500
TZNAME:EST
DTSTART:20221106T060000
END:STANDARD
BEGIN:DAYLIGHT
TZOFFSETFROM:-0500
TZOFFSETTO:-0400
TZNAME:EDT
DTSTART:20230312T070000
END:DAYLIGHT
BEGIN:STANDARD
TZOFFSETFROM:-0400
TZOFFSETTO:-0500
TZNAME:EST
DTSTART:20231105T060000
END:STANDARD
BEGIN:DAYLIGHT
TZOFFSETFROM:-0500
TZOFFSETTO:-0400
TZNAME:EDT
DTSTART:20240310T070000
END:DAYLIGHT
BEGIN:STANDARD
TZOFFSETFROM:-0400
TZOFFSETTO:-0500
TZNAME:EST
DTSTART:20241103T060000
END:STANDARD
END:VTIMEZONE
BEGIN:VEVENT
DTSTART;TZID=America/Toronto:20230715T170000
DTEND;TZID=America/Toronto:20230715T183000
DTSTAMP:20260419T123245
CREATED:20230705T151817Z
LAST-MODIFIED:20230705T151841Z
UID:10025485-1689440400-1689445800@www.saint-fabien.ca
SUMMARY:Vieux Théâtre - Shaina Hayes
DESCRIPTION:To Coax a Waltz\nCHANSON\n\n\nCe spectacle fait partie de la programmation de la première édition de chez fabien\,  un microfestival nomade  à la fois hors du commun et à échelle humaine. \nCe spectacle aura lieu au Havre-du-Bic du Parc national du Bic\, accessible sans frais supplémentaire par la Route du Quai. \nShaina Hayes est une chanteuse et compositrice country/folk basée à Montréal. Elle a grandi à Shigawake – un petit village de pêcheurs et de fermiers en Gaspésie. Sa connexion profonde à son héritage et à sa terre natale a forgé un cadre radiant de sincérité dans lequel prend forme sa musique. \n\n\nSon folk moderne et précieux\, porté par une voix pure à la technique impeccable\, l’a amené à faire les premières parties d’Half Moon Run (Olympia de Montréal) et des Barr Brothers. \n\nSon premier album\, To Coax a Waltz est paru en avril 2022.\nÀ 18h30\, juste après le concert de Shaina Hayes\, on vous invite à assister gratuitement à Êtres de bois\, production de la compagnie Fleuve Espace danse.SPECTACLE PRÉSENTÉ PAR TÉLÉ-QUÉBEC\n\nLes bois de grèves arrivent par les grandes marées d’automne et du printemps\, sur les berges du Saint-Laurent\, gorgés d’eau. Pour la chorégraphe Chantal Caron\, ils deviennent tout de suite une grande source d’inspiration. Difficiles à manipuler puisque lourds et encombrants\, elle y voit rapidement une allusion aux bois des caribous qui ont parfois de la difficulté à faire leur chemin à travers les arbres de la forêt. L’accessoire offre également beaucoup de possibilités et de sens. Ils représentent la force et l’enracinement\, tout comme le cervidé qui porte fièrement ses précieux bois. C’est donc à partir de cette image et de la gestuelle en lien avec la forte masse du caribou que s’est dirigée l’exploration chorégraphique. Dans la chorégraphie\, on peut sentir un grand enracinement des interprètes au centre du corps\, beaucoup de mouvements de bassin\, de jeux de pieds\, grands-pliés\, des allégories à la reproduction\, aux attaques\, des mouvements en cercle faisant référence aux déplacements en meutes et l’utilisation des bois comme symbole de beauté\, de puissance et de préciosité. \n\n\nShaina Hayes
URL:https://www.saint-fabien.ca/event-calendar/16178/
LOCATION:Parc national du Bic
CATEGORIES:Culture
ATTACH;FMTTYPE=image/jpeg:https://www.saint-fabien.ca/wp-content/uploads/2023/07/Fleuve-Espace-danse_-NVf30CROt317JHszJwY_.jpeg
END:VEVENT
BEGIN:VEVENT
DTSTART;TZID=America/Toronto:20220720T170000
DTEND;TZID=America/Toronto:20220720T190000
DTSTAMP:20260419T123245
CREATED:20220711T132149Z
LAST-MODIFIED:20220711T132149Z
UID:10025247-1658336400-1658343600@www.saint-fabien.ca
SUMMARY:Vieux Théâtre - Shauit
DESCRIPTION:— Événement gratuit avec contribution volontaire — \n**spectacle extérieur**\nÀ la Ferme Rioux sur le site du Parc national du Bic.\nSpectacle sans réservation\, en admission générale. \nNommé deux fois dans la catégorie artiste autochtone de l’année pour le prestigieux gala des prix ADISQ\, Shauit chante la pluralité de la mosaïque culturelle des Premières Nations. La plupart du temps en innu\, sa langue autochtone\, mais aussi en français\, Shauit livre une musique à la fois festive et rassembleuse\, introspective et hypnotisante. \n\n\nOriginaire de Maliotenam dans le nord-est du Québec\, l’auteur-compositeur- interprète Shauit chante des chansons fortement inspirées de ses racines innues et de la musique traditionnelle autochtone. Il fusionne avec ingéniosité plusieurs genres populaires (folk\, country\, rock\, reggae\, etc.) et propose des chansons honnêtes\, engagées\, remplies d’émotions et d’expériences personnelles. \n\n\nRécipiendaire de plusieurs honneurs tel que le prix du meilleur album autochtone au Indigenous Music Award\, meilleur auteur-compositeur-interprète au Folk Music Award. Il s’illustre également dans plusieurs vitrines nationales et internationales. Au cours des dernières années\, Shauit a joué partout au Canada\, aux États-Unis et même en Europe\, où il a conquis un public fidèle avec son style novateur fusionnant ses racines avec la musique reggae. Il participe\, entre autres\, à l’Alliance Folklorique\, APAP\, au Festival International de Louisiane\, aux vitrines du Festival de Shibuya (Japon et Zandari Festa (Corée)\, au Chili et à Nantes en France \n\n\nShauit est un fier représentant de la culture indigène et autochtones du monde entier et prépare actuellement deux nouveaux albums qui feront suite à l’accueil chaleureux de son premier disque “Apu peikussiaku”. Axé sur le métissage et la fusion des univers musicals québécois et Innu\, Shauit brossera une fresque magnifique d’influences avec en toile de fond un sentiment de réunifications et de réconciliation. \nLes Soirées panachées – 5 à 7 présentent un mélange de genres et de cultures sur scène et en dégustation gourmande.\nCes soirées se veulent hybrides: un mélange de couleurs et de saveurs garant de partage\, de découverte et de plaisir estival!\nQuoi de meilleur que de la joyeuse musique et de la bonne bouffe dans une ambiance décontractée de 5 à 7?\n\nhttps://shauit.com/\n\n\nCliquez ici pour réserver
URL:https://www.saint-fabien.ca/event-calendar/vieux-theatre-shauit/
LOCATION:Parc national du Bic
CATEGORIES:Culture
END:VEVENT
BEGIN:VEVENT
DTSTART;TZID=America/Toronto:20210824T170000
DTEND;TZID=America/Toronto:20210824T183000
DTSTAMP:20260419T123245
CREATED:20210819T130530Z
LAST-MODIFIED:20210819T130530Z
UID:10025133-1629824400-1629829800@www.saint-fabien.ca
SUMMARY:Vieux Théâtre - Laura Niquay
DESCRIPTION:Dans le cadre de la série de spectacles extérieurs Se perdre dans le décor ! présentée par le ROSEQ \nLe Vieux Théâtre de Saint-Fabien étend sa scène jusqu’au Parc national du Bic pour recevoir l’artiste Laura Niquay\, le 24 août à 17h. \nLaura Niquay est une artiste atikamekw de la communauté autochtone de Wemotaci. Elle évolue en musique et parcourt festivals et concours depuis plusieurs années. \nSon premier album\, Waratanak\, sorti en 2015\, reflète les valeurs de sa communauté\, le respect de la nature et la force des femmes. En plus d’être la première Atikamekw à avoir foulé les planches des Francofolies à Montréal\, Laura Niquay a reçu en 2011 le Prix de la relève du Gala de musique Teweikan ainsi que le Prix spécial du jury en 2017 pour l’ensemble de son œuvre et son implication. \nDepuis la sortie de Waratanak\, Laura a participé à plusieurs collaborations avec des artistes de différents milieux\, donnant naissance à un mélange unique de styles et d’approches artistiques. À l’été 2017\, Laura a composé la trame sonore de la pièce de théâtre Là où le sang se mêle pour les Productions Menuentakuan en collaboration avec Moe Clark\, Quinn Bonnell et Travis Mercredi dans le cadre d’une résidence de création Musique nomade. Puis\, en août 2017\, c’est à l’occasion du grand spectacle Nikamotan MTL\, présenté dans le cadre du festival Présence autochtone\, que Laura est montée sur la grande scène de la Place des Festivals à Montréal. Elle y a performé en compagnie de Matiu\, Shauit\, Natasha Kanapé Fontaine\, Esther Pennell\, Sunny Duval\, La Bronze\, Random Recipe et Dramatik. En 2018\, elle devient lauréate de 8 prix au festival Vue sur la Relève. \nSon tout dernier album\, sorti au printemps 2021 et intitulé Waska Matisiwin\, est une superbe oeuvre indie-folk qui mêle l’héritage atikamekw de Laura à ses douces influences contemporaines. Celui-ci se retrouve d’ores et déjà au coeur du paysage musical québécois contemporain et canadien autochtone. \nContribution volontaire – Les frais d’admission du Parc demeurent en vigueur. \nEn cas de pluie\, les premières personnes à avoir réservé leurs places via le site web du Vieux Théâtre seront invitées à entrer à l’intérieur de la Ferme Rioux pour assister à la représentation. \nPour voir un extrait du spectacle\, c’est par ici : \nhttps://www.youtube.com/watch?v=5S2CfGx79Zc \nPour consulter la programmation complète ou pour réserver vos billets\, visitez notre site web :  www.vieuxtheatre.org \nLe Vieux Théâtre tient à remercier : le Conseil des arts et des lettres du Québec – la Municipalité de Saint-Fabien – Patrimoine canadien – Berger – Hydro-Québec – Desjardins – le ROSEQ
URL:https://www.saint-fabien.ca/event-calendar/vieux-theatre-laura-niquay/
LOCATION:Parc national du Bic
CATEGORIES:Culture
ATTACH;FMTTYPE=image/png:https://www.saint-fabien.ca/wp-content/uploads/2021/08/Capture-décran-le-2021-08-17-à-09.57.32.png
END:VEVENT
BEGIN:VEVENT
DTSTART;TZID=America/Toronto:20210718T170000
DTEND;TZID=America/Toronto:20210718T183000
DTSTAMP:20260419T123245
CREATED:20210701T140554Z
LAST-MODIFIED:20210701T140554Z
UID:10025123-1626627600-1626633000@www.saint-fabien.ca
SUMMARY:Vieux Théâtre - Alex Burger
DESCRIPTION:Dans le cadre de la série de spectacles extérieurs Se perdre dans le décor ! présentée par le ROSEQ \nLe Vieux Théâtre de Saint-Fabien étend sa scène jusqu’au Parc national du Bic pour recevoir Alex Burger et son tout dernier spectacle\, Sweet Montérégie\, le 18 juillet à 17h. \nAlex Burger chante comme il parle\, avec toute l’expressivité et les couleurs de la langue queb\, qui épouse son « classic rock » intemporel à merveille. Il nous fait brailler à ses heures avec des balades country qui sonnent comme si Hank Williams était né dans les années ‘90 en Montérégie. Le reste du temps\, il nous garroche toute sa fougue avec l’aisance d’un gars qui est à sa place sur un stage\, qui nous conte sa vie à travers ses chansons et qui rock comme pas un. \nContribution volontaire – Les frais d’admission du Parc demeurent en vigueur. \nPour voir un extrait du spectacle\, c’est par ici : https://www.youtube.com/watch?v=X-IrkDyXTlM&t=182s \nPour consulter la programmation complète ou pour réserver vos billets\, visitez notre site web :  www.vieuxtheatre.org \nLe Vieux Théâtre tient à remercier : le Conseil des arts et des lettres du Québec – la Municipalité de Saint-Fabien – Patrimoine canadien – Berger – Hydro-Québec – Desjardins – le ROSEQ
URL:https://www.saint-fabien.ca/event-calendar/vieux-theatre-alex-burger/
LOCATION:Parc national du Bic
CATEGORIES:Culture
ATTACH;FMTTYPE=image/png:https://www.saint-fabien.ca/wp-content/uploads/2021/07/5451729206541556-image.png
END:VEVENT
BEGIN:VEVENT
DTSTART;TZID=America/Toronto:20210715T170000
DTEND;TZID=America/Toronto:20210715T183000
DTSTAMP:20260419T123245
CREATED:20210701T135621Z
LAST-MODIFIED:20210701T135621Z
UID:10025120-1626368400-1626373800@www.saint-fabien.ca
SUMMARY:Vieux Théâtre - Grosse Isle
DESCRIPTION:Le Bonhomme Sept Heures / The Bonesetter \nDans le cadre de la série de spectacles extérieurs Se perdre dans le décor ! présentée par le ROSEQ \nLe Vieux Théâtre de Saint-Fabien accueille avec grand plaisir le trio Grosse Isle le 15 juillet à 17h à la Ferme Rioux du Parc national du Bic. N’est-ce pas le décor idéal pour un spectacle aux accents trad ? Les farfadets du folklore irlandais pourraient bien surgir au détour d’un sentier… Si vous ratez leur passage\, vous découvrirez au moins à coup sûr les instruments uilleann pipes et whistle d’Irlande. \nLe trio Grosse Isle\, c’est en effet un sublime mélange de répertoire irlandais\, répertoire québécois et compositions originales. Sophie Lavoie du Lac-Saint-Jean\, Fiachra O’Regan d’Irlande et le légendaire André Marchand (La Bottine Souriante\, Les Charbonniers de l’Enfer) présentent un nouveau spectacle inspiré de l’album de musique traditionnelle Le Bonhomme Sept Heures/The Bonesetter. L’union des deux cultures\, l’authenticité et l’immense talent des artistes donnent un impressionnant résultat. Des complaintes aux chansons plus rythmées\, le concert est varié et affiche les 1001 couleurs de ce trio rafraîchissant ! Laissez-vous charmer par cette musique riche et enveloppante. \nContribution volontaire – Les frais d’admission du Parc demeurent en vigueur. \nEn cas de pluie\, les premières personnes à avoir réservé leurs places via le site web du Vieux Théâtre seront invitées à entrer à l’intérieur de la Ferme Rioux pour assister à la représentation. \nPour voir un extrait du spectacle\, c’est par ici : https://www.youtube.com/watch?v=hFzIY88NwfY&t=4s \nPour consulter la programmation complète ou pour réserver vos billets\, visitez notre site web :  www.vieuxtheatre.org \nLe Vieux Théâtre tient à remercier : le Conseil des arts et des lettres du Québec – la Municipalité de Saint-Fabien – Patrimoine canadien – Berger – Hydro-Québec – Desjardins – le ROSEQ
URL:https://www.saint-fabien.ca/event-calendar/vieux-theatre-grosse-isle/
LOCATION:Parc national du Bic
CATEGORIES:Culture
ATTACH;FMTTYPE=image/jpeg:https://www.saint-fabien.ca/wp-content/uploads/2021/07/Grosse-Isle-Officiel.jpeg
END:VEVENT
BEGIN:VEVENT
DTSTART;TZID=America/Toronto:20190817T200000
DTEND;TZID=America/Toronto:20190817T210000
DTSTAMP:20260419T123245
CREATED:20190815T170535Z
LAST-MODIFIED:20190815T170627Z
UID:10024252-1566072000-1566075600@www.saint-fabien.ca
SUMMARY:Vieux Théâtre - Roman Zavada - Du cinéma muet au piano parlant au Parc du Bic
DESCRIPTION:Samedi 17 août | 20h\nGRATUIT\nParc national du Bic- Centre de découverte Ferme-Rioux \nLe pianiste-compositeur virtuose Roman Zavada\, reconnu pour ses improvisations sur les grands classiques du cinéma muet\, accompagnera la projection en plein air d’un des chefs-d’œuvre du cinéma\, The navigator\, de Buster Keaton. \nLe concert\, gratuit\, se déroulera ce samedi 17 août\, au Parc national du Bic\, au Centre de découverte-Ferme-Rioux. \nEn cas de pluie\, le spectacle sera présenté à l’intérieur du Centre de découverte. \nSource : page Facebook du Vieux Théâtre !
URL:https://www.saint-fabien.ca/event-calendar/vieux-theatre-roman-zavada-du-cinema-muet-au-piano-parlant-au-parc-du-bic/
LOCATION:Parc national du Bic
CATEGORIES:Culture
ATTACH;FMTTYPE=image/png:https://www.saint-fabien.ca/wp-content/uploads/2019/08/Capture-d’écran-le-2019-08-15-à-13.05.05.png
END:VEVENT
BEGIN:VEVENT
DTSTART;TZID=America/Toronto:20190812T200000
DTEND;TZID=America/Toronto:20190812T230000
DTSTAMP:20260419T123245
CREATED:20190808T195346Z
LAST-MODIFIED:20190808T195346Z
UID:10024250-1565640000-1565650800@www.saint-fabien.ca
SUMMARY:Vieux Théâtre - Laura Babin
DESCRIPTION:
URL:https://www.saint-fabien.ca/event-calendar/vieux-theatre-laura-babin/
LOCATION:Parc national du Bic
CATEGORIES:Culture
ATTACH;FMTTYPE=image/png:https://www.saint-fabien.ca/wp-content/uploads/2019/08/Capture-d’écran-le-2019-08-08-à-15.52.49.png
END:VEVENT
BEGIN:VEVENT
DTSTART;TZID=America/Toronto:20190811T120000
DTEND;TZID=America/Toronto:20190811T140000
DTSTAMP:20260419T123246
CREATED:20190806T191105Z
LAST-MODIFIED:20190806T191105Z
UID:10024249-1565524800-1565532000@www.saint-fabien.ca
SUMMARY:Concerts aux Îles du Bic - Pique-nique musical
DESCRIPTION:Le trio Salicorne à la Ferme Rioux du Parc du Bic ! \nGratuit !
URL:https://www.saint-fabien.ca/event-calendar/concerts-aux-iles-du-bic-pique-nique-musical/
LOCATION:Parc national du Bic
CATEGORIES:Culture
ORGANIZER;CN="Concerts aux %C3%8Eles du Bic":MAILTO:info@bicmusique.com
END:VEVENT
BEGIN:VEVENT
DTSTART;TZID=America/Toronto:20190719T190000
DTEND;TZID=America/Toronto:20190719T210000
DTSTAMP:20260419T123246
CREATED:20190626T135931Z
LAST-MODIFIED:20190626T135931Z
UID:10024233-1563562800-1563570000@www.saint-fabien.ca
SUMMARY:Vieux Théâtre - Gabrielle Shonk
DESCRIPTION:Pour mieux connaître cette artiste et vous donner le goût de la découvrir\, voici la courte description diffusée sur la page Facebook du Vieux Théâtre :\n19h | 25$\nParc national du Bic\, Havre du Bic\n++++ Écoute pour voir! de Carpe Diem \nhttps://www.youtube.com/watch?v=nixS45ZRFT8&feature=youtu.be \nDes millions de personnes ont découvert Gabrielle Shonk grâce à « Habit » – une première chanson qui a fait sensation dès sa sortie grâce à sa voix parfaitement formée\, puissante et maîtrisée. Soutenue par des musiciens de talent dont la complicité transcende la scène\, elle dévoile son matériel original\, une musique chargée d’émotions. \nPasseport pour le OFF : 40$
URL:https://www.saint-fabien.ca/event-calendar/vieux-theatre-gabrielle-shonk/
LOCATION:Parc national du Bic
CATEGORIES:Culture
ATTACH;FMTTYPE=image/jpeg:https://www.saint-fabien.ca/wp-content/uploads/2019/06/012ATLJ-VO-QE-BE-AL-ART-Gabrielle-Shonk-02-04-17-04-JRV-C-e1555342911491.jpg
END:VEVENT
BEGIN:VEVENT
DTSTART;TZID=America/Toronto:20190716T200000
DTEND;TZID=America/Toronto:20190716T220000
DTSTAMP:20260419T123246
CREATED:20190626T134301Z
LAST-MODIFIED:20190626T134301Z
UID:10024230-1563307200-1563314400@www.saint-fabien.ca
SUMMARY:Vieux Théâtre - Juste Robert
DESCRIPTION:Juste Robert // Parc National du Bic\, Ferme Rioux\nsérie DÉCOUVERTE
URL:https://www.saint-fabien.ca/event-calendar/vieux-theatre-juste-robert/
LOCATION:Parc national du Bic
CATEGORIES:Culture
ATTACH;FMTTYPE=image/jpeg:https://www.saint-fabien.ca/wp-content/uploads/2019/06/justerobert_creditemiliedumais_web_1920.jpg
END:VEVENT
BEGIN:VEVENT
DTSTART;VALUE=DATE:20190608
DTEND;VALUE=DATE:20190609
DTSTAMP:20260419T123246
CREATED:20190603T192553Z
LAST-MODIFIED:20190603T192553Z
UID:10024216-1559952000-1560038399@www.saint-fabien.ca
SUMMARY:Journée mondiale des Océans - Corvée de nettoyage des plages
DESCRIPTION:La Journée mondiale des océans est célébrée le 8 juin partout dans le monde\, afin de sensibiliser les gens au rôle crucial que jouent les océans comme source de vie\, de nourriture\, d’activité économique et comme régulateur de l’équilibre climatique sur la planète. \nQuébec-Océan et le Parc national du Bic invitent petits et grands à se donner rendez-vous à la Ferme Rioux\, le samedi 8 juin prochain\, pour une foule d’activités de vulgarisation. Des étudiants et des chercheurs en océanographie biologique\, chimique\, physique et géologique présenteront des ateliers sur des aspects fascinants de l’océan. Découvrez comment se mélangent l’eau douce et l’eau salée\, observez du plancton au microscope\, apprenez comment se déroulent les échantillonnages en milieu côtier et plus encore! \nDans la salle de conférences\, vous pourrez visionner trois documentaires impliquant des chercheurs de l’Institut des sciences de la mer de Rimouski\, réalisés par des cinéastes dans le cadre du projet Plan Large du Cinéma Paraloeil.\n« Ballast balade pour dinoflagellés » de Françoise Dugré\, avec André Rochon\n« La frontière » de Félix Lamarche\, avec Daniel Bourgault\, Guillaume St-Onge et plusieurs professionnels et étudiants\n« Floes » de Guillaume Lévesque\, avec Dany Dumont et plusieurs professionnels et étudiants \nÀ 13 h\, ceux qui le souhaitent se regrouperont à la Baie du Ha!Ha! pour un grand nettoyage qui sera l’occasion d’inaugurer les tout nouveaux « bacs à marée » du Parc national du Bic. \nPour couronner le tout\, vous pourrez admirer les magnifiques dessins qui auront été faits la veille par les élèves de l’École du Havre – Mont Saint-Louis sur le thème de l’océan. \nToutes les activités sont gratuites\, toutefois les droits d’accès usuels devront être acquittés à l’entrée du Parc. Les activités auront lieu beau temps mauvais temps\, à l’exception du nettoyage de rivage qui sera annulé en cas de pluie. \nQuébec-Océan\, le regroupement interinstitutionnel de recherches océanographiques du Québec\, tient à remercier très chaleureusement l’Association des étudiants gradués en océanographie\, le Parc national du Bic et le cinéma Paraloeil pour leur collaboration à l’organisation de cette journée qui promet d’être très enrichissante. \nAU PLAISIR DE VOUS Y RENCONTRER EN GRAND NOMBRE!
URL:https://www.saint-fabien.ca/event-calendar/journee-mondiale-des-oceans-corvee-de-nettoyage-des-plages/
LOCATION:Parc national du Bic
CATEGORIES:Activités communautaires
END:VEVENT
BEGIN:VEVENT
DTSTART;TZID=America/Toronto:20190112T080000
DTEND;TZID=America/Toronto:20190112T140000
DTSTAMP:20260419T123246
CREATED:20190110T153543Z
LAST-MODIFIED:20190110T153543Z
UID:10023773-1547280000-1547301600@www.saint-fabien.ca
SUMMARY:Parc national du Bic - Journée des voisins
DESCRIPTION:Les résidents de Saint-Fabien et du Bic sont invités à une journée haute en couleur au Parc national du Bic. Pour l’occasion\, l’accès est gratuit. \nAu programme : \nPrêts d’équipement\nRaquettes\, vélos à pneus surdimensionnés et trottinettes des neiges seront mis à la disposition de nos voisins. Premier arrivé\, premier servi.\n• Rendez-vous : centre de services de la Rivière-du-Sud-Ouest\n• Horaire : 9h à 15h\n• Activité gratuite
URL:https://www.saint-fabien.ca/event-calendar/parc-national-du-bic-journee-des-voisins/
LOCATION:Parc national du Bic
CATEGORIES:Sports et loisirs
ATTACH;FMTTYPE=image/jpeg:https://www.saint-fabien.ca/wp-content/uploads/2019/01/49249074_2159892044032002_5873829859926474752_n.jpg
END:VEVENT
BEGIN:VEVENT
DTSTART;TZID=America/Toronto:20180816T193000
DTEND;TZID=America/Toronto:20180816T213000
DTSTAMP:20260419T123246
CREATED:20180803T141605Z
LAST-MODIFIED:20180815T150229Z
UID:10023405-1534447800-1534455000@www.saint-fabien.ca
SUMMARY:Vieux Théâtre hors les murs: Les Tempêtes du siècle
DESCRIPTION:“Le 16 août prochain\, c’est au Parc du Bic que vous pourrez assister à la représentation gratuite du Théâtre témoin. On vous présente Les Tempêtes du Siècle. Venez rencontrer Monette\, sa famille et deux étrangers qui arrivent juste avant la tempête du siècle et le « frette » à l’hiver 1847. Les Tempêtes du Siècle\, c’est un récit de fraternité grandeur nature qui écorche les idées reçues autant qu’il enchante l’imaginaire. \nLe spectacle est gratuit pour tous\, toutefois\, le droit d’accès au parc est requis. Début du spectacle à 19 h 30.” \nSource : Vieux Théâtre de Saint-Fabien \nImage : Théâtre témoin
URL:https://www.saint-fabien.ca/event-calendar/vieux-theatre-hors-les-murs-les-tempetes-du-siecle/
LOCATION:Parc national du Bic
CATEGORIES:Culture
ATTACH;FMTTYPE=image/png:https://www.saint-fabien.ca/wp-content/uploads/2018/08/Capture-d’écran-2018-08-03-à-10.15.06.png
END:VEVENT
BEGIN:VEVENT
DTSTART;TZID=America/Toronto:20180804T193000
DTEND;TZID=America/Toronto:20180804T213000
DTSTAMP:20260419T123246
CREATED:20180726T192907Z
LAST-MODIFIED:20180726T192907Z
UID:10023399-1533411000-1533418200@www.saint-fabien.ca
SUMMARY:Parc du Bic : De la terre aux étoiles
DESCRIPTION:Le Parc national du Bic et le Club d’astronomie de Rimouski invite la population à assister\, si le temps le permet\, à une conférence et une séance d’observation du ciel nocturne le 4 août à 19h30 sur le site de la ferme Rioux.
URL:https://www.saint-fabien.ca/event-calendar/parc-du-bic-de-la-terre-aux-etoiles/
LOCATION:Parc national du Bic
END:VEVENT
BEGIN:VEVENT
DTSTART;TZID=America/Toronto:20180609T100000
DTEND;TZID=America/Toronto:20180609T130000
DTSTAMP:20260419T123246
CREATED:20180528T185731Z
LAST-MODIFIED:20180528T185731Z
UID:10023373-1528538400-1528549200@www.saint-fabien.ca
SUMMARY:Grand nettoyage des plages du parc national du Bic
DESCRIPTION:Dans le cadre de la journée mondiale des Océans\, le parc national du Bic vous invite à un grand nettoyage de plage samedi le 9 juin prochain.\nVenez en grand nombre nous aider à récupérer les déchets qui se sont amassés sur les plages\, suite aux grandes marées\, et ainsi éviter que ces déchets se retrouvent à nouveau dans le milieu marin.\nDes employés du parc seront présents aux plages de la Baie du Ha! Ha! et l’anse à Mouille-Cul de 10h à 13h. Des sacs à ordures seront distribués\, mais veuillez amener vos gants.\nIl est aussi possible de nettoyer les autres plages du parc. Simplement communiquer avec nous pour récupérer des sacs et nous indiquer où les ramasser une fois remplis.\nEspérant vous accueillir en grand nombre pour participer à cette grande corvée. Un geste concret et significatif pour protéger notre fleuve Saint-Laurent. \nPhoto : Mélanie Roy
URL:https://www.saint-fabien.ca/event-calendar/grand-nettoyage-des-plages-du-parc-national-du-bic/
LOCATION:Parc national du Bic
CATEGORIES:Autres
ATTACH;FMTTYPE=image/jpeg:https://www.saint-fabien.ca/wp-content/uploads/2018/05/33850107_1835167169837826_9024459568662446080_n.jpg
END:VEVENT
END:VCALENDAR