BEGIN:VCALENDAR
VERSION:2.0
PRODID:-//Municipalité de Saint-Fabien - ECPv6.15.20//NONSGML v1.0//EN
CALSCALE:GREGORIAN
METHOD:PUBLISH
X-ORIGINAL-URL:https://www.saint-fabien.ca
X-WR-CALDESC:Évènements pour Municipalité de Saint-Fabien
REFRESH-INTERVAL;VALUE=DURATION:PT1H
X-Robots-Tag:noindex
X-PUBLISHED-TTL:PT1H
BEGIN:VTIMEZONE
TZID:America/Toronto
BEGIN:DAYLIGHT
TZOFFSETFROM:-0500
TZOFFSETTO:-0400
TZNAME:EDT
DTSTART:20170312T070000
END:DAYLIGHT
BEGIN:STANDARD
TZOFFSETFROM:-0400
TZOFFSETTO:-0500
TZNAME:EST
DTSTART:20171105T060000
END:STANDARD
BEGIN:DAYLIGHT
TZOFFSETFROM:-0500
TZOFFSETTO:-0400
TZNAME:EDT
DTSTART:20180311T070000
END:DAYLIGHT
BEGIN:STANDARD
TZOFFSETFROM:-0400
TZOFFSETTO:-0500
TZNAME:EST
DTSTART:20181104T060000
END:STANDARD
BEGIN:DAYLIGHT
TZOFFSETFROM:-0500
TZOFFSETTO:-0400
TZNAME:EDT
DTSTART:20190310T070000
END:DAYLIGHT
BEGIN:STANDARD
TZOFFSETFROM:-0400
TZOFFSETTO:-0500
TZNAME:EST
DTSTART:20191103T060000
END:STANDARD
BEGIN:DAYLIGHT
TZOFFSETFROM:-0500
TZOFFSETTO:-0400
TZNAME:EDT
DTSTART:20200308T070000
END:DAYLIGHT
BEGIN:STANDARD
TZOFFSETFROM:-0400
TZOFFSETTO:-0500
TZNAME:EST
DTSTART:20201101T060000
END:STANDARD
END:VTIMEZONE
BEGIN:VEVENT
DTSTART;VALUE=DATE:20190608
DTEND;VALUE=DATE:20190609
DTSTAMP:20260421T115153
CREATED:20190603T192553Z
LAST-MODIFIED:20190603T192553Z
UID:10024216-1559952000-1560038399@www.saint-fabien.ca
SUMMARY:Journée mondiale des Océans - Corvée de nettoyage des plages
DESCRIPTION:La Journée mondiale des océans est célébrée le 8 juin partout dans le monde\, afin de sensibiliser les gens au rôle crucial que jouent les océans comme source de vie\, de nourriture\, d’activité économique et comme régulateur de l’équilibre climatique sur la planète. \nQuébec-Océan et le Parc national du Bic invitent petits et grands à se donner rendez-vous à la Ferme Rioux\, le samedi 8 juin prochain\, pour une foule d’activités de vulgarisation. Des étudiants et des chercheurs en océanographie biologique\, chimique\, physique et géologique présenteront des ateliers sur des aspects fascinants de l’océan. Découvrez comment se mélangent l’eau douce et l’eau salée\, observez du plancton au microscope\, apprenez comment se déroulent les échantillonnages en milieu côtier et plus encore! \nDans la salle de conférences\, vous pourrez visionner trois documentaires impliquant des chercheurs de l’Institut des sciences de la mer de Rimouski\, réalisés par des cinéastes dans le cadre du projet Plan Large du Cinéma Paraloeil.\n« Ballast balade pour dinoflagellés » de Françoise Dugré\, avec André Rochon\n« La frontière » de Félix Lamarche\, avec Daniel Bourgault\, Guillaume St-Onge et plusieurs professionnels et étudiants\n« Floes » de Guillaume Lévesque\, avec Dany Dumont et plusieurs professionnels et étudiants \nÀ 13 h\, ceux qui le souhaitent se regrouperont à la Baie du Ha!Ha! pour un grand nettoyage qui sera l’occasion d’inaugurer les tout nouveaux « bacs à marée » du Parc national du Bic. \nPour couronner le tout\, vous pourrez admirer les magnifiques dessins qui auront été faits la veille par les élèves de l’École du Havre – Mont Saint-Louis sur le thème de l’océan. \nToutes les activités sont gratuites\, toutefois les droits d’accès usuels devront être acquittés à l’entrée du Parc. Les activités auront lieu beau temps mauvais temps\, à l’exception du nettoyage de rivage qui sera annulé en cas de pluie. \nQuébec-Océan\, le regroupement interinstitutionnel de recherches océanographiques du Québec\, tient à remercier très chaleureusement l’Association des étudiants gradués en océanographie\, le Parc national du Bic et le cinéma Paraloeil pour leur collaboration à l’organisation de cette journée qui promet d’être très enrichissante. \nAU PLAISIR DE VOUS Y RENCONTRER EN GRAND NOMBRE!
URL:https://www.saint-fabien.ca/event-calendar/journee-mondiale-des-oceans-corvee-de-nettoyage-des-plages/
LOCATION:Parc national du Bic
CATEGORIES:Activités communautaires
END:VEVENT
BEGIN:VEVENT
DTSTART;TZID=America/Toronto:20190112T080000
DTEND;TZID=America/Toronto:20190112T140000
DTSTAMP:20260421T115153
CREATED:20190110T153543Z
LAST-MODIFIED:20190110T153543Z
UID:10023773-1547280000-1547301600@www.saint-fabien.ca
SUMMARY:Parc national du Bic - Journée des voisins
DESCRIPTION:Les résidents de Saint-Fabien et du Bic sont invités à une journée haute en couleur au Parc national du Bic. Pour l’occasion\, l’accès est gratuit. \nAu programme : \nPrêts d’équipement\nRaquettes\, vélos à pneus surdimensionnés et trottinettes des neiges seront mis à la disposition de nos voisins. Premier arrivé\, premier servi.\n• Rendez-vous : centre de services de la Rivière-du-Sud-Ouest\n• Horaire : 9h à 15h\n• Activité gratuite
URL:https://www.saint-fabien.ca/event-calendar/parc-national-du-bic-journee-des-voisins/
LOCATION:Parc national du Bic
CATEGORIES:Sports et loisirs
ATTACH;FMTTYPE=image/jpeg:https://www.saint-fabien.ca/wp-content/uploads/2019/01/49249074_2159892044032002_5873829859926474752_n.jpg
END:VEVENT
BEGIN:VEVENT
DTSTART;TZID=America/Toronto:20180816T193000
DTEND;TZID=America/Toronto:20180816T213000
DTSTAMP:20260421T115153
CREATED:20180803T141605Z
LAST-MODIFIED:20180815T150229Z
UID:10023405-1534447800-1534455000@www.saint-fabien.ca
SUMMARY:Vieux Théâtre hors les murs: Les Tempêtes du siècle
DESCRIPTION:“Le 16 août prochain\, c’est au Parc du Bic que vous pourrez assister à la représentation gratuite du Théâtre témoin. On vous présente Les Tempêtes du Siècle. Venez rencontrer Monette\, sa famille et deux étrangers qui arrivent juste avant la tempête du siècle et le « frette » à l’hiver 1847. Les Tempêtes du Siècle\, c’est un récit de fraternité grandeur nature qui écorche les idées reçues autant qu’il enchante l’imaginaire. \nLe spectacle est gratuit pour tous\, toutefois\, le droit d’accès au parc est requis. Début du spectacle à 19 h 30.” \nSource : Vieux Théâtre de Saint-Fabien \nImage : Théâtre témoin
URL:https://www.saint-fabien.ca/event-calendar/vieux-theatre-hors-les-murs-les-tempetes-du-siecle/
LOCATION:Parc national du Bic
CATEGORIES:Culture
ATTACH;FMTTYPE=image/png:https://www.saint-fabien.ca/wp-content/uploads/2018/08/Capture-d’écran-2018-08-03-à-10.15.06.png
END:VEVENT
BEGIN:VEVENT
DTSTART;TZID=America/Toronto:20180804T193000
DTEND;TZID=America/Toronto:20180804T213000
DTSTAMP:20260421T115153
CREATED:20180726T192907Z
LAST-MODIFIED:20180726T192907Z
UID:10023399-1533411000-1533418200@www.saint-fabien.ca
SUMMARY:Parc du Bic : De la terre aux étoiles
DESCRIPTION:Le Parc national du Bic et le Club d’astronomie de Rimouski invite la population à assister\, si le temps le permet\, à une conférence et une séance d’observation du ciel nocturne le 4 août à 19h30 sur le site de la ferme Rioux.
URL:https://www.saint-fabien.ca/event-calendar/parc-du-bic-de-la-terre-aux-etoiles/
LOCATION:Parc national du Bic
END:VEVENT
BEGIN:VEVENT
DTSTART;TZID=America/Toronto:20180609T100000
DTEND;TZID=America/Toronto:20180609T130000
DTSTAMP:20260421T115153
CREATED:20180528T185731Z
LAST-MODIFIED:20180528T185731Z
UID:10023373-1528538400-1528549200@www.saint-fabien.ca
SUMMARY:Grand nettoyage des plages du parc national du Bic
DESCRIPTION:Dans le cadre de la journée mondiale des Océans\, le parc national du Bic vous invite à un grand nettoyage de plage samedi le 9 juin prochain.\nVenez en grand nombre nous aider à récupérer les déchets qui se sont amassés sur les plages\, suite aux grandes marées\, et ainsi éviter que ces déchets se retrouvent à nouveau dans le milieu marin.\nDes employés du parc seront présents aux plages de la Baie du Ha! Ha! et l’anse à Mouille-Cul de 10h à 13h. Des sacs à ordures seront distribués\, mais veuillez amener vos gants.\nIl est aussi possible de nettoyer les autres plages du parc. Simplement communiquer avec nous pour récupérer des sacs et nous indiquer où les ramasser une fois remplis.\nEspérant vous accueillir en grand nombre pour participer à cette grande corvée. Un geste concret et significatif pour protéger notre fleuve Saint-Laurent. \nPhoto : Mélanie Roy
URL:https://www.saint-fabien.ca/event-calendar/grand-nettoyage-des-plages-du-parc-national-du-bic/
LOCATION:Parc national du Bic
CATEGORIES:Autres
ATTACH;FMTTYPE=image/jpeg:https://www.saint-fabien.ca/wp-content/uploads/2018/05/33850107_1835167169837826_9024459568662446080_n.jpg
END:VEVENT
END:VCALENDAR