BEGIN:VCALENDAR
VERSION:2.0
PRODID:-//Municipalité de Saint-Fabien - ECPv6.15.20//NONSGML v1.0//EN
CALSCALE:GREGORIAN
METHOD:PUBLISH
X-WR-CALNAME:Municipalité de Saint-Fabien
X-ORIGINAL-URL:https://www.saint-fabien.ca
X-WR-CALDESC:Évènements pour Municipalité de Saint-Fabien
REFRESH-INTERVAL;VALUE=DURATION:PT1H
X-Robots-Tag:noindex
X-PUBLISHED-TTL:PT1H
BEGIN:VTIMEZONE
TZID:America/Toronto
BEGIN:DAYLIGHT
TZOFFSETFROM:-0500
TZOFFSETTO:-0400
TZNAME:EDT
DTSTART:20210314T070000
END:DAYLIGHT
BEGIN:STANDARD
TZOFFSETFROM:-0400
TZOFFSETTO:-0500
TZNAME:EST
DTSTART:20211107T060000
END:STANDARD
BEGIN:DAYLIGHT
TZOFFSETFROM:-0500
TZOFFSETTO:-0400
TZNAME:EDT
DTSTART:20220313T070000
END:DAYLIGHT
BEGIN:STANDARD
TZOFFSETFROM:-0400
TZOFFSETTO:-0500
TZNAME:EST
DTSTART:20221106T060000
END:STANDARD
BEGIN:DAYLIGHT
TZOFFSETFROM:-0500
TZOFFSETTO:-0400
TZNAME:EDT
DTSTART:20230312T070000
END:DAYLIGHT
BEGIN:STANDARD
TZOFFSETFROM:-0400
TZOFFSETTO:-0500
TZNAME:EST
DTSTART:20231105T060000
END:STANDARD
END:VTIMEZONE
BEGIN:VEVENT
DTSTART;TZID=America/Toronto:20220827T133000
DTEND;TZID=America/Toronto:20220827T160000
DTSTAMP:20260420T154157
CREATED:20220818T151507Z
LAST-MODIFIED:20220818T151507Z
UID:10025262-1661607000-1661616000@www.saint-fabien.ca
SUMMARY:Initiation à la cueillette de forestibles
DESCRIPTION:Mme Nadia Vaillancourt de l’entreprise La Cabottine – Saveurs indigènes accompagnée d’une naturaliste de l’Association forestière bas-laurentienne\, vous guidera lors de cette activité découverte de quelques produits forestiers non ligneux comestibles. \nLe lien pour s’inscrire : \n\n\n\n\n\nafbl.s1.yapla.com/fr/event-33558/authentication/initiation-a-la-cueillette-de-forestibles-27-aout-2022-13h30/33558
URL:https://www.saint-fabien.ca/event-calendar/initiation-a-la-cueillette-de-forestibles/
LOCATION:Sentier des Coulombe
CATEGORIES:Sports et loisirs
ATTACH;FMTTYPE=image/jpeg:https://www.saint-fabien.ca/wp-content/uploads/2022/08/299330580_3285966741680622_6395199453627885593_n.jpg
END:VEVENT
END:VCALENDAR