BEGIN:VCALENDAR
VERSION:2.0
PRODID:-//Municipalité de Saint-Fabien - ECPv6.15.20//NONSGML v1.0//EN
CALSCALE:GREGORIAN
METHOD:PUBLISH
X-ORIGINAL-URL:https://www.saint-fabien.ca
X-WR-CALDESC:Évènements pour Municipalité de Saint-Fabien
REFRESH-INTERVAL;VALUE=DURATION:PT1H
X-Robots-Tag:noindex
X-PUBLISHED-TTL:PT1H
BEGIN:VTIMEZONE
TZID:America/Toronto
BEGIN:DAYLIGHT
TZOFFSETFROM:-0500
TZOFFSETTO:-0400
TZNAME:EDT
DTSTART:20170312T070000
END:DAYLIGHT
BEGIN:STANDARD
TZOFFSETFROM:-0400
TZOFFSETTO:-0500
TZNAME:EST
DTSTART:20171105T060000
END:STANDARD
BEGIN:DAYLIGHT
TZOFFSETFROM:-0500
TZOFFSETTO:-0400
TZNAME:EDT
DTSTART:20180311T070000
END:DAYLIGHT
BEGIN:STANDARD
TZOFFSETFROM:-0400
TZOFFSETTO:-0500
TZNAME:EST
DTSTART:20181104T060000
END:STANDARD
BEGIN:DAYLIGHT
TZOFFSETFROM:-0500
TZOFFSETTO:-0400
TZNAME:EDT
DTSTART:20190310T070000
END:DAYLIGHT
BEGIN:STANDARD
TZOFFSETFROM:-0400
TZOFFSETTO:-0500
TZNAME:EST
DTSTART:20191103T060000
END:STANDARD
BEGIN:DAYLIGHT
TZOFFSETFROM:-0500
TZOFFSETTO:-0400
TZNAME:EDT
DTSTART:20200308T070000
END:DAYLIGHT
BEGIN:STANDARD
TZOFFSETFROM:-0400
TZOFFSETTO:-0500
TZNAME:EST
DTSTART:20201101T060000
END:STANDARD
BEGIN:DAYLIGHT
TZOFFSETFROM:-0500
TZOFFSETTO:-0400
TZNAME:EDT
DTSTART:20210314T070000
END:DAYLIGHT
BEGIN:STANDARD
TZOFFSETFROM:-0400
TZOFFSETTO:-0500
TZNAME:EST
DTSTART:20211107T060000
END:STANDARD
BEGIN:DAYLIGHT
TZOFFSETFROM:-0500
TZOFFSETTO:-0400
TZNAME:EDT
DTSTART:20220313T070000
END:DAYLIGHT
BEGIN:STANDARD
TZOFFSETFROM:-0400
TZOFFSETTO:-0500
TZNAME:EST
DTSTART:20221106T060000
END:STANDARD
BEGIN:DAYLIGHT
TZOFFSETFROM:-0500
TZOFFSETTO:-0400
TZNAME:EDT
DTSTART:20230312T070000
END:DAYLIGHT
BEGIN:STANDARD
TZOFFSETFROM:-0400
TZOFFSETTO:-0500
TZNAME:EST
DTSTART:20231105T060000
END:STANDARD
BEGIN:DAYLIGHT
TZOFFSETFROM:-0500
TZOFFSETTO:-0400
TZNAME:EDT
DTSTART:20240310T070000
END:DAYLIGHT
BEGIN:STANDARD
TZOFFSETFROM:-0400
TZOFFSETTO:-0500
TZNAME:EST
DTSTART:20241103T060000
END:STANDARD
BEGIN:DAYLIGHT
TZOFFSETFROM:-0500
TZOFFSETTO:-0400
TZNAME:EDT
DTSTART:20250309T070000
END:DAYLIGHT
BEGIN:STANDARD
TZOFFSETFROM:-0400
TZOFFSETTO:-0500
TZNAME:EST
DTSTART:20251102T060000
END:STANDARD
BEGIN:DAYLIGHT
TZOFFSETFROM:-0500
TZOFFSETTO:-0400
TZNAME:EDT
DTSTART:20260308T070000
END:DAYLIGHT
BEGIN:STANDARD
TZOFFSETFROM:-0400
TZOFFSETTO:-0500
TZNAME:EST
DTSTART:20261101T060000
END:STANDARD
END:VTIMEZONE
BEGIN:VEVENT
DTSTART;TZID=America/Toronto:20250322T190000
DTEND;TZID=America/Toronto:20250322T210000
DTSTAMP:20260420T204331
CREATED:20250204T162723Z
LAST-MODIFIED:20250204T162723Z
UID:10025868-1742670000-1742677200@www.saint-fabien.ca
SUMMARY:Spectacle annuel du Club de patinage artistique
DESCRIPTION:Le CPA de St-Fabien vous invite à son spectacle annuel sous le thème Souvenirs d’enfance. \nC’est le 22 mars à 19h au Pavillon des loisirs. \nGratuit pour les 0 à 5 ans \n5$ pour les 6 à 12 ans \n10$ pour les 13 ans et plus
URL:https://www.saint-fabien.ca/event-calendar/spectacle-annuel-du-club-de-patinage-artistique-2/
LOCATION:pavillon des loisirs\, 32 8e Avenue Ouest\, Saint-Fabien\, Québec\, G0L2Z0\, Canada
CATEGORIES:Sports et loisirs
GEO:48.2924537;-68.8624063
X-APPLE-STRUCTURED-LOCATION;VALUE=URI;X-ADDRESS=pavillon des loisirs 32 8e Avenue Ouest Saint-Fabien Québec G0L2Z0 Canada;X-APPLE-RADIUS=500;X-TITLE=32 8e Avenue Ouest:geo:-68.8624063,48.2924537
END:VEVENT
BEGIN:VEVENT
DTSTART;TZID=America/Toronto:20241123T170000
DTEND;TZID=America/Toronto:20241123T190000
DTSTAMP:20260420T204331
CREATED:20241104T194807Z
LAST-MODIFIED:20241104T194807Z
UID:10025778-1732381200-1732388400@www.saint-fabien.ca
SUMMARY:Souper spaghetti au profit du CPA
DESCRIPTION:Le Club de patinage artistique de Saint-Fabien organise un souper spaghetti le samedi 23 novembre dès 18h au Pavillon des loisirs. \nLes tarifs pour le souper ET la soirée sont : \n– 13 ans et plus : 20$ \n– 6 à 12 ans : 10$ \n– 6 ans et moins : gratuit ! \nLa soirée sera animée par le chansonnier Gilles Richard. \nLes billets sont en vente auprès des parents des patineurs ou des membres du CA : \nVickie Bélanger\, Mélissa Bouchard\, Christine Bouchard\, Émilie Coulombe\, Maryse Gagné\, Serge Gagnon\, Geneviève Pigeon\, Julie Roy.
URL:https://www.saint-fabien.ca/event-calendar/souper-spaghetti-au-profit-du-cpa/
LOCATION:pavillon des loisirs\, 32 8e Avenue Ouest\, Saint-Fabien\, Québec\, G0L2Z0\, Canada
CATEGORIES:Sports et loisirs
GEO:48.2924537;-68.8624063
X-APPLE-STRUCTURED-LOCATION;VALUE=URI;X-ADDRESS=pavillon des loisirs 32 8e Avenue Ouest Saint-Fabien Québec G0L2Z0 Canada;X-APPLE-RADIUS=500;X-TITLE=32 8e Avenue Ouest:geo:-68.8624063,48.2924537
END:VEVENT
BEGIN:VEVENT
DTSTART;TZID=America/Toronto:20241006T090000
DTEND;TZID=America/Toronto:20241006T100000
DTSTAMP:20260420T204331
CREATED:20240905T141904Z
LAST-MODIFIED:20240905T141904Z
UID:10025730-1728205200-1728208800@www.saint-fabien.ca
SUMMARY:Invitation du Club de patinage artistique
DESCRIPTION:Une nouvelle saison de patinage s’en vient ! Dimanche 6 octobre de 9h à 10 h\, c’est d’ailleurs la porte ouverte du CPA St-Fabien (essai gratuit) et l’inscription. \nQue ce soit pour apprendre à patiner pour le plaisir\, exceller en patinage artistique ou pour solidifier tes bases au hockey\, nous t’invitons à venir patiner avec nous à l’Aréna de Saint-Fabien. \nPour plus de renseignements\, n’hésite pas à entrer en contact avec la présidente du Club\, Mélissa Bouchard\, via Messenger ou par courriel à : \ncpast_fabien@outlook.fr \nBienvenue à toutes et à tous et au plaisir de vous revoir ou de vous rencontrer! \nLe conseil d’administration du CPA St-Fabien et ses entraîneuses et entraîneurs \nP.S. Casque homologué CSA obligatoire (style hockey) pour les Patinage plus
URL:https://www.saint-fabien.ca/event-calendar/invitation-du-club-de-patinage-artistique/
LOCATION:pavillon des loisirs\, 32 8e Avenue Ouest\, Saint-Fabien\, Québec\, G0L2Z0\, Canada
CATEGORIES:Sports et loisirs
GEO:48.2924537;-68.8624063
X-APPLE-STRUCTURED-LOCATION;VALUE=URI;X-ADDRESS=pavillon des loisirs 32 8e Avenue Ouest Saint-Fabien Québec G0L2Z0 Canada;X-APPLE-RADIUS=500;X-TITLE=32 8e Avenue Ouest:geo:-68.8624063,48.2924537
END:VEVENT
BEGIN:VEVENT
DTSTART;TZID=America/Toronto:20240323T190000
DTEND;TZID=America/Toronto:20240323T210000
DTSTAMP:20260420T204331
CREATED:20240206T194834Z
LAST-MODIFIED:20240206T194834Z
UID:10025644-1711220400-1711227600@www.saint-fabien.ca
SUMMARY:Spectacle annuel du Club de patinage artistique
DESCRIPTION:Le spectacle annuel du Club se tiendra  le 23 mars dès 19h. Le thème du spectacle sera : les jeux vidéos ! C’est gratuit pour les 0 à 9 ans et 5$ pour les 10 ans et plus. Venez encourager nos jeunes patineurs : ils travaillent très fort pour vous en mettre plein la vue !
URL:https://www.saint-fabien.ca/event-calendar/spectacle-annuel-du-club-de-patinage-artistique/
LOCATION:pavillon des loisirs\, 32 8e Avenue Ouest\, Saint-Fabien\, Québec\, G0L2Z0\, Canada
CATEGORIES:Sports et loisirs
GEO:48.2924537;-68.8624063
X-APPLE-STRUCTURED-LOCATION;VALUE=URI;X-ADDRESS=pavillon des loisirs 32 8e Avenue Ouest Saint-Fabien Québec G0L2Z0 Canada;X-APPLE-RADIUS=500;X-TITLE=32 8e Avenue Ouest:geo:-68.8624063,48.2924537
END:VEVENT
BEGIN:VEVENT
DTSTART;TZID=America/Toronto:20240303T080000
DTEND;TZID=America/Toronto:20240303T110000
DTSTAMP:20260420T204331
CREATED:20240206T194718Z
LAST-MODIFIED:20240206T194718Z
UID:10025643-1709452800-1709463600@www.saint-fabien.ca
SUMMARY:Brunch du Club de patinage artistique
DESCRIPTION:Le CPA de Saint-Fabien a le plaisir d’inviter toute la population à son brunch annuel le 3 mars de 9h à 12h au Pavillon des loisirs.  \nVoici les prix des billets  : \n13 ans et + : 18$ \n6-12 ans : 10 $ \n5 ans et – : 5$ \nTous les profits seront remis au Club : voilà une belle façon d’encourager nos jeunes sportifs ! Réservez vos billets auprès de Mélissa Bouchard\, présidente du CA\, ou des parents des patineurs.
URL:https://www.saint-fabien.ca/event-calendar/brunch-du-club-de-patinage-artistique/
LOCATION:pavillon des loisirs\, 32 8e Avenue Ouest\, Saint-Fabien\, Québec\, G0L2Z0\, Canada
CATEGORIES:Activités communautaires
GEO:48.2924537;-68.8624063
X-APPLE-STRUCTURED-LOCATION;VALUE=URI;X-ADDRESS=pavillon des loisirs 32 8e Avenue Ouest Saint-Fabien Québec G0L2Z0 Canada;X-APPLE-RADIUS=500;X-TITLE=32 8e Avenue Ouest:geo:-68.8624063,48.2924537
END:VEVENT
BEGIN:VEVENT
DTSTART;TZID=America/Toronto:20231125T140000
DTEND;TZID=America/Toronto:20231125T210000
DTSTAMP:20260420T204331
CREATED:20231102T173014Z
LAST-MODIFIED:20231102T173014Z
UID:10025547-1700920800-1700946000@www.saint-fabien.ca
SUMMARY:Noël\, ensemble !
DESCRIPTION:Les Loisirs et le Club de patinage artistique de St-Fabien invitent toute la population à participer à une super activité de Noël le 25 novembre au Pavillon des loisirs !  \nÇa commence à 15h avec la deuxième édition de la Parade de Noël\, qui empruntera un trajet un peu différent cette année. Le trajet sera publié quelques jours avant sur les réseaux sociaux (si ce n’est déjà fait\, abonnez-vous à la page Facebook des Loisirs et de la Municipalité pour ne rien manquer). \nLa parade sera de retour vers 17h au Pavillon\, juste à temps pour se préparer à participer au souper-spaghetti du Club de patinage \nartistique de Saint-Fabien. \nÀ partir de 18h\, vous êtes donc invités à prendre part à cette belle activité de financement\, qui se clôturera en beauté avec le chansonnier Gilles Richard. Les coûts pour le souper ET la soirée sont de : \n– 20 $ pour les 13 ans et + \n– 10$ pour les 6 à 12 ans \n– et c’est gratuit pour les 5 ans et – \nÀ noter que si vous souhaitez assister seulement à la soirée\, c’est possible ! Le coût pour la soirée est de 10$. Merci d’encourager nos jeunes!
URL:https://www.saint-fabien.ca/event-calendar/noel-ensemble/
LOCATION:pavillon des loisirs\, 32 8e Avenue Ouest\, Saint-Fabien\, Québec\, G0L2Z0\, Canada
CATEGORIES:Activités communautaires
ATTACH;FMTTYPE=image/png:https://www.saint-fabien.ca/wp-content/uploads/2023/11/Capture-décran-le-2023-11-02-à-13.27.14.png
ORGANIZER;CN="Les Loisirs St-Fabien Inc.":MAILTO:loisirss@cgocable.ca
GEO:48.2924537;-68.8624063
X-APPLE-STRUCTURED-LOCATION;VALUE=URI;X-ADDRESS=pavillon des loisirs 32 8e Avenue Ouest Saint-Fabien Québec G0L2Z0 Canada;X-APPLE-RADIUS=500;X-TITLE=32 8e Avenue Ouest:geo:-68.8624063,48.2924537
END:VEVENT
BEGIN:VEVENT
DTSTART;TZID=America/Toronto:20231001T090000
DTEND;TZID=America/Toronto:20231001T100000
DTSTAMP:20260420T204331
CREATED:20230920T142524Z
LAST-MODIFIED:20230920T142524Z
UID:10025519-1696150800-1696154400@www.saint-fabien.ca
SUMMARY:Porte ouverte du CPA !
DESCRIPTION:Une nouvelle saison de patinage s’en vient ! Dimanche 1er octobre de 9h à 10 h\, c’est d’ailleurs la porte ouverte du Club de patinage artistique de St-Fabien (essai gratuit) et l’inscription. Que ce soit pour apprendre à patiner pour le plaisir\, exceller en patinage artistique ou pour solidiﬁer tes bases au hockey\, nous t’invitons à venir patiner avec nous à l’Aréna de Saint-Fabien. Pour plus de renseignements\, n’hésite pas à entrer en contact avec la présidente du Club\, Mélissa Bou-chard\, via Messenger ou par courriel à : cpast_fabien@outlook.fr Bienvenue à tous et au plaisir de vous revoir ou de vous rencontrer! Le conseil d’administration du CPA St-Fabien et ses entraîneurs P.S. Casque homologué CSA obligatoire (style hoc-key) pour les Patinage plus
URL:https://www.saint-fabien.ca/event-calendar/porte-ouverte-du-cpa/
LOCATION:pavillon des loisirs\, 32 8e Avenue Ouest\, Saint-Fabien\, Québec\, G0L2Z0\, Canada
CATEGORIES:Sports et loisirs
GEO:48.2924537;-68.8624063
X-APPLE-STRUCTURED-LOCATION;VALUE=URI;X-ADDRESS=pavillon des loisirs 32 8e Avenue Ouest Saint-Fabien Québec G0L2Z0 Canada;X-APPLE-RADIUS=500;X-TITLE=32 8e Avenue Ouest:geo:-68.8624063,48.2924537
END:VEVENT
BEGIN:VEVENT
DTSTART;TZID=America/Toronto:20230325T190000
DTEND;TZID=America/Toronto:20230325T210000
DTSTAMP:20260420T204331
CREATED:20230314T132304Z
LAST-MODIFIED:20230314T132340Z
UID:10025427-1679770800-1679778000@www.saint-fabien.ca
SUMMARY:CPA - Plaisir musical sur glace
DESCRIPTION:Le Club de patinage artistique de Saint-Fabien vous invite à assister au spectacle Plaisir sur glace\, qui se tiendra à l’aréna de Saint-Fabien le samedi 25 mars à 19h. \nMlle Frédérike Plante\, novice aux Jeux du Québec 2023\, sera l’invitée d’honneur de ce bel événement. \nLes billets seront en vente le soir du spectacle au coût de 5$ pour les 12 ans et plus (gratuit pour les 11 ans et moins).
URL:https://www.saint-fabien.ca/event-calendar/cpa-plaisir-musical-sur-glace/
LOCATION:pavillon des loisirs\, 32 8e Avenue Ouest\, Saint-Fabien\, Québec\, G0L2Z0\, Canada
CATEGORIES:Sports et loisirs
GEO:48.2924537;-68.8624063
X-APPLE-STRUCTURED-LOCATION;VALUE=URI;X-ADDRESS=pavillon des loisirs 32 8e Avenue Ouest Saint-Fabien Québec G0L2Z0 Canada;X-APPLE-RADIUS=500;X-TITLE=32 8e Avenue Ouest:geo:-68.8624063,48.2924537
END:VEVENT
BEGIN:VEVENT
DTSTART;TZID=America/Toronto:20221002T090000
DTEND;TZID=America/Toronto:20221002T100000
DTSTAMP:20260420T204331
CREATED:20220912T130120Z
LAST-MODIFIED:20220912T130348Z
UID:10025279-1664701200-1664704800@www.saint-fabien.ca
SUMMARY:Porte ouverte - CPA de Saint-Fabien
DESCRIPTION:Ce dimanche le 2 octobre de 9h à 10 h c’est la porte ouverte du Club de patinage artistique de St-Fabien (essai gratuit et inscription). C’est le moment idéal pour faire découvrir le patin à vos enfants. On vous attend à l’aréna sur la glace pour 9h00. C’est gratuit et une super équipe sera là pour accueillir vos enfants sur la patinoire.\nLe programme Patinage Plus offre aux enfants la meilleure base pour le patinage artistique\, le hockey\, le patinage de vitesse. Grâce au programme Patinage Plus\, les patineurs acquièrent les habilités nécessaires à la pratique de tous sports de glace. \nPour toutes questions\, n’hésitez pas à entrer en contact avec nous\, il nous fera plaisir de vous éclairer : cpast_fabien@outlook.fr ou Mélissa Bouchard au 418-509-0588\nAu plaisir de vous revoir ou de vous rencontrer! \nCasque homologué CSA obligatoire (style hockey) \nMerci de partager
URL:https://www.saint-fabien.ca/event-calendar/porte-ouverte-cpa-de-saint-fabien/
LOCATION:pavillon des loisirs\, 32 8e Avenue Ouest\, Saint-Fabien\, Québec\, G0L2Z0\, Canada
CATEGORIES:Sports et loisirs
ATTACH;FMTTYPE=image/jpeg:https://www.saint-fabien.ca/wp-content/uploads/2022/09/young-couple-preparing-to-skating-close-up-photo-of-their-hands-tying-shoelaces-of-ice-hockey-skates-scaled.jpg
GEO:48.2924537;-68.8624063
X-APPLE-STRUCTURED-LOCATION;VALUE=URI;X-ADDRESS=pavillon des loisirs 32 8e Avenue Ouest Saint-Fabien Québec G0L2Z0 Canada;X-APPLE-RADIUS=500;X-TITLE=32 8e Avenue Ouest:geo:-68.8624063,48.2924537
END:VEVENT
BEGIN:VEVENT
DTSTART;TZID=America/Toronto:20210110T080000
DTEND;TZID=America/Toronto:20210110T110000
DTSTAMP:20260420T204331
CREATED:20201210T201646Z
LAST-MODIFIED:20210101T173301Z
UID:10025027-1610265600-1610276400@www.saint-fabien.ca
SUMMARY:Annulé - Collecte de bouteilles et canettes au profit du CPA Saint-Fabien
DESCRIPTION:L’événement doit malheureusement être annulé en raison des restrictions sanitaires. Merci de votre compréhension ! \nLe Club de patinage artistique de Saint-Fabien organise une collecte de bouteilles et canettes le 10 janvier de 9 h à 12h. Des membres du CA seront au Pavillon des loisirs pour ramasser vos dons : merci d’avance de votre participation !
URL:https://www.saint-fabien.ca/event-calendar/collecte-de-bouteilles-et-canettes-au-profit-du-cpa-saint-fabien/
LOCATION:pavillon des loisirs\, 32 8e Avenue Ouest\, Saint-Fabien\, Québec\, G0L2Z0\, Canada
CATEGORIES:Activités communautaires
ATTACH;FMTTYPE=image/jpeg:https://www.saint-fabien.ca/wp-content/uploads/2020/08/19933.jpg
GEO:48.2924537;-68.8624063
X-APPLE-STRUCTURED-LOCATION;VALUE=URI;X-ADDRESS=pavillon des loisirs 32 8e Avenue Ouest Saint-Fabien Québec G0L2Z0 Canada;X-APPLE-RADIUS=500;X-TITLE=32 8e Avenue Ouest:geo:-68.8624063,48.2924537
END:VEVENT
BEGIN:VEVENT
DTSTART;TZID=America/Toronto:20200321T190000
DTEND;TZID=America/Toronto:20200321T210000
DTSTAMP:20260420T204331
CREATED:20200311T172947Z
LAST-MODIFIED:20200316T133523Z
UID:10025004-1584817200-1584824400@www.saint-fabien.ca
SUMMARY:Annulé : Gala de patinage artistique
DESCRIPTION:
URL:https://www.saint-fabien.ca/event-calendar/gala-de-patinage-artistique-2/
LOCATION:pavillon des loisirs\, 32 8e Avenue Ouest\, Saint-Fabien\, Québec\, G0L2Z0\, Canada
CATEGORIES:Patinoire,Sports et loisirs
GEO:48.2924537;-68.8624063
X-APPLE-STRUCTURED-LOCATION;VALUE=URI;X-ADDRESS=pavillon des loisirs 32 8e Avenue Ouest Saint-Fabien Québec G0L2Z0 Canada;X-APPLE-RADIUS=500;X-TITLE=32 8e Avenue Ouest:geo:-68.8624063,48.2924537
END:VEVENT
BEGIN:VEVENT
DTSTART;TZID=America/Toronto:20190929T100000
DTEND;TZID=America/Toronto:20190929T120000
DTSTAMP:20260420T204331
CREATED:20190828T194353Z
LAST-MODIFIED:20190828T194415Z
UID:10024269-1569751200-1569758400@www.saint-fabien.ca
SUMMARY:Portes ouvertes du CPA
DESCRIPTION:Le Club de patinage artistique de Saint-Fabien t’invite à sa journée portes ouvertes le dimanche 29 septembre à 10h\, dans notre aréna ! Que ce soit pour t’initier au patin\, développer tes habi­letés et techniques\, travailler ton équilibre\, ap­prendre les bases du patin en vue d’une future carrière au hockey\, viens te joindre à nous! C’est l’occasion d’essayer et si tu aimes\, il te sera pos­sible de t’inscrire dans notre belle équipe de pa­tineurs.
URL:https://www.saint-fabien.ca/event-calendar/portes-ouvertes-du-cpa/
LOCATION:pavillon des loisirs\, 32 8e Avenue Ouest\, Saint-Fabien\, Québec\, G0L2Z0\, Canada
CATEGORIES:Patinoire,Sports et loisirs
GEO:48.2924537;-68.8624063
X-APPLE-STRUCTURED-LOCATION;VALUE=URI;X-ADDRESS=pavillon des loisirs 32 8e Avenue Ouest Saint-Fabien Québec G0L2Z0 Canada;X-APPLE-RADIUS=500;X-TITLE=32 8e Avenue Ouest:geo:-68.8624063,48.2924537
END:VEVENT
BEGIN:VEVENT
DTSTART;TZID=America/Toronto:20190330T190000
DTEND;TZID=America/Toronto:20190330T213000
DTSTAMP:20260420T204331
CREATED:20190327T135500Z
LAST-MODIFIED:20190327T135500Z
UID:10024082-1553972400-1553981400@www.saint-fabien.ca
SUMMARY:Gala du Club de patinage artistique !
DESCRIPTION:Toute la population est invitée à participer au Gala annuel du Club de patinage artistique qui se déroulera le 30 mars dès 19h sur la glace du Pavillon des loisirs. Une belle occasion de découvrir les talents d’ici !! \n0 à 4 ans : gratuit \n5 à 17 ans : 3$ \n18 ans et plus : 5$
URL:https://www.saint-fabien.ca/event-calendar/gala-du-club-de-patinage-artistique/
LOCATION:pavillon des loisirs\, 32 8e Avenue Ouest\, Saint-Fabien\, Québec\, G0L2Z0\, Canada
CATEGORIES:Sports et loisirs
GEO:48.2924537;-68.8624063
X-APPLE-STRUCTURED-LOCATION;VALUE=URI;X-ADDRESS=pavillon des loisirs 32 8e Avenue Ouest Saint-Fabien Québec G0L2Z0 Canada;X-APPLE-RADIUS=500;X-TITLE=32 8e Avenue Ouest:geo:-68.8624063,48.2924537
END:VEVENT
BEGIN:VEVENT
DTSTART;TZID=America/Toronto:20180930T100000
DTEND;TZID=America/Toronto:20180930T120000
DTSTAMP:20260420T204331
CREATED:20180925T182814Z
LAST-MODIFIED:20180925T182814Z
UID:10023441-1538301600-1538308800@www.saint-fabien.ca
SUMMARY:Journée portes ouvertes du CPA à l'aréna
DESCRIPTION:Le Club de patinage artistique de Saint-Fabien t’invite à sa journée portes ouvertes le dimanche 30 septembre à 10h\, dans notre aréna ! Que ce soit pour t’initier au patin\, développer tes habiletés et techniques\, travailler ton équilibre\, apprendre les bases du patin en vue d’une future carrière au hockey\, viens te joindre à nous ! C’est l’occasion d’essayer et si tu aimes\, il te sera possible de t’inscrire dans notre belle équipe de patineurs. Bienvenue ! \nImage : Freepik
URL:https://www.saint-fabien.ca/event-calendar/journee-portes-ouvertes-du-cpa-a-larena/
LOCATION:pavillon des loisirs\, 32 8e Avenue Ouest\, Saint-Fabien\, Québec\, G0L2Z0\, Canada
CATEGORIES:Sports et loisirs
ATTACH;FMTTYPE=image/png:https://www.saint-fabien.ca/wp-content/uploads/2018/09/Capture-d’écran-2017-04-13-à-14.21.36.png
GEO:48.2924537;-68.8624063
X-APPLE-STRUCTURED-LOCATION;VALUE=URI;X-ADDRESS=pavillon des loisirs 32 8e Avenue Ouest Saint-Fabien Québec G0L2Z0 Canada;X-APPLE-RADIUS=500;X-TITLE=32 8e Avenue Ouest:geo:-68.8624063,48.2924537
END:VEVENT
BEGIN:VEVENT
DTSTART;TZID=America/Toronto:20180324T190000
DTEND;TZID=America/Toronto:20180324T210000
DTSTAMP:20260420T204331
CREATED:20180228T175634Z
LAST-MODIFIED:20180322T131404Z
UID:10023318-1521918000-1521925200@www.saint-fabien.ca
SUMMARY:Gala de patinage artistique
DESCRIPTION:Le Club de patinage artistique de Saint-Fabien présentera son gala annuel le 24 mars prochain dès 19h sur la glace du Pavillon des loisirs. Voilà une belle occasion d’encourager nos jeunes patineuses et nos jeunes patineurs ! Des billets seront en vente à l’entrée du Pavillon et des peluches\, fleurs et bijoux seront aussi offerts à la vente afin d’amasser des sous pour le Club. Coût d’entrée : 5$ pour les 18 ans et plus ; 2$ pour les 5 à 17 ans.
URL:https://www.saint-fabien.ca/event-calendar/gala-de-patinage-artistique/
LOCATION:pavillon des loisirs\, 32 8e Avenue Ouest\, Saint-Fabien\, Québec\, G0L2Z0\, Canada
CATEGORIES:Sports et loisirs
GEO:48.2924537;-68.8624063
X-APPLE-STRUCTURED-LOCATION;VALUE=URI;X-ADDRESS=pavillon des loisirs 32 8e Avenue Ouest Saint-Fabien Québec G0L2Z0 Canada;X-APPLE-RADIUS=500;X-TITLE=32 8e Avenue Ouest:geo:-68.8624063,48.2924537
END:VEVENT
END:VCALENDAR