BEGIN:VCALENDAR
VERSION:2.0
PRODID:-//Municipalité de Saint-Fabien - ECPv6.15.20//NONSGML v1.0//EN
CALSCALE:GREGORIAN
METHOD:PUBLISH
X-ORIGINAL-URL:https://www.saint-fabien.ca
X-WR-CALDESC:Évènements pour Municipalité de Saint-Fabien
REFRESH-INTERVAL;VALUE=DURATION:PT1H
X-Robots-Tag:noindex
X-PUBLISHED-TTL:PT1H
BEGIN:VTIMEZONE
TZID:America/Toronto
BEGIN:DAYLIGHT
TZOFFSETFROM:-0500
TZOFFSETTO:-0400
TZNAME:EDT
DTSTART:20160313T070000
END:DAYLIGHT
BEGIN:STANDARD
TZOFFSETFROM:-0400
TZOFFSETTO:-0500
TZNAME:EST
DTSTART:20161106T060000
END:STANDARD
BEGIN:DAYLIGHT
TZOFFSETFROM:-0500
TZOFFSETTO:-0400
TZNAME:EDT
DTSTART:20170312T070000
END:DAYLIGHT
BEGIN:STANDARD
TZOFFSETFROM:-0400
TZOFFSETTO:-0500
TZNAME:EST
DTSTART:20171105T060000
END:STANDARD
BEGIN:DAYLIGHT
TZOFFSETFROM:-0500
TZOFFSETTO:-0400
TZNAME:EDT
DTSTART:20180311T070000
END:DAYLIGHT
BEGIN:STANDARD
TZOFFSETFROM:-0400
TZOFFSETTO:-0500
TZNAME:EST
DTSTART:20181104T060000
END:STANDARD
BEGIN:DAYLIGHT
TZOFFSETFROM:-0500
TZOFFSETTO:-0400
TZNAME:EDT
DTSTART:20190310T070000
END:DAYLIGHT
BEGIN:STANDARD
TZOFFSETFROM:-0400
TZOFFSETTO:-0500
TZNAME:EST
DTSTART:20191103T060000
END:STANDARD
BEGIN:DAYLIGHT
TZOFFSETFROM:-0500
TZOFFSETTO:-0400
TZNAME:EDT
DTSTART:20200308T070000
END:DAYLIGHT
BEGIN:STANDARD
TZOFFSETFROM:-0400
TZOFFSETTO:-0500
TZNAME:EST
DTSTART:20201101T060000
END:STANDARD
BEGIN:DAYLIGHT
TZOFFSETFROM:-0500
TZOFFSETTO:-0400
TZNAME:EDT
DTSTART:20210314T070000
END:DAYLIGHT
BEGIN:STANDARD
TZOFFSETFROM:-0400
TZOFFSETTO:-0500
TZNAME:EST
DTSTART:20211107T060000
END:STANDARD
BEGIN:DAYLIGHT
TZOFFSETFROM:-0500
TZOFFSETTO:-0400
TZNAME:EDT
DTSTART:20220313T070000
END:DAYLIGHT
BEGIN:STANDARD
TZOFFSETFROM:-0400
TZOFFSETTO:-0500
TZNAME:EST
DTSTART:20221106T060000
END:STANDARD
END:VTIMEZONE
BEGIN:VEVENT
DTSTART;TZID=America/Toronto:20211121T090000
DTEND;TZID=America/Toronto:20211121T143000
DTSTAMP:20260425T140226
CREATED:20211101T193525Z
LAST-MODIFIED:20211101T193525Z
UID:10025154-1637485200-1637505000@www.saint-fabien.ca
SUMMARY:Le Marché de Noël
DESCRIPTION:Le Club optimiste\, en collaboration avec les Loisirs St-Fabien et la Municipalité\, est très fier de présenter cette année son très populaire Marché de Noël. De 10h à 15h30 le 21 novembre prochain au Pavillon des loisirs\, il sera ainsi possible de visiter les kiosques d’une vingtaine d’artisans et de dénicher des cadeaux originaux pour toute la famille (dans le respects des normes sanitaires en vigueur\, bien entendu). \nMunissez-vous toutefois d’argent comptant\, puisque les artisans ne disposeront pas de terminaux de paiement. Deux paniers remplis de produits des exposants participants feront aussi l’objet d’un tirage parmi les visiteurs qui se seront procurés des coupons (1 pour 2$ / 4 pour 5$). Profitez de cette belle occasion pour découvrir ou redécouvrir les talents d’ici ! \nL’entrée des gratuite.
URL:https://www.saint-fabien.ca/event-calendar/le-marche-de-noel-2/
LOCATION:pavillon des loisirs\, 32 8e Avenue Ouest\, Saint-Fabien\, Québec\, G0L2Z0\, Canada
CATEGORIES:Activités communautaires
ATTACH;FMTTYPE=image/png:https://www.saint-fabien.ca/wp-content/uploads/2021/11/Capture-décran-le-2021-11-01-à-15.32.20.png
GEO:48.2924537;-68.8624063
X-APPLE-STRUCTURED-LOCATION;VALUE=URI;X-ADDRESS=pavillon des loisirs 32 8e Avenue Ouest Saint-Fabien Québec G0L2Z0 Canada;X-APPLE-RADIUS=500;X-TITLE=32 8e Avenue Ouest:geo:-68.8624063,48.2924537
END:VEVENT
BEGIN:VEVENT
DTSTART;VALUE=DATE:20201031
DTEND;VALUE=DATE:20201101
DTSTAMP:20260425T140226
CREATED:20200915T140007Z
LAST-MODIFIED:20200915T140007Z
UID:10025023-1604102400-1604188799@www.saint-fabien.ca
SUMMARY:Une autre façon de souligner l'Halloween !
DESCRIPTION:Les Loisirs St-Fabien\, en collaboration avec le Club optimiste\, proposent aux Fabiennois de fêter l’Halloween autrement cette année en lançant un grand concours de décoration extérieure !\nLes Fabiennois sont donc invités à user d’imagination et de créativité pour embellir leur maison et ainsi donner à Saint-Fabien un véritable air de fête. Rien de tel pour remonter le moral collectif !!\nUn comité de bénévoles circulera dans le village pour déterminer les gagnants. Vous ne résidez pas dans le village\, mais vous voulez participer ? Contactez simplement Martine Terriault au Pavillon des loisirs au 418 869-3170 ou par courriel à loisirss@cgocable.ca pour lui signiﬁer votre intérêt.\nDes prix en argent et en certiﬁcats-cadeaux des marchands locaux seront oﬀerts aux propriétaires des maisons présentant les décorations les plus réussies. Bonne chance !
URL:https://www.saint-fabien.ca/event-calendar/une-autre-facon-de-souligner-lhalloween/
LOCATION:municipalité de Saint-Fabien\, 20-A 7 Avenue\, Saint-Fabien\, Québec\, G0L2Z0\, Canada
CATEGORIES:Sports et loisirs
ATTACH;FMTTYPE=image/png:https://www.saint-fabien.ca/wp-content/uploads/2020/09/Capture-décran-le-2020-09-15-à-09.56.59.png
ORGANIZER;CN="Les Loisirs St-Fabien Inc.":MAILTO:loisirss@cgocable.ca
GEO:48.2935897;-68.8658383
X-APPLE-STRUCTURED-LOCATION;VALUE=URI;X-ADDRESS=municipalité de Saint-Fabien 20-A 7 Avenue Saint-Fabien Québec G0L2Z0 Canada;X-APPLE-RADIUS=500;X-TITLE=20-A 7 Avenue:geo:-68.8658383,48.2935897
END:VEVENT
BEGIN:VEVENT
DTSTART;TZID=America/Toronto:20191117T090000
DTEND;TZID=America/Toronto:20191117T143000
DTSTAMP:20260425T140226
CREATED:20191031T134049Z
LAST-MODIFIED:20191031T134351Z
UID:10024447-1573981200-1574001000@www.saint-fabien.ca
SUMMARY:Le Marché de Noël !
DESCRIPTION:Le Club optimiste\, en collaboration avec les Loisirs St-Fabien et la Municipalité\, présente pour une quatrième année consécutive son très populaire Marché de Noël. De 10h à 15h30 le 17 novembre au Pavillon des loisirs\, il sera ainsi possible de visiter les kiosques de plus de 30 artisans et de trouver des cadeaux originaux pour toute la famille. Munissez-vous toutefois d’argent comptant\, puisque les artisans ne disposeront pas de terminaux de paiement. Deux paniers remplis de produits des exposants participants feront aussi l’objet d’un tirage parmi les visiteurs qui se seront procuré des coupons (1 pour 2$ / 4 pour 5$). Proﬁtez de cette belle occasion pour découvrir ou redécouvrir les talents d’ici ! \nL’entrée est gratuite. \nImage : Freepik
URL:https://www.saint-fabien.ca/event-calendar/le-marche-de-noel-3/
LOCATION:pavillon des loisirs\, 32 8e Avenue Ouest\, Saint-Fabien\, Québec\, G0L2Z0\, Canada
CATEGORIES:Activités communautaires
ATTACH;FMTTYPE=image/png:https://www.saint-fabien.ca/wp-content/uploads/2019/10/Capture-d’écran-le-2019-10-31-à-09.35.23.png
GEO:48.2924537;-68.8624063
X-APPLE-STRUCTURED-LOCATION;VALUE=URI;X-ADDRESS=pavillon des loisirs 32 8e Avenue Ouest Saint-Fabien Québec G0L2Z0 Canada;X-APPLE-RADIUS=500;X-TITLE=32 8e Avenue Ouest:geo:-68.8624063,48.2924537
END:VEVENT
BEGIN:VEVENT
DTSTART;TZID=America/Toronto:20191026T180000
DTEND;TZID=America/Toronto:20191026T210000
DTSTAMP:20260425T140226
CREATED:20190828T194050Z
LAST-MODIFIED:20190828T194050Z
UID:10024267-1572112800-1572123600@www.saint-fabien.ca
SUMMARY:Souper d'Halloween !
DESCRIPTION:Les familles fabiennoises sont invitées à participer à un souper-spaghetti d’Halloween à prix populaire le samedi 26 octobre dès 18h au Pavillon des loisirs. Cette toute nouvelle activité est proposée en collaboration par le Club optimiste et Les Loisirs St-Fabien. Du karaoké et du patinage libre déguisé sont même prévus dès 19h. \nPlus de détails bientôt !
URL:https://www.saint-fabien.ca/event-calendar/souper-dhalloween/
LOCATION:pavillon des loisirs\, 32 8e Avenue Ouest\, Saint-Fabien\, Québec\, G0L2Z0\, Canada
CATEGORIES:Activités communautaires
GEO:48.2924537;-68.8624063
X-APPLE-STRUCTURED-LOCATION;VALUE=URI;X-ADDRESS=pavillon des loisirs 32 8e Avenue Ouest Saint-Fabien Québec G0L2Z0 Canada;X-APPLE-RADIUS=500;X-TITLE=32 8e Avenue Ouest:geo:-68.8624063,48.2924537
END:VEVENT
BEGIN:VEVENT
DTSTART;TZID=America/Toronto:20190707T114500
DTEND;TZID=America/Toronto:20190707T151500
DTSTAMP:20260425T140226
CREATED:20190619T151626Z
LAST-MODIFIED:20190619T151626Z
UID:10024223-1562499900-1562512500@www.saint-fabien.ca
SUMMARY:Journée de la famille au Domaine des érables
DESCRIPTION:Le Club Optimiste de Saint-Fabien\, en collaboration avec le Domaine des érables\, organise une Journée familiale le 7 juillet de 11h45 à 15h15. En cas de pluie\, l’activité sera reportée au 14 juillet. Des hot-dogs\, du blé d’Inde et des rafraîchissements seront servis. Des musiciens seront aussi présents. Amenez vos chaises et passez rendre visite à nos aînés !
URL:https://www.saint-fabien.ca/event-calendar/journee-de-la-famille-au-domaine-des-erables/
LOCATION:Domaine des érables\, 10\, 4e Avenue\, Saint-Fabien\, Québec\, G0L2Z0\, Canada
CATEGORIES:Activités communautaires
GEO:48.2923873;-68.8694497
X-APPLE-STRUCTURED-LOCATION;VALUE=URI;X-ADDRESS=Domaine des érables 10 4e Avenue Saint-Fabien Québec G0L2Z0 Canada;X-APPLE-RADIUS=500;X-TITLE=10\, 4e Avenue:geo:-68.8694497,48.2923873
END:VEVENT
BEGIN:VEVENT
DTSTART;TZID=America/Toronto:20190628T090000
DTEND;TZID=America/Toronto:20190628T131500
DTSTAMP:20260425T140226
CREATED:20190619T150533Z
LAST-MODIFIED:20190619T150533Z
UID:10024222-1561712400-1561727700@www.saint-fabien.ca
SUMMARY:Sécurité à vélo !
DESCRIPTION:Le vendredi 28 juin de 9h à 13h15\, le Club Optimiste de Saint-Fabien invite les familles à une activité de sensibilisation à la sécurité à vélo. L’activité commence au Pavillon des loisirs. Une randonnée jusqu’au bureau touristique permettra ensuite de mettre en pratique les règles de sécurité. Ça se termine en beauté avec un dîner hot-dog et un tirage de prix de présence.
URL:https://www.saint-fabien.ca/event-calendar/securite-a-velo-2/
LOCATION:pavillon des loisirs\, 32 8e Avenue Ouest\, Saint-Fabien\, Québec\, G0L2Z0\, Canada
CATEGORIES:Sports et loisirs
GEO:48.2924537;-68.8624063
X-APPLE-STRUCTURED-LOCATION;VALUE=URI;X-ADDRESS=pavillon des loisirs 32 8e Avenue Ouest Saint-Fabien Québec G0L2Z0 Canada;X-APPLE-RADIUS=500;X-TITLE=32 8e Avenue Ouest:geo:-68.8624063,48.2924537
END:VEVENT
BEGIN:VEVENT
DTSTART;TZID=America/Toronto:20190525T180000
DTEND;TZID=America/Toronto:20190525T210000
DTSTAMP:20260425T140226
CREATED:20190403T131937Z
LAST-MODIFIED:20190403T131937Z
UID:10024099-1558807200-1558818000@www.saint-fabien.ca
SUMMARY:Souper Patrick Coulombe
DESCRIPTION:Le souper Patrick Coulombe du Club optimiste revient encore cette année à Saint-Fabien ! L’activité se déroule le 25 mai dès 18h à la salle Desjardins du Pavillon des loisirs. Au menu\, une belle assiette de cipaille pour 25$. Pour informations ou réservation\, contactez le président du Club\, Mario Coulombe\, au 418 736-8210.
URL:https://www.saint-fabien.ca/event-calendar/souper-patrick-coulombe-2/
LOCATION:pavillon des loisirs\, 32 8e Avenue Ouest\, Saint-Fabien\, Québec\, G0L2Z0\, Canada
CATEGORIES:Activités communautaires
GEO:48.2924537;-68.8624063
X-APPLE-STRUCTURED-LOCATION;VALUE=URI;X-ADDRESS=pavillon des loisirs 32 8e Avenue Ouest Saint-Fabien Québec G0L2Z0 Canada;X-APPLE-RADIUS=500;X-TITLE=32 8e Avenue Ouest:geo:-68.8624063,48.2924537
END:VEVENT
BEGIN:VEVENT
DTSTART;TZID=America/Toronto:20181118T090000
DTEND;TZID=America/Toronto:20181118T150000
DTSTAMP:20260425T140226
CREATED:20181113T160652Z
LAST-MODIFIED:20181113T160652Z
UID:10023550-1542531600-1542553200@www.saint-fabien.ca
SUMMARY:Le marché de Noël !!
DESCRIPTION:Le Club optimiste\, soutenu par les Loisirs St-Fabien et la Municipalité\, présente pour une troisième année consécutive son très populaire marché de Noël. De 10h à 16h le 18 novembre au Pavillon des loisirs\, il sera ainsi possible de visiter les kiosques de plus de 30 artisans et de trouver des cadeaux originaux pour toute la famille. Munissez-vous toutefois d’argent comptant\, puisque les artisans ne disposeront pas de terminaux de paiement. Deux paniers constitués de produits des exposants participants feront aussi l’objet d’un tirage parmi les visiteurs qui se seront procuré des coupons (1 pour 2$ / 4 pour 5$). Profitez de cette belle occasion pour découvrir ou redécouvrir les talents d’ici ! \nL’entrée est gratuite.
URL:https://www.saint-fabien.ca/event-calendar/le-marche-de-noel/
LOCATION:pavillon des loisirs\, 32 8e Avenue Ouest\, Saint-Fabien\, Québec\, G0L2Z0\, Canada
CATEGORIES:Activités communautaires
ATTACH;FMTTYPE=image/png:https://www.saint-fabien.ca/wp-content/uploads/2018/11/Capture-d’écran-le-2018-10-22-à-14.01.24.png
GEO:48.2924537;-68.8624063
X-APPLE-STRUCTURED-LOCATION;VALUE=URI;X-ADDRESS=pavillon des loisirs 32 8e Avenue Ouest Saint-Fabien Québec G0L2Z0 Canada;X-APPLE-RADIUS=500;X-TITLE=32 8e Avenue Ouest:geo:-68.8624063,48.2924537
END:VEVENT
BEGIN:VEVENT
DTSTART;TZID=America/Toronto:20180609T093000
DTEND;TZID=America/Toronto:20180609T120000
DTSTAMP:20260425T140226
CREATED:20180606T183311Z
LAST-MODIFIED:20180606T183406Z
UID:10023380-1528536600-1528545600@www.saint-fabien.ca
SUMMARY:Sécurité à vélo
DESCRIPTION:Le 9 juin dès 9h30\, la cour de l’école l’Écho-des-Montagnes sera l’hôte d’une activité organisée par le Club optimiste et faisant la promotion de la sécurité à vélo. Il sera possible de faire buriner les vélos et un parcours sera même mis à disposition des jeunes. Un diner hot-dog est aussi prévu lors de cette journée.
URL:https://www.saint-fabien.ca/event-calendar/securite-a-velo/
LOCATION:École l’Écho-des-Montagnes\, 10\, 8e Avenue Lefrançois\, Saint-Fabien\, Québec\, G0L2Z0\, Canada
CATEGORIES:Sports et loisirs
GEO:48.2941077;-68.864179
X-APPLE-STRUCTURED-LOCATION;VALUE=URI;X-ADDRESS=École l’Écho-des-Montagnes 10 8e Avenue Lefrançois Saint-Fabien Québec G0L2Z0 Canada;X-APPLE-RADIUS=500;X-TITLE=10\, 8e Avenue Lefrançois:geo:-68.864179,48.2941077
END:VEVENT
BEGIN:VEVENT
DTSTART;TZID=America/Toronto:20180526T180000
DTEND;TZID=America/Toronto:20180526T210000
DTSTAMP:20260425T140226
CREATED:20180430T153906Z
LAST-MODIFIED:20180430T153906Z
UID:10023350-1527357600-1527368400@www.saint-fabien.ca
SUMMARY:Souper Patrick Coulombe
DESCRIPTION:Le souper-bénéfice Patrick Coulombe organisé par le Club optimiste aura lieu cette année le 26 mai dès 18h à la salle Desjardins du Pavillon des loisirs. Pour plus d’infos ou pour réserver vos billets\, contactez Lucie Bélanger au 418 869-2947. \n12 ans et plus : 30$ \n6 à 11 ans : 15$ \n5 ans et moins : gratuit
URL:https://www.saint-fabien.ca/event-calendar/souper-patrick-coulombe/
LOCATION:pavillon des loisirs\, 32 8e Avenue Ouest\, Saint-Fabien\, Québec\, G0L2Z0\, Canada
CATEGORIES:Activités communautaires
GEO:48.2924537;-68.8624063
X-APPLE-STRUCTURED-LOCATION;VALUE=URI;X-ADDRESS=pavillon des loisirs 32 8e Avenue Ouest Saint-Fabien Québec G0L2Z0 Canada;X-APPLE-RADIUS=500;X-TITLE=32 8e Avenue Ouest:geo:-68.8624063,48.2924537
END:VEVENT
BEGIN:VEVENT
DTSTART;TZID=America/Toronto:20171119T090000
DTEND;TZID=America/Toronto:20171119T150000
DTSTAMP:20260425T140226
CREATED:20171016T150030Z
LAST-MODIFIED:20171108T163629Z
UID:10023112-1511082000-1511103600@www.saint-fabien.ca
SUMMARY:Le marché de Noël !
DESCRIPTION:C’est avec beaucoup de joie que le Club optimiste et la municipalité de Saint-Fabien invitent toute la population fabiennoise à participer à la deuxième édition du marché de Noël\, qui se déroulera cette année le 19 novembre entre 10h et 16h au Pavillon des loisirs. C’est plus de 30 artisans locaux qui seront présents pour vous proposer des articles uniques\, parfaits pour vos cadeaux de Noël. Munissez-vous d’argent liquide toutefois\, puisqu’il sera impossible de payer par carte de débit ou de crédit.
URL:https://www.saint-fabien.ca/event-calendar/le-marche-de-noel-revient-cette-annee/
LOCATION:pavillon des loisirs\, 32 8e Avenue Ouest\, Saint-Fabien\, Québec\, G0L2Z0\, Canada
CATEGORIES:Activités communautaires
ATTACH;FMTTYPE=image/png:https://www.saint-fabien.ca/wp-content/uploads/2017/10/Capture-d’écran-2017-10-24-à-11.40.49.png
GEO:48.2924537;-68.8624063
X-APPLE-STRUCTURED-LOCATION;VALUE=URI;X-ADDRESS=pavillon des loisirs 32 8e Avenue Ouest Saint-Fabien Québec G0L2Z0 Canada;X-APPLE-RADIUS=500;X-TITLE=32 8e Avenue Ouest:geo:-68.8624063,48.2924537
END:VEVENT
END:VCALENDAR