BEGIN:VCALENDAR
VERSION:2.0
PRODID:-//Municipalité de Saint-Fabien - ECPv6.15.20//NONSGML v1.0//EN
CALSCALE:GREGORIAN
METHOD:PUBLISH
X-ORIGINAL-URL:https://www.saint-fabien.ca
X-WR-CALDESC:Évènements pour Municipalité de Saint-Fabien
REFRESH-INTERVAL;VALUE=DURATION:PT1H
X-Robots-Tag:noindex
X-PUBLISHED-TTL:PT1H
BEGIN:VTIMEZONE
TZID:America/Toronto
BEGIN:DAYLIGHT
TZOFFSETFROM:-0500
TZOFFSETTO:-0400
TZNAME:EDT
DTSTART:20160313T070000
END:DAYLIGHT
BEGIN:STANDARD
TZOFFSETFROM:-0400
TZOFFSETTO:-0500
TZNAME:EST
DTSTART:20161106T060000
END:STANDARD
BEGIN:DAYLIGHT
TZOFFSETFROM:-0500
TZOFFSETTO:-0400
TZNAME:EDT
DTSTART:20170312T070000
END:DAYLIGHT
BEGIN:STANDARD
TZOFFSETFROM:-0400
TZOFFSETTO:-0500
TZNAME:EST
DTSTART:20171105T060000
END:STANDARD
BEGIN:DAYLIGHT
TZOFFSETFROM:-0500
TZOFFSETTO:-0400
TZNAME:EDT
DTSTART:20180311T070000
END:DAYLIGHT
BEGIN:STANDARD
TZOFFSETFROM:-0400
TZOFFSETTO:-0500
TZNAME:EST
DTSTART:20181104T060000
END:STANDARD
BEGIN:DAYLIGHT
TZOFFSETFROM:-0500
TZOFFSETTO:-0400
TZNAME:EDT
DTSTART:20190310T070000
END:DAYLIGHT
BEGIN:STANDARD
TZOFFSETFROM:-0400
TZOFFSETTO:-0500
TZNAME:EST
DTSTART:20191103T060000
END:STANDARD
BEGIN:DAYLIGHT
TZOFFSETFROM:-0500
TZOFFSETTO:-0400
TZNAME:EDT
DTSTART:20200308T070000
END:DAYLIGHT
BEGIN:STANDARD
TZOFFSETFROM:-0400
TZOFFSETTO:-0500
TZNAME:EST
DTSTART:20201101T060000
END:STANDARD
BEGIN:DAYLIGHT
TZOFFSETFROM:-0500
TZOFFSETTO:-0400
TZNAME:EDT
DTSTART:20210314T070000
END:DAYLIGHT
BEGIN:STANDARD
TZOFFSETFROM:-0400
TZOFFSETTO:-0500
TZNAME:EST
DTSTART:20211107T060000
END:STANDARD
BEGIN:DAYLIGHT
TZOFFSETFROM:-0500
TZOFFSETTO:-0400
TZNAME:EDT
DTSTART:20220313T070000
END:DAYLIGHT
BEGIN:STANDARD
TZOFFSETFROM:-0400
TZOFFSETTO:-0500
TZNAME:EST
DTSTART:20221106T060000
END:STANDARD
BEGIN:DAYLIGHT
TZOFFSETFROM:-0500
TZOFFSETTO:-0400
TZNAME:EDT
DTSTART:20230312T070000
END:DAYLIGHT
BEGIN:STANDARD
TZOFFSETFROM:-0400
TZOFFSETTO:-0500
TZNAME:EST
DTSTART:20231105T060000
END:STANDARD
BEGIN:DAYLIGHT
TZOFFSETFROM:-0500
TZOFFSETTO:-0400
TZNAME:EDT
DTSTART:20240310T070000
END:DAYLIGHT
BEGIN:STANDARD
TZOFFSETFROM:-0400
TZOFFSETTO:-0500
TZNAME:EST
DTSTART:20241103T060000
END:STANDARD
BEGIN:DAYLIGHT
TZOFFSETFROM:-0500
TZOFFSETTO:-0400
TZNAME:EDT
DTSTART:20250309T070000
END:DAYLIGHT
BEGIN:STANDARD
TZOFFSETFROM:-0400
TZOFFSETTO:-0500
TZNAME:EST
DTSTART:20251102T060000
END:STANDARD
BEGIN:DAYLIGHT
TZOFFSETFROM:-0500
TZOFFSETTO:-0400
TZNAME:EDT
DTSTART:20260308T070000
END:DAYLIGHT
BEGIN:STANDARD
TZOFFSETFROM:-0400
TZOFFSETTO:-0500
TZNAME:EST
DTSTART:20261101T060000
END:STANDARD
END:VTIMEZONE
BEGIN:VEVENT
DTSTART;TZID=America/Toronto:20250426T090000
DTEND;TZID=America/Toronto:20250426T140000
DTSTAMP:20260425T000228
CREATED:20250407T153115Z
LAST-MODIFIED:20250407T153115Z
UID:10025924-1745658000-1745676000@www.saint-fabien.ca
SUMMARY:Grande collecte de bouteilles et canettes - École l'Écho-des-Montagnes
DESCRIPTION:Le 26 avril\, les élèves du secondaire de l’école L’Écho-des-Montagnes récupéreront vos bouteilles et canettes vides afin d’amasser des sous pour leur voyage éducatif : Cap sur la nation innue. \n– Pour St-Fabien\, déposez vos contenants entre 9h et 14h à l’ancien centre communautaire. \n– Pour St-Eugène\, déposez vos contenants chez Mélissa Lévesque (pour plus de détails\, téléphonez au 418 869-2033). Merci de votre générosité !
URL:https://www.saint-fabien.ca/event-calendar/grande-collecte-de-bouteilles-et-canettes-ecole-lecho-des-montagnes/
LOCATION:pavillon des loisirs\, 32 8e Avenue Ouest\, Saint-Fabien\, Québec\, G0L2Z0\, Canada
CATEGORIES:Activités communautaires
GEO:48.2924537;-68.8624063
X-APPLE-STRUCTURED-LOCATION;VALUE=URI;X-ADDRESS=pavillon des loisirs 32 8e Avenue Ouest Saint-Fabien Québec G0L2Z0 Canada;X-APPLE-RADIUS=500;X-TITLE=32 8e Avenue Ouest:geo:-68.8624063,48.2924537
END:VEVENT
BEGIN:VEVENT
DTSTART;VALUE=DATE:20230106
DTEND;VALUE=DATE:20230109
DTSTAMP:20260425T000228
CREATED:20221214T172724Z
LAST-MODIFIED:20221214T172724Z
UID:10025332-1673046000-1673218799@www.saint-fabien.ca
SUMMARY:Collecte de bouteilles et canettes au profit des jeunes du secondaire
DESCRIPTION:Les jeunes du secondaire participeront à un super voyage scolaire à bord du Bella Desgagnés. Gardez vos canettes et bouteilles pour les aider à le financer !
URL:https://www.saint-fabien.ca/event-calendar/collecte-de-bouteilles-et-canettes-au-profit-des-jeunes-du-secondaire/
LOCATION:municipalité de Saint-Fabien\, 20-A 7 Avenue\, Saint-Fabien\, Québec\, G0L2Z0\, Canada
CATEGORIES:Activités communautaires
GEO:48.2935897;-68.8658383
X-APPLE-STRUCTURED-LOCATION;VALUE=URI;X-ADDRESS=municipalité de Saint-Fabien 20-A 7 Avenue Saint-Fabien Québec G0L2Z0 Canada;X-APPLE-RADIUS=500;X-TITLE=20-A 7 Avenue:geo:-68.8658383,48.2935897
END:VEVENT
BEGIN:VEVENT
DTSTART;TZID=America/Toronto:20191030T183000
DTEND;TZID=America/Toronto:20191030T193000
DTSTAMP:20260425T000228
CREATED:20191028T125940Z
LAST-MODIFIED:20191028T130008Z
UID:10024418-1572460200-1572463800@www.saint-fabien.ca
SUMMARY:L'École hantée !!!
DESCRIPTION:Les élèves hanteront leur propre école le 30 octobre entre 18h30 et 19h30 ! Passez faire un tour : frissons garantis !!
URL:https://www.saint-fabien.ca/event-calendar/lecole-hantee/
LOCATION:École l’Écho-des-Montagnes\, 10\, 8e Avenue Lefrançois\, Saint-Fabien\, Québec\, G0L2Z0\, Canada
CATEGORIES:Culture
GEO:48.2941077;-68.864179
X-APPLE-STRUCTURED-LOCATION;VALUE=URI;X-ADDRESS=École l’Écho-des-Montagnes 10 8e Avenue Lefrançois Saint-Fabien Québec G0L2Z0 Canada;X-APPLE-RADIUS=500;X-TITLE=10\, 8e Avenue Lefrançois:geo:-68.864179,48.2941077
END:VEVENT
BEGIN:VEVENT
DTSTART;TZID=America/Toronto:20190920T160000
DTEND;TZID=America/Toronto:20190920T180000
DTSTAMP:20260425T000228
CREATED:20190916T152834Z
LAST-MODIFIED:20190916T152834Z
UID:10024282-1568995200-1569002400@www.saint-fabien.ca
SUMMARY:Inauguration de la cour d'école
DESCRIPTION:La toute nouvelle cour d’école sera inaugurée vendredi dès 16h ! \nEn collaboration avec le Club optimiste\, un souper hot-dog et blé d’Inde sera servi pour fêter cette belle réalisation. \n 
URL:https://www.saint-fabien.ca/event-calendar/inauguration-de-la-cour-decole/
LOCATION:École l’Écho-des-Montagnes\, 10\, 8e Avenue Lefrançois\, Saint-Fabien\, Québec\, G0L2Z0\, Canada
CATEGORIES:Activités communautaires
GEO:48.2941077;-68.864179
X-APPLE-STRUCTURED-LOCATION;VALUE=URI;X-ADDRESS=École l’Écho-des-Montagnes 10 8e Avenue Lefrançois Saint-Fabien Québec G0L2Z0 Canada;X-APPLE-RADIUS=500;X-TITLE=10\, 8e Avenue Lefrançois:geo:-68.864179,48.2941077
END:VEVENT
BEGIN:VEVENT
DTSTART;TZID=America/Toronto:20190511T100000
DTEND;TZID=America/Toronto:20190511T180000
DTSTAMP:20260425T000228
CREATED:20190508T140518Z
LAST-MODIFIED:20190508T140518Z
UID:10024190-1557568800-1557597600@www.saint-fabien.ca
SUMMARY:Friperie d'un jour au profit du voyage de fin d'année
DESCRIPTION:Le gymnase de l’école l’Écho-des-Montagnes se transformera bientôt en friperie d’un jour ! En effet\, les élèves du secondaire profitent de la période du ménage du printemps pour organiser leur dernière activité de financement. C’est donc le samedi 11 mai prochain\, de 10h à 18h\, au gymnase de l’école\, qu’aura lieu la Friperie au profit de leur voyage de fin d’année à bord du Bella Desgagnés. \nIl sera possible d’encourager les jeunes de 3 façons : \n\nEn louant une ou des tables pour vendre vos propres objets/vêtements (20$/table) ;\nEn faisant don à l’école de ce dont vous n’avez plus besoin* ;\nEn effectuant des achats à nos tables lors de la Friperie.\n\n*Les personnes intéressées à faire don d’objets ou de vêtements (propres et toujours en état de servir) pourront le faire auprès d’élèves du secondaire\, en se présentant directement à l’école du 9 au 11 mai ou en prenant entente avec Mme Valérie (valerie.coulombe@csphares.qc.ca ou au 418 869-2033) \nParticipez en grand nombre !
URL:https://www.saint-fabien.ca/event-calendar/friperie-dun-jour-au-profit-du-voyage-de-fin-dannee/
LOCATION:École l’Écho-des-Montagnes\, 10\, 8e Avenue Lefrançois\, Saint-Fabien\, Québec\, G0L2Z0\, Canada
CATEGORIES:Activités communautaires
ATTACH;FMTTYPE=image/png:https://www.saint-fabien.ca/wp-content/uploads/2019/05/Capture-d’écran-le-2019-05-08-à-10.04.04.png
GEO:48.2941077;-68.864179
X-APPLE-STRUCTURED-LOCATION;VALUE=URI;X-ADDRESS=École l’Écho-des-Montagnes 10 8e Avenue Lefrançois Saint-Fabien Québec G0L2Z0 Canada;X-APPLE-RADIUS=500;X-TITLE=10\, 8e Avenue Lefrançois:geo:-68.864179,48.2941077
END:VEVENT
BEGIN:VEVENT
DTSTART;TZID=America/Toronto:20190430T180000
DTEND;TZID=America/Toronto:20190430T210000
DTSTAMP:20260425T000228
CREATED:20190403T131016Z
LAST-MODIFIED:20190403T131016Z
UID:10024095-1556647200-1556658000@www.saint-fabien.ca
SUMMARY:Expo-voyage des jeunes du secondaire
DESCRIPTION:Le 30 avril prochain se tiendra l’Expo-Voyage des élèves du secondaire. Il s’agit d’une exposition au cours de laquelle les jeunes vous présenteront les résultats de leurs recherches sur des sujets liés au voyage de fin d’année qui les attend. \nEn effet\, du 17 au 20 juin 2019\, les deux groupes du secondaire partiront à l’aventure! Ils auront la chance de vivre une expérience hors du commun en embarquant sur le Bella Desgagnés pour naviguer à son bord de Rimouski à Natashquan en passant par Havre-St-Pierre et Anticosti. \nEn préparation à ce voyage\, les jeunes sont sensibilisés aux réalités de ces différents milieux et des communautés qui y vivent ainsi qu’à ce qui entoure les bateaux de marchandise. C’est dans cet objectif que les élèves devront se documenter et préparer une présentation afin de partager le fruit de leurs recherches avec la population. \nOn vous attend donc en grand nombre le 30 avril prochain\, de 18h à 19h30\, au gymnase de l’école! Bienvenue à tous! \nPour en savoir plus sur cette belle aventure\, suivez notre page Facebook : De l’école à la mer. \nPour un aperçu de ce qui nous attend lors de notre voyage : https://youtu.be/chk3aiv1LFs \nPour plus d’informations sur le Bella Desgagnés et le Relais Nordik : http://relaisnordik.com \nValérie Coulombe\, enseignante \nPhoto : site web du Relais Nordik
URL:https://www.saint-fabien.ca/event-calendar/expo-voyage-des-jeunes-du-secondaire/
LOCATION:École l’Écho-des-Montagnes\, 10\, 8e Avenue Lefrançois\, Saint-Fabien\, Québec\, G0L2Z0\, Canada
CATEGORIES:Culture
ATTACH;FMTTYPE=image/jpeg:https://www.saint-fabien.ca/wp-content/uploads/2019/04/02-Bella-Desgagnes.jpg
GEO:48.2941077;-68.864179
X-APPLE-STRUCTURED-LOCATION;VALUE=URI;X-ADDRESS=École l’Écho-des-Montagnes 10 8e Avenue Lefrançois Saint-Fabien Québec G0L2Z0 Canada;X-APPLE-RADIUS=500;X-TITLE=10\, 8e Avenue Lefrançois:geo:-68.864179,48.2941077
END:VEVENT
BEGIN:VEVENT
DTSTART;TZID=America/Toronto:20190207T180000
DTEND;TZID=America/Toronto:20190207T200000
DTSTAMP:20260425T000228
CREATED:20190207T145632Z
LAST-MODIFIED:20190207T145632Z
UID:10023899-1549562400-1549569600@www.saint-fabien.ca
SUMMARY:Finale locale de secondaire en spectacle
DESCRIPTION:La finale locale de secondaire en spectacle se déroule jeudi le 7 février dès 19h au Théâtre du Bic. Les billets sont en vente à l’entrée au coût de 5$. Une belle occasion de découvrir nos talents en herbe !
URL:https://www.saint-fabien.ca/event-calendar/finale-locale-de-secondaire-en-spectacle/
LOCATION:Théâtre du Bic\, 50 route du Golf-du-Bic\, Le Bic\, Québec\, G0L1B0\, Canada
CATEGORIES:Culture
ATTACH;FMTTYPE=image/png:https://www.saint-fabien.ca/wp-content/uploads/2019/02/Capture-d’écran-le-2019-02-07-à-08.56.22.png
GEO:48.3740074;-68.7065589
X-APPLE-STRUCTURED-LOCATION;VALUE=URI;X-ADDRESS=Théâtre du Bic 50 route du Golf-du-Bic Le Bic Québec G0L1B0 Canada;X-APPLE-RADIUS=500;X-TITLE=50 route du Golf-du-Bic:geo:-68.7065589,48.3740074
END:VEVENT
BEGIN:VEVENT
DTSTART;TZID=America/Toronto:20180525T190000
DTEND;TZID=America/Toronto:20180525T210000
DTSTAMP:20260425T000228
CREATED:20180507T144054Z
LAST-MODIFIED:20180508T151110Z
UID:10023361-1527274800-1527282000@www.saint-fabien.ca
SUMMARY:Spectacle Mowgli\, en plein coeur de Disney !
DESCRIPTION:La troupe de théâtre de madame Marylène\, enseignante de 2 et 3e année à l’école L’Écho-des-Montagnes\, présentera le 25 mai à 19h au Vieux Théâtre une comédie musicale intitulée Mowgli\, en plein coeur de Disney. Ce superbe spectacle met à contribution un grand nombre d’élèves de l’école et leur permet de toucher à toutes les facettes de l’organisation d’un spectacle ! Venez encourager ces jeunes qui ont travaillé très fort ! La contribution est volontaire. \n 
URL:https://www.saint-fabien.ca/event-calendar/spectacle-mowgli-en-plein-coeur-de-disney/
LOCATION:Vieux Théâtre\, 112\, 1re Rue\, Saint-Fabien\, Québec\, G0L2Z0\, Canada
CATEGORIES:Culture
ATTACH;FMTTYPE=image/png:https://www.saint-fabien.ca/wp-content/uploads/2018/05/Capture-d’écran-2018-05-07-à-14.05.26.png
GEO:48.2957724;-68.8668237
X-APPLE-STRUCTURED-LOCATION;VALUE=URI;X-ADDRESS=Vieux Théâtre 112 1re Rue Saint-Fabien Québec G0L2Z0 Canada;X-APPLE-RADIUS=500;X-TITLE=112\, 1re Rue:geo:-68.8668237,48.2957724
END:VEVENT
BEGIN:VEVENT
DTSTART;TZID=America/Toronto:20180428T130000
DTEND;TZID=America/Toronto:20180428T170000
DTSTAMP:20260425T000228
CREATED:20180411T150259Z
LAST-MODIFIED:20180411T150534Z
UID:10023338-1524920400-1524934800@www.saint-fabien.ca
SUMMARY:Après-midi clair de lune au profit du réaménagement de la cour d'école
DESCRIPTION:Samedi 28 avril 2018\nAprès-midi clair de lune au profit du réaménagement de la cour\nde l’école de l’Écho-des-Montagnes\n\nOÙ : Salon de quilles de St-Fabien\nHEURE : 13 h à 15 h (40 places disponibles)\n15 h à 17 h (40 places disponibles)\nCOÛT : 12\,50 $/pers. (billets en vente auprès des membres du comité)\n\nPour vous procurer un billet\, contactez :\nDiane Beaulieu :418-869-2730\nGuylaine Bélanger :418-869-3430\nVickie Bélanger :418-869-2918\nKarine Dumais :418-869-2248\nImage : Freepik
URL:https://www.saint-fabien.ca/event-calendar/apres-midi-clair-de-lune-au-profit-du-reamenagement-de-la-cour-decole/
LOCATION:Salon de quilles Saint-Fabien\, 50\, 1re Rue\, Saint-Fabien\, Québec\, G0L2Z0\, Canada
CATEGORIES:Activités communautaires
GEO:48.2917768;-68.8744472
X-APPLE-STRUCTURED-LOCATION;VALUE=URI;X-ADDRESS=Salon de quilles Saint-Fabien 50 1re Rue Saint-Fabien Québec G0L2Z0 Canada;X-APPLE-RADIUS=500;X-TITLE=50\, 1re Rue:geo:-68.8744472,48.2917768
END:VEVENT
BEGIN:VEVENT
DTSTART;TZID=America/Toronto:20171210T130000
DTEND;TZID=America/Toronto:20171210T150000
DTSTAMP:20260425T000228
CREATED:20171122T152841Z
LAST-MODIFIED:20171122T152841Z
UID:10023126-1512910800-1512918000@www.saint-fabien.ca
SUMMARY:Spectacle de Noël du Duo Do à Do
DESCRIPTION:Le Duo Do à Do invite toute la population à son spectacle de Noël à l’église de Saint-Fabien le 10 décembre à 14h. Tous les profits seront remis au projet de réaménagement de la cour d’école ! Les billets sont disponibles en prévente à 10$ et à la porte à 15$. Les 6 à 12 ans sont admis à un coût de 5$ et c’est gratuit pour les 5 ans et moins. Pour vous procurer des billets\, contactez Diane Beaulieu (418 869-2730)\, Guylaine Bélanger (418 869-3430)\, Vickie Bélanger (418 869-2918)\, Karine Dumais (418 869-2248) ou Jacques Fournier (418 869-2503). Bon spectacle !
URL:https://www.saint-fabien.ca/event-calendar/spectacle-de-noel-du-duo-do-a-do/
LOCATION:Église de Saint-Fabien\, 109\, 1re Rue\, Saint-Fabien\, Québec\, G0L2Z0\, Canada
CATEGORIES:Culture
ATTACH;FMTTYPE=image/png:https://www.saint-fabien.ca/wp-content/uploads/2017/10/Capture-d’écran-2017-10-16-à-10.36.39.png
GEO:48.2947238;-68.8669153
X-APPLE-STRUCTURED-LOCATION;VALUE=URI;X-ADDRESS=Église de Saint-Fabien 109 1re Rue Saint-Fabien Québec G0L2Z0 Canada;X-APPLE-RADIUS=500;X-TITLE=109\, 1re Rue:geo:-68.8669153,48.2947238
END:VEVENT
BEGIN:VEVENT
DTSTART;TZID=America/Toronto:20171104T200000
DTEND;TZID=America/Toronto:20171104T220000
DTSTAMP:20260425T000228
CREATED:20171002T141554Z
LAST-MODIFIED:20171002T143806Z
UID:10023106-1509825600-1509832800@www.saint-fabien.ca
SUMMARY:Spectacle du duo Do à do au profit de la cour d'école
DESCRIPTION:Le duo formé par Manon Lepage et Jacques Fournier organise un spectacle-bénéfice au profit de l’école l’Écho-des-Montagnes. Ce spectacle rétro-country permettra d’amasser des fonds pour le projet de réaménagement de la cour d’école\, qui en a bien besoin ! Vous pouvez vous procurer des billets en prévente au coût de 10$ auprès de Diane Beaulieu (418 869-2730)\, Guylaine Bélanger (418 869-3430)\, Vicky Bélanger (418 869-2918) et Karine Dumais (418 869-2248) ou à la porte le soir du spectacle au coût de 15$. \nImage : Freepik
URL:https://www.saint-fabien.ca/event-calendar/spectacle-du-duo-do-a-do-au-profit-de-la-cour-decole/
LOCATION:pavillon des loisirs\, 32 8e Avenue Ouest\, Saint-Fabien\, Québec\, G0L2Z0\, Canada
CATEGORIES:Activités communautaires
ATTACH;FMTTYPE=image/png:https://www.saint-fabien.ca/wp-content/uploads/2017/10/Capture-d’écran-2017-10-02-à-10.15.55.png
GEO:48.2924537;-68.8624063
X-APPLE-STRUCTURED-LOCATION;VALUE=URI;X-ADDRESS=pavillon des loisirs 32 8e Avenue Ouest Saint-Fabien Québec G0L2Z0 Canada;X-APPLE-RADIUS=500;X-TITLE=32 8e Avenue Ouest:geo:-68.8624063,48.2924537
END:VEVENT
BEGIN:VEVENT
DTSTART;TZID=America/Toronto:20171026T183000
DTEND;TZID=America/Toronto:20171026T200000
DTSTAMP:20260425T000228
CREATED:20171025T181227Z
LAST-MODIFIED:20171025T181335Z
UID:10023114-1509042600-1509048000@www.saint-fabien.ca
SUMMARY:L'école de l'épouvante !
DESCRIPTION:Durant une soirée\, l’école deviendra L’Écho-de-l’Épouvante ! Jeudi le 26 octobre de 18h30 à 20h\, venez vous faire peur et pourquoi pas\, faire un don pour la restauration de la cour d’école ! Les jeunes et les profs ont travaillé ensemble très fort pour décorer leur école et mener à terme ce beau projet. Passez faire un tour !
URL:https://www.saint-fabien.ca/event-calendar/lecole-de-lepouvante/
LOCATION:École l’Écho-des-Montagnes\, 10\, 8e Avenue Lefrançois\, Saint-Fabien\, Québec\, G0L2Z0\, Canada
CATEGORIES:Activités communautaires
ATTACH;FMTTYPE=image/png:https://www.saint-fabien.ca/wp-content/uploads/2017/10/Capture-d’écran-2017-10-03-à-14.32.13.png
GEO:48.2941077;-68.864179
X-APPLE-STRUCTURED-LOCATION;VALUE=URI;X-ADDRESS=École l’Écho-des-Montagnes 10 8e Avenue Lefrançois Saint-Fabien Québec G0L2Z0 Canada;X-APPLE-RADIUS=500;X-TITLE=10\, 8e Avenue Lefrançois:geo:-68.864179,48.2941077
END:VEVENT
BEGIN:VEVENT
DTSTART;TZID=America/Toronto:20171014T100000
DTEND;TZID=America/Toronto:20171014T120000
DTSTAMP:20260425T000228
CREATED:20171002T143652Z
LAST-MODIFIED:20171002T143652Z
UID:10023107-1507975200-1507982400@www.saint-fabien.ca
SUMMARY:Une collecte de bouteilles pour réaménager la cour d'école
DESCRIPTION:Le samedi 14 octobre entre 10h et 12h\, se tiendra une collecte de bouteilles et de canettes vides au profit de l’école l’Écho-des-Montagnes de Saint-Fabien et du réaménagement de la cour d’école\, qui en a bien besoin ! Si vous êtes absents\, vous pouvez laisser vos bouteilles et/ou canettes devant votre porte. Si vous habitez à l’extérieur du village\, il est aussi possible de déposer celles-ci au gymnase de l’école. Participez en grand nombre à cette collecte : nos jeunes seront heureux ! \nImage : Freepik
URL:https://www.saint-fabien.ca/event-calendar/une-collecte-de-bouteilles-pour-reamenager-la-cour-decole/
LOCATION:municipalité de Saint-Fabien\, 20-A 7 Avenue\, Saint-Fabien\, Québec\, G0L2Z0\, Canada
CATEGORIES:Activités communautaires
ATTACH;FMTTYPE=image/png:https://www.saint-fabien.ca/wp-content/uploads/2017/10/Capture-d’écran-2017-10-02-à-10.35.22.png
GEO:48.2935897;-68.8658383
X-APPLE-STRUCTURED-LOCATION;VALUE=URI;X-ADDRESS=municipalité de Saint-Fabien 20-A 7 Avenue Saint-Fabien Québec G0L2Z0 Canada;X-APPLE-RADIUS=500;X-TITLE=20-A 7 Avenue:geo:-68.8658383,48.2935897
END:VEVENT
END:VCALENDAR