BEGIN:VCALENDAR
VERSION:2.0
PRODID:-//Municipalité de Saint-Fabien - ECPv6.15.20//NONSGML v1.0//EN
CALSCALE:GREGORIAN
METHOD:PUBLISH
X-ORIGINAL-URL:https://www.saint-fabien.ca
X-WR-CALDESC:Évènements pour Municipalité de Saint-Fabien
REFRESH-INTERVAL;VALUE=DURATION:PT1H
X-Robots-Tag:noindex
X-PUBLISHED-TTL:PT1H
BEGIN:VTIMEZONE
TZID:America/Toronto
BEGIN:DAYLIGHT
TZOFFSETFROM:-0500
TZOFFSETTO:-0400
TZNAME:EDT
DTSTART:20170312T070000
END:DAYLIGHT
BEGIN:STANDARD
TZOFFSETFROM:-0400
TZOFFSETTO:-0500
TZNAME:EST
DTSTART:20171105T060000
END:STANDARD
BEGIN:DAYLIGHT
TZOFFSETFROM:-0500
TZOFFSETTO:-0400
TZNAME:EDT
DTSTART:20180311T070000
END:DAYLIGHT
BEGIN:STANDARD
TZOFFSETFROM:-0400
TZOFFSETTO:-0500
TZNAME:EST
DTSTART:20181104T060000
END:STANDARD
BEGIN:DAYLIGHT
TZOFFSETFROM:-0500
TZOFFSETTO:-0400
TZNAME:EDT
DTSTART:20190310T070000
END:DAYLIGHT
BEGIN:STANDARD
TZOFFSETFROM:-0400
TZOFFSETTO:-0500
TZNAME:EST
DTSTART:20191103T060000
END:STANDARD
BEGIN:DAYLIGHT
TZOFFSETFROM:-0500
TZOFFSETTO:-0400
TZNAME:EDT
DTSTART:20200308T070000
END:DAYLIGHT
BEGIN:STANDARD
TZOFFSETFROM:-0400
TZOFFSETTO:-0500
TZNAME:EST
DTSTART:20201101T060000
END:STANDARD
END:VTIMEZONE
BEGIN:VEVENT
DTSTART;TZID=America/Toronto:20190622T100000
DTEND;TZID=America/Toronto:20190622T150000
DTSTAMP:20260422T202931
CREATED:20190611T131223Z
LAST-MODIFIED:20220908T135948Z
UID:10024220-1561197600-1561215600@www.saint-fabien.ca
SUMMARY:Rendez-vous festifs du Bic
DESCRIPTION:Passez y rencontrer des artisans et producteurs locaux !
URL:https://www.saint-fabien.ca/event-calendar/rendez-vous-festifs-du-bic-2/
LOCATION:Place de l’Église Saint-Cécile du Bic
CATEGORIES:Activités communautaires
ATTACH;FMTTYPE=image/png:https://www.saint-fabien.ca/wp-content/uploads/2018/05/Capture-d’écran-2018-05-16-à-09.39.50.png
END:VEVENT
BEGIN:VEVENT
DTSTART;TZID=America/Toronto:20180519T120000
DTEND;TZID=America/Toronto:20180519T160000
DTSTAMP:20260422T202931
CREATED:20180509T191900Z
LAST-MODIFIED:20220908T123118Z
UID:10023364-1526731200-1526745600@www.saint-fabien.ca
SUMMARY:Rendez-vous festifs du Bic
DESCRIPTION:La société des Loisirs du Bic lance pour la première année Les Rendez-vous festifs au Marché du Bic. Des artisans et artistes visuels ainsi que des producteurs horticoles et agroalimentaires seront sur place pour faire découvrir leurs produits aux citoyens des alentours et de toute la MRC.
URL:https://www.saint-fabien.ca/event-calendar/rendez-vous-festifs-du-bic/
LOCATION:Place de l’Église Saint-Cécile du Bic
CATEGORIES:Activités communautaires
ATTACH;FMTTYPE=image/png:https://www.saint-fabien.ca/wp-content/uploads/2018/05/Capture-d’écran-2018-05-09-à-14.58.04.png
END:VEVENT
END:VCALENDAR