BEGIN:VCALENDAR
VERSION:2.0
PRODID:-//Municipalité de Saint-Fabien - ECPv6.15.20//NONSGML v1.0//EN
CALSCALE:GREGORIAN
METHOD:PUBLISH
X-WR-CALNAME:Municipalité de Saint-Fabien
X-ORIGINAL-URL:https://www.saint-fabien.ca
X-WR-CALDESC:Évènements pour Municipalité de Saint-Fabien
REFRESH-INTERVAL;VALUE=DURATION:PT1H
X-Robots-Tag:noindex
X-PUBLISHED-TTL:PT1H
BEGIN:VTIMEZONE
TZID:America/Toronto
BEGIN:DAYLIGHT
TZOFFSETFROM:-0500
TZOFFSETTO:-0400
TZNAME:EDT
DTSTART:20220313T070000
END:DAYLIGHT
BEGIN:STANDARD
TZOFFSETFROM:-0400
TZOFFSETTO:-0500
TZNAME:EST
DTSTART:20221106T060000
END:STANDARD
BEGIN:DAYLIGHT
TZOFFSETFROM:-0500
TZOFFSETTO:-0400
TZNAME:EDT
DTSTART:20230312T070000
END:DAYLIGHT
BEGIN:STANDARD
TZOFFSETFROM:-0400
TZOFFSETTO:-0500
TZNAME:EST
DTSTART:20231105T060000
END:STANDARD
BEGIN:DAYLIGHT
TZOFFSETFROM:-0500
TZOFFSETTO:-0400
TZNAME:EDT
DTSTART:20240310T070000
END:DAYLIGHT
BEGIN:STANDARD
TZOFFSETFROM:-0400
TZOFFSETTO:-0500
TZNAME:EST
DTSTART:20241103T060000
END:STANDARD
END:VTIMEZONE
BEGIN:VEVENT
DTSTART;TZID=America/Toronto:20230730T200000
DTEND;TZID=America/Toronto:20230730T220000
DTSTAMP:20260419T123407
CREATED:20230703T191857Z
LAST-MODIFIED:20230703T191857Z
UID:10025476-1690747200-1690754400@www.saint-fabien.ca
SUMMARY:Vieux Théâtre - Café Resto chez Juju - Troupe du Roy Berthe
DESCRIPTION:Après une pause de trois ans en raison de la pandémie\, la Troupe du Roy Berthe de Saint-Fabien reprend du service cet été en présentant la pièce « Café-Resto Chez Juju »\, au Vieux Théâtre de Saint-Fabien\, en juillet 2023. \nLa Troupe du Roy Berthe a débuté ses activités en 1999. Depuis\, elle présente une nouvelle pièce à chaque année. Elle se spécialise dans les comédies qui sont bien appréciées en théâtre d’été. \nLe Vieux Théâtre prête ses murs et sa scène à la Troupe du Roy Berthe depuis toujours. Ce théâtre issu du milieu local fabiennois est le fruit du travail de gens d’ici qui participent  à la vie théâtrale de la communauté. \n\n« CAFÉ-RESTO CHEZ JUJU »\n6-7-8-9 juillet 2023\n27-28-29-30 juillet 2023\n\n Une pièce écrite et mise en scène par Noëlline Thérriault\nAvec Mario Coulombe\, Caroline Gagnon\, Carmelle Jean\, Martin Lemarbre\, Marie-Pier Mimeault et Noëlline Thérriault\n \nC’est dans ce petit Café-Resto que Juliette et Roméo\, propriétaires\, ont pris la décision de fermer le Resto pour la soirée\, histoire de pouvoir fêter les 60 ans du frère à Juliette. Au début de la soirée\, arrive les deux premiers invités…personnages festifs et joviaux dont la gaieté est souvent communicative. Mais une question posée à Roméo durant la soirée l‘amènera à réfléchir sur l’avenir du Café-Resto.\nRoméo décide de mettre au courant sa Juliette de la décision qu’il a prise pour la destinée du Resto. Et c’est à travers des clients plus colorés les uns que les autres que Roméo et Juliette devront faire face pour assurer la survie de leur Café-Resto. Pas toujours facile!!  Au final\, quelle sera la décision de Roméo? \nUn peu d’histoire: Berthe Roy était une directrice d’école qui faisait beaucoup de théâtre avec les élèves; de là l’inspiration du nom de la troupe. Le Vieux Théâtre et La Troupe du Roy Berthe ont animé ensemble la salle du Vieux Théâtre à la fin des années 1990 afin de la maintenir en opération. Aujourd’hui\, ce sont deux entités distinctes : l’une en diffusion pluridisciplinaire des arts vivants\, l’autre en théâtre d’été rafraîchissant. Chacun à leur façon\, ils honorent le passé culturel et festif de Saint-Fabien et poursuivent leur volonté d’animer le coeur du village en saison estivale. \n\nLes places sont limitées.\nVous devez choisir votre date (6-7-8-9 juillet et 27-28-29-30 juillet) et RÉSERVER AU 418-869-2599. \nIl pourrait ne pas y avoir de vente au guichet\, l’année s’annonce fortement achalandée. Faites vite !\n\nEn pré-vente à 20 $ jusqu’au 5 juillet 2023.\nTarif régulier à 25$.\n\nhttps://troupeduroyberthe.com
URL:https://www.saint-fabien.ca/event-calendar/vieux-theatre-cafe-resto-chez-juju-troupe-du-roy-berthe/2023-07-30/
LOCATION:Vieux Théâtre\, 112\, 1re Rue\, Saint-Fabien\, Québec\, G0L2Z0\, Canada
CATEGORIES:Culture
GEO:48.2957724;-68.8668237
X-APPLE-STRUCTURED-LOCATION;VALUE=URI;X-ADDRESS=Vieux Théâtre 112 1re Rue Saint-Fabien Québec G0L2Z0 Canada;X-APPLE-RADIUS=500;X-TITLE=112\, 1re Rue:geo:-68.8668237,48.2957724
END:VEVENT
BEGIN:VEVENT
DTSTART;TZID=America/Toronto:20230729T200000
DTEND;TZID=America/Toronto:20230729T220000
DTSTAMP:20260419T123407
CREATED:20230703T191857Z
LAST-MODIFIED:20230703T191857Z
UID:10025475-1690660800-1690668000@www.saint-fabien.ca
SUMMARY:Vieux Théâtre - Café Resto chez Juju - Troupe du Roy Berthe
DESCRIPTION:Après une pause de trois ans en raison de la pandémie\, la Troupe du Roy Berthe de Saint-Fabien reprend du service cet été en présentant la pièce « Café-Resto Chez Juju »\, au Vieux Théâtre de Saint-Fabien\, en juillet 2023. \nLa Troupe du Roy Berthe a débuté ses activités en 1999. Depuis\, elle présente une nouvelle pièce à chaque année. Elle se spécialise dans les comédies qui sont bien appréciées en théâtre d’été. \nLe Vieux Théâtre prête ses murs et sa scène à la Troupe du Roy Berthe depuis toujours. Ce théâtre issu du milieu local fabiennois est le fruit du travail de gens d’ici qui participent  à la vie théâtrale de la communauté. \n\n« CAFÉ-RESTO CHEZ JUJU »\n6-7-8-9 juillet 2023\n27-28-29-30 juillet 2023\n\n Une pièce écrite et mise en scène par Noëlline Thérriault\nAvec Mario Coulombe\, Caroline Gagnon\, Carmelle Jean\, Martin Lemarbre\, Marie-Pier Mimeault et Noëlline Thérriault\n \nC’est dans ce petit Café-Resto que Juliette et Roméo\, propriétaires\, ont pris la décision de fermer le Resto pour la soirée\, histoire de pouvoir fêter les 60 ans du frère à Juliette. Au début de la soirée\, arrive les deux premiers invités…personnages festifs et joviaux dont la gaieté est souvent communicative. Mais une question posée à Roméo durant la soirée l‘amènera à réfléchir sur l’avenir du Café-Resto.\nRoméo décide de mettre au courant sa Juliette de la décision qu’il a prise pour la destinée du Resto. Et c’est à travers des clients plus colorés les uns que les autres que Roméo et Juliette devront faire face pour assurer la survie de leur Café-Resto. Pas toujours facile!!  Au final\, quelle sera la décision de Roméo? \nUn peu d’histoire: Berthe Roy était une directrice d’école qui faisait beaucoup de théâtre avec les élèves; de là l’inspiration du nom de la troupe. Le Vieux Théâtre et La Troupe du Roy Berthe ont animé ensemble la salle du Vieux Théâtre à la fin des années 1990 afin de la maintenir en opération. Aujourd’hui\, ce sont deux entités distinctes : l’une en diffusion pluridisciplinaire des arts vivants\, l’autre en théâtre d’été rafraîchissant. Chacun à leur façon\, ils honorent le passé culturel et festif de Saint-Fabien et poursuivent leur volonté d’animer le coeur du village en saison estivale. \n\nLes places sont limitées.\nVous devez choisir votre date (6-7-8-9 juillet et 27-28-29-30 juillet) et RÉSERVER AU 418-869-2599. \nIl pourrait ne pas y avoir de vente au guichet\, l’année s’annonce fortement achalandée. Faites vite !\n\nEn pré-vente à 20 $ jusqu’au 5 juillet 2023.\nTarif régulier à 25$.\n\nhttps://troupeduroyberthe.com
URL:https://www.saint-fabien.ca/event-calendar/vieux-theatre-cafe-resto-chez-juju-troupe-du-roy-berthe/2023-07-29/
LOCATION:Vieux Théâtre\, 112\, 1re Rue\, Saint-Fabien\, Québec\, G0L2Z0\, Canada
CATEGORIES:Culture
GEO:48.2957724;-68.8668237
X-APPLE-STRUCTURED-LOCATION;VALUE=URI;X-ADDRESS=Vieux Théâtre 112 1re Rue Saint-Fabien Québec G0L2Z0 Canada;X-APPLE-RADIUS=500;X-TITLE=112\, 1re Rue:geo:-68.8668237,48.2957724
END:VEVENT
BEGIN:VEVENT
DTSTART;TZID=America/Toronto:20230728T200000
DTEND;TZID=America/Toronto:20230728T220000
DTSTAMP:20260419T123407
CREATED:20230703T191857Z
LAST-MODIFIED:20230703T191857Z
UID:10025474-1690574400-1690581600@www.saint-fabien.ca
SUMMARY:Vieux Théâtre - Café Resto chez Juju - Troupe du Roy Berthe
DESCRIPTION:Après une pause de trois ans en raison de la pandémie\, la Troupe du Roy Berthe de Saint-Fabien reprend du service cet été en présentant la pièce « Café-Resto Chez Juju »\, au Vieux Théâtre de Saint-Fabien\, en juillet 2023. \nLa Troupe du Roy Berthe a débuté ses activités en 1999. Depuis\, elle présente une nouvelle pièce à chaque année. Elle se spécialise dans les comédies qui sont bien appréciées en théâtre d’été. \nLe Vieux Théâtre prête ses murs et sa scène à la Troupe du Roy Berthe depuis toujours. Ce théâtre issu du milieu local fabiennois est le fruit du travail de gens d’ici qui participent  à la vie théâtrale de la communauté. \n\n« CAFÉ-RESTO CHEZ JUJU »\n6-7-8-9 juillet 2023\n27-28-29-30 juillet 2023\n\n Une pièce écrite et mise en scène par Noëlline Thérriault\nAvec Mario Coulombe\, Caroline Gagnon\, Carmelle Jean\, Martin Lemarbre\, Marie-Pier Mimeault et Noëlline Thérriault\n \nC’est dans ce petit Café-Resto que Juliette et Roméo\, propriétaires\, ont pris la décision de fermer le Resto pour la soirée\, histoire de pouvoir fêter les 60 ans du frère à Juliette. Au début de la soirée\, arrive les deux premiers invités…personnages festifs et joviaux dont la gaieté est souvent communicative. Mais une question posée à Roméo durant la soirée l‘amènera à réfléchir sur l’avenir du Café-Resto.\nRoméo décide de mettre au courant sa Juliette de la décision qu’il a prise pour la destinée du Resto. Et c’est à travers des clients plus colorés les uns que les autres que Roméo et Juliette devront faire face pour assurer la survie de leur Café-Resto. Pas toujours facile!!  Au final\, quelle sera la décision de Roméo? \nUn peu d’histoire: Berthe Roy était une directrice d’école qui faisait beaucoup de théâtre avec les élèves; de là l’inspiration du nom de la troupe. Le Vieux Théâtre et La Troupe du Roy Berthe ont animé ensemble la salle du Vieux Théâtre à la fin des années 1990 afin de la maintenir en opération. Aujourd’hui\, ce sont deux entités distinctes : l’une en diffusion pluridisciplinaire des arts vivants\, l’autre en théâtre d’été rafraîchissant. Chacun à leur façon\, ils honorent le passé culturel et festif de Saint-Fabien et poursuivent leur volonté d’animer le coeur du village en saison estivale. \n\nLes places sont limitées.\nVous devez choisir votre date (6-7-8-9 juillet et 27-28-29-30 juillet) et RÉSERVER AU 418-869-2599. \nIl pourrait ne pas y avoir de vente au guichet\, l’année s’annonce fortement achalandée. Faites vite !\n\nEn pré-vente à 20 $ jusqu’au 5 juillet 2023.\nTarif régulier à 25$.\n\nhttps://troupeduroyberthe.com
URL:https://www.saint-fabien.ca/event-calendar/vieux-theatre-cafe-resto-chez-juju-troupe-du-roy-berthe/2023-07-28/
LOCATION:Vieux Théâtre\, 112\, 1re Rue\, Saint-Fabien\, Québec\, G0L2Z0\, Canada
CATEGORIES:Culture
GEO:48.2957724;-68.8668237
X-APPLE-STRUCTURED-LOCATION;VALUE=URI;X-ADDRESS=Vieux Théâtre 112 1re Rue Saint-Fabien Québec G0L2Z0 Canada;X-APPLE-RADIUS=500;X-TITLE=112\, 1re Rue:geo:-68.8668237,48.2957724
END:VEVENT
BEGIN:VEVENT
DTSTART;TZID=America/Toronto:20230727T200000
DTEND;TZID=America/Toronto:20230727T220000
DTSTAMP:20260419T123407
CREATED:20230703T191857Z
LAST-MODIFIED:20230703T191857Z
UID:10025473-1690488000-1690495200@www.saint-fabien.ca
SUMMARY:Vieux Théâtre - Café Resto chez Juju - Troupe du Roy Berthe
DESCRIPTION:Après une pause de trois ans en raison de la pandémie\, la Troupe du Roy Berthe de Saint-Fabien reprend du service cet été en présentant la pièce « Café-Resto Chez Juju »\, au Vieux Théâtre de Saint-Fabien\, en juillet 2023. \nLa Troupe du Roy Berthe a débuté ses activités en 1999. Depuis\, elle présente une nouvelle pièce à chaque année. Elle se spécialise dans les comédies qui sont bien appréciées en théâtre d’été. \nLe Vieux Théâtre prête ses murs et sa scène à la Troupe du Roy Berthe depuis toujours. Ce théâtre issu du milieu local fabiennois est le fruit du travail de gens d’ici qui participent  à la vie théâtrale de la communauté. \n\n« CAFÉ-RESTO CHEZ JUJU »\n6-7-8-9 juillet 2023\n27-28-29-30 juillet 2023\n\n Une pièce écrite et mise en scène par Noëlline Thérriault\nAvec Mario Coulombe\, Caroline Gagnon\, Carmelle Jean\, Martin Lemarbre\, Marie-Pier Mimeault et Noëlline Thérriault\n \nC’est dans ce petit Café-Resto que Juliette et Roméo\, propriétaires\, ont pris la décision de fermer le Resto pour la soirée\, histoire de pouvoir fêter les 60 ans du frère à Juliette. Au début de la soirée\, arrive les deux premiers invités…personnages festifs et joviaux dont la gaieté est souvent communicative. Mais une question posée à Roméo durant la soirée l‘amènera à réfléchir sur l’avenir du Café-Resto.\nRoméo décide de mettre au courant sa Juliette de la décision qu’il a prise pour la destinée du Resto. Et c’est à travers des clients plus colorés les uns que les autres que Roméo et Juliette devront faire face pour assurer la survie de leur Café-Resto. Pas toujours facile!!  Au final\, quelle sera la décision de Roméo? \nUn peu d’histoire: Berthe Roy était une directrice d’école qui faisait beaucoup de théâtre avec les élèves; de là l’inspiration du nom de la troupe. Le Vieux Théâtre et La Troupe du Roy Berthe ont animé ensemble la salle du Vieux Théâtre à la fin des années 1990 afin de la maintenir en opération. Aujourd’hui\, ce sont deux entités distinctes : l’une en diffusion pluridisciplinaire des arts vivants\, l’autre en théâtre d’été rafraîchissant. Chacun à leur façon\, ils honorent le passé culturel et festif de Saint-Fabien et poursuivent leur volonté d’animer le coeur du village en saison estivale. \n\nLes places sont limitées.\nVous devez choisir votre date (6-7-8-9 juillet et 27-28-29-30 juillet) et RÉSERVER AU 418-869-2599. \nIl pourrait ne pas y avoir de vente au guichet\, l’année s’annonce fortement achalandée. Faites vite !\n\nEn pré-vente à 20 $ jusqu’au 5 juillet 2023.\nTarif régulier à 25$.\n\nhttps://troupeduroyberthe.com
URL:https://www.saint-fabien.ca/event-calendar/vieux-theatre-cafe-resto-chez-juju-troupe-du-roy-berthe/2023-07-27/
LOCATION:Vieux Théâtre\, 112\, 1re Rue\, Saint-Fabien\, Québec\, G0L2Z0\, Canada
CATEGORIES:Culture
GEO:48.2957724;-68.8668237
X-APPLE-STRUCTURED-LOCATION;VALUE=URI;X-ADDRESS=Vieux Théâtre 112 1re Rue Saint-Fabien Québec G0L2Z0 Canada;X-APPLE-RADIUS=500;X-TITLE=112\, 1re Rue:geo:-68.8668237,48.2957724
END:VEVENT
BEGIN:VEVENT
DTSTART;TZID=America/Toronto:20230709T200000
DTEND;TZID=America/Toronto:20230709T220000
DTSTAMP:20260419T123407
CREATED:20230703T191857Z
LAST-MODIFIED:20230703T191857Z
UID:10025472-1688932800-1688940000@www.saint-fabien.ca
SUMMARY:Vieux Théâtre - Café Resto chez Juju - Troupe du Roy Berthe
DESCRIPTION:Après une pause de trois ans en raison de la pandémie\, la Troupe du Roy Berthe de Saint-Fabien reprend du service cet été en présentant la pièce « Café-Resto Chez Juju »\, au Vieux Théâtre de Saint-Fabien\, en juillet 2023. \nLa Troupe du Roy Berthe a débuté ses activités en 1999. Depuis\, elle présente une nouvelle pièce à chaque année. Elle se spécialise dans les comédies qui sont bien appréciées en théâtre d’été. \nLe Vieux Théâtre prête ses murs et sa scène à la Troupe du Roy Berthe depuis toujours. Ce théâtre issu du milieu local fabiennois est le fruit du travail de gens d’ici qui participent  à la vie théâtrale de la communauté. \n\n« CAFÉ-RESTO CHEZ JUJU »\n6-7-8-9 juillet 2023\n27-28-29-30 juillet 2023\n\n Une pièce écrite et mise en scène par Noëlline Thérriault\nAvec Mario Coulombe\, Caroline Gagnon\, Carmelle Jean\, Martin Lemarbre\, Marie-Pier Mimeault et Noëlline Thérriault\n \nC’est dans ce petit Café-Resto que Juliette et Roméo\, propriétaires\, ont pris la décision de fermer le Resto pour la soirée\, histoire de pouvoir fêter les 60 ans du frère à Juliette. Au début de la soirée\, arrive les deux premiers invités…personnages festifs et joviaux dont la gaieté est souvent communicative. Mais une question posée à Roméo durant la soirée l‘amènera à réfléchir sur l’avenir du Café-Resto.\nRoméo décide de mettre au courant sa Juliette de la décision qu’il a prise pour la destinée du Resto. Et c’est à travers des clients plus colorés les uns que les autres que Roméo et Juliette devront faire face pour assurer la survie de leur Café-Resto. Pas toujours facile!!  Au final\, quelle sera la décision de Roméo? \nUn peu d’histoire: Berthe Roy était une directrice d’école qui faisait beaucoup de théâtre avec les élèves; de là l’inspiration du nom de la troupe. Le Vieux Théâtre et La Troupe du Roy Berthe ont animé ensemble la salle du Vieux Théâtre à la fin des années 1990 afin de la maintenir en opération. Aujourd’hui\, ce sont deux entités distinctes : l’une en diffusion pluridisciplinaire des arts vivants\, l’autre en théâtre d’été rafraîchissant. Chacun à leur façon\, ils honorent le passé culturel et festif de Saint-Fabien et poursuivent leur volonté d’animer le coeur du village en saison estivale. \n\nLes places sont limitées.\nVous devez choisir votre date (6-7-8-9 juillet et 27-28-29-30 juillet) et RÉSERVER AU 418-869-2599. \nIl pourrait ne pas y avoir de vente au guichet\, l’année s’annonce fortement achalandée. Faites vite !\n\nEn pré-vente à 20 $ jusqu’au 5 juillet 2023.\nTarif régulier à 25$.\n\nhttps://troupeduroyberthe.com
URL:https://www.saint-fabien.ca/event-calendar/vieux-theatre-cafe-resto-chez-juju-troupe-du-roy-berthe/2023-07-09/
LOCATION:Vieux Théâtre\, 112\, 1re Rue\, Saint-Fabien\, Québec\, G0L2Z0\, Canada
CATEGORIES:Culture
GEO:48.2957724;-68.8668237
X-APPLE-STRUCTURED-LOCATION;VALUE=URI;X-ADDRESS=Vieux Théâtre 112 1re Rue Saint-Fabien Québec G0L2Z0 Canada;X-APPLE-RADIUS=500;X-TITLE=112\, 1re Rue:geo:-68.8668237,48.2957724
END:VEVENT
BEGIN:VEVENT
DTSTART;TZID=America/Toronto:20230708T200000
DTEND;TZID=America/Toronto:20230708T220000
DTSTAMP:20260419T123407
CREATED:20230703T191857Z
LAST-MODIFIED:20230703T191857Z
UID:10025471-1688846400-1688853600@www.saint-fabien.ca
SUMMARY:Vieux Théâtre - Café Resto chez Juju - Troupe du Roy Berthe
DESCRIPTION:Après une pause de trois ans en raison de la pandémie\, la Troupe du Roy Berthe de Saint-Fabien reprend du service cet été en présentant la pièce « Café-Resto Chez Juju »\, au Vieux Théâtre de Saint-Fabien\, en juillet 2023. \nLa Troupe du Roy Berthe a débuté ses activités en 1999. Depuis\, elle présente une nouvelle pièce à chaque année. Elle se spécialise dans les comédies qui sont bien appréciées en théâtre d’été. \nLe Vieux Théâtre prête ses murs et sa scène à la Troupe du Roy Berthe depuis toujours. Ce théâtre issu du milieu local fabiennois est le fruit du travail de gens d’ici qui participent  à la vie théâtrale de la communauté. \n\n« CAFÉ-RESTO CHEZ JUJU »\n6-7-8-9 juillet 2023\n27-28-29-30 juillet 2023\n\n Une pièce écrite et mise en scène par Noëlline Thérriault\nAvec Mario Coulombe\, Caroline Gagnon\, Carmelle Jean\, Martin Lemarbre\, Marie-Pier Mimeault et Noëlline Thérriault\n \nC’est dans ce petit Café-Resto que Juliette et Roméo\, propriétaires\, ont pris la décision de fermer le Resto pour la soirée\, histoire de pouvoir fêter les 60 ans du frère à Juliette. Au début de la soirée\, arrive les deux premiers invités…personnages festifs et joviaux dont la gaieté est souvent communicative. Mais une question posée à Roméo durant la soirée l‘amènera à réfléchir sur l’avenir du Café-Resto.\nRoméo décide de mettre au courant sa Juliette de la décision qu’il a prise pour la destinée du Resto. Et c’est à travers des clients plus colorés les uns que les autres que Roméo et Juliette devront faire face pour assurer la survie de leur Café-Resto. Pas toujours facile!!  Au final\, quelle sera la décision de Roméo? \nUn peu d’histoire: Berthe Roy était une directrice d’école qui faisait beaucoup de théâtre avec les élèves; de là l’inspiration du nom de la troupe. Le Vieux Théâtre et La Troupe du Roy Berthe ont animé ensemble la salle du Vieux Théâtre à la fin des années 1990 afin de la maintenir en opération. Aujourd’hui\, ce sont deux entités distinctes : l’une en diffusion pluridisciplinaire des arts vivants\, l’autre en théâtre d’été rafraîchissant. Chacun à leur façon\, ils honorent le passé culturel et festif de Saint-Fabien et poursuivent leur volonté d’animer le coeur du village en saison estivale. \n\nLes places sont limitées.\nVous devez choisir votre date (6-7-8-9 juillet et 27-28-29-30 juillet) et RÉSERVER AU 418-869-2599. \nIl pourrait ne pas y avoir de vente au guichet\, l’année s’annonce fortement achalandée. Faites vite !\n\nEn pré-vente à 20 $ jusqu’au 5 juillet 2023.\nTarif régulier à 25$.\n\nhttps://troupeduroyberthe.com
URL:https://www.saint-fabien.ca/event-calendar/vieux-theatre-cafe-resto-chez-juju-troupe-du-roy-berthe/2023-07-08/
LOCATION:Vieux Théâtre\, 112\, 1re Rue\, Saint-Fabien\, Québec\, G0L2Z0\, Canada
CATEGORIES:Culture
GEO:48.2957724;-68.8668237
X-APPLE-STRUCTURED-LOCATION;VALUE=URI;X-ADDRESS=Vieux Théâtre 112 1re Rue Saint-Fabien Québec G0L2Z0 Canada;X-APPLE-RADIUS=500;X-TITLE=112\, 1re Rue:geo:-68.8668237,48.2957724
END:VEVENT
BEGIN:VEVENT
DTSTART;TZID=America/Toronto:20230707T200000
DTEND;TZID=America/Toronto:20230707T220000
DTSTAMP:20260419T123407
CREATED:20230703T191857Z
LAST-MODIFIED:20230703T191857Z
UID:10025470-1688760000-1688767200@www.saint-fabien.ca
SUMMARY:Vieux Théâtre - Café Resto chez Juju - Troupe du Roy Berthe
DESCRIPTION:Après une pause de trois ans en raison de la pandémie\, la Troupe du Roy Berthe de Saint-Fabien reprend du service cet été en présentant la pièce « Café-Resto Chez Juju »\, au Vieux Théâtre de Saint-Fabien\, en juillet 2023. \nLa Troupe du Roy Berthe a débuté ses activités en 1999. Depuis\, elle présente une nouvelle pièce à chaque année. Elle se spécialise dans les comédies qui sont bien appréciées en théâtre d’été. \nLe Vieux Théâtre prête ses murs et sa scène à la Troupe du Roy Berthe depuis toujours. Ce théâtre issu du milieu local fabiennois est le fruit du travail de gens d’ici qui participent  à la vie théâtrale de la communauté. \n\n« CAFÉ-RESTO CHEZ JUJU »\n6-7-8-9 juillet 2023\n27-28-29-30 juillet 2023\n\n Une pièce écrite et mise en scène par Noëlline Thérriault\nAvec Mario Coulombe\, Caroline Gagnon\, Carmelle Jean\, Martin Lemarbre\, Marie-Pier Mimeault et Noëlline Thérriault\n \nC’est dans ce petit Café-Resto que Juliette et Roméo\, propriétaires\, ont pris la décision de fermer le Resto pour la soirée\, histoire de pouvoir fêter les 60 ans du frère à Juliette. Au début de la soirée\, arrive les deux premiers invités…personnages festifs et joviaux dont la gaieté est souvent communicative. Mais une question posée à Roméo durant la soirée l‘amènera à réfléchir sur l’avenir du Café-Resto.\nRoméo décide de mettre au courant sa Juliette de la décision qu’il a prise pour la destinée du Resto. Et c’est à travers des clients plus colorés les uns que les autres que Roméo et Juliette devront faire face pour assurer la survie de leur Café-Resto. Pas toujours facile!!  Au final\, quelle sera la décision de Roméo? \nUn peu d’histoire: Berthe Roy était une directrice d’école qui faisait beaucoup de théâtre avec les élèves; de là l’inspiration du nom de la troupe. Le Vieux Théâtre et La Troupe du Roy Berthe ont animé ensemble la salle du Vieux Théâtre à la fin des années 1990 afin de la maintenir en opération. Aujourd’hui\, ce sont deux entités distinctes : l’une en diffusion pluridisciplinaire des arts vivants\, l’autre en théâtre d’été rafraîchissant. Chacun à leur façon\, ils honorent le passé culturel et festif de Saint-Fabien et poursuivent leur volonté d’animer le coeur du village en saison estivale. \n\nLes places sont limitées.\nVous devez choisir votre date (6-7-8-9 juillet et 27-28-29-30 juillet) et RÉSERVER AU 418-869-2599. \nIl pourrait ne pas y avoir de vente au guichet\, l’année s’annonce fortement achalandée. Faites vite !\n\nEn pré-vente à 20 $ jusqu’au 5 juillet 2023.\nTarif régulier à 25$.\n\nhttps://troupeduroyberthe.com
URL:https://www.saint-fabien.ca/event-calendar/vieux-theatre-cafe-resto-chez-juju-troupe-du-roy-berthe/2023-07-07/
LOCATION:Vieux Théâtre\, 112\, 1re Rue\, Saint-Fabien\, Québec\, G0L2Z0\, Canada
CATEGORIES:Culture
GEO:48.2957724;-68.8668237
X-APPLE-STRUCTURED-LOCATION;VALUE=URI;X-ADDRESS=Vieux Théâtre 112 1re Rue Saint-Fabien Québec G0L2Z0 Canada;X-APPLE-RADIUS=500;X-TITLE=112\, 1re Rue:geo:-68.8668237,48.2957724
END:VEVENT
BEGIN:VEVENT
DTSTART;TZID=America/Toronto:20230706T200000
DTEND;TZID=America/Toronto:20230706T220000
DTSTAMP:20260419T123407
CREATED:20230703T191857Z
LAST-MODIFIED:20230703T191857Z
UID:10025469-1688673600-1688680800@www.saint-fabien.ca
SUMMARY:Vieux Théâtre - Café Resto chez Juju - Troupe du Roy Berthe
DESCRIPTION:Après une pause de trois ans en raison de la pandémie\, la Troupe du Roy Berthe de Saint-Fabien reprend du service cet été en présentant la pièce « Café-Resto Chez Juju »\, au Vieux Théâtre de Saint-Fabien\, en juillet 2023. \nLa Troupe du Roy Berthe a débuté ses activités en 1999. Depuis\, elle présente une nouvelle pièce à chaque année. Elle se spécialise dans les comédies qui sont bien appréciées en théâtre d’été. \nLe Vieux Théâtre prête ses murs et sa scène à la Troupe du Roy Berthe depuis toujours. Ce théâtre issu du milieu local fabiennois est le fruit du travail de gens d’ici qui participent  à la vie théâtrale de la communauté. \n\n« CAFÉ-RESTO CHEZ JUJU »\n6-7-8-9 juillet 2023\n27-28-29-30 juillet 2023\n\n Une pièce écrite et mise en scène par Noëlline Thérriault\nAvec Mario Coulombe\, Caroline Gagnon\, Carmelle Jean\, Martin Lemarbre\, Marie-Pier Mimeault et Noëlline Thérriault\n \nC’est dans ce petit Café-Resto que Juliette et Roméo\, propriétaires\, ont pris la décision de fermer le Resto pour la soirée\, histoire de pouvoir fêter les 60 ans du frère à Juliette. Au début de la soirée\, arrive les deux premiers invités…personnages festifs et joviaux dont la gaieté est souvent communicative. Mais une question posée à Roméo durant la soirée l‘amènera à réfléchir sur l’avenir du Café-Resto.\nRoméo décide de mettre au courant sa Juliette de la décision qu’il a prise pour la destinée du Resto. Et c’est à travers des clients plus colorés les uns que les autres que Roméo et Juliette devront faire face pour assurer la survie de leur Café-Resto. Pas toujours facile!!  Au final\, quelle sera la décision de Roméo? \nUn peu d’histoire: Berthe Roy était une directrice d’école qui faisait beaucoup de théâtre avec les élèves; de là l’inspiration du nom de la troupe. Le Vieux Théâtre et La Troupe du Roy Berthe ont animé ensemble la salle du Vieux Théâtre à la fin des années 1990 afin de la maintenir en opération. Aujourd’hui\, ce sont deux entités distinctes : l’une en diffusion pluridisciplinaire des arts vivants\, l’autre en théâtre d’été rafraîchissant. Chacun à leur façon\, ils honorent le passé culturel et festif de Saint-Fabien et poursuivent leur volonté d’animer le coeur du village en saison estivale. \n\nLes places sont limitées.\nVous devez choisir votre date (6-7-8-9 juillet et 27-28-29-30 juillet) et RÉSERVER AU 418-869-2599. \nIl pourrait ne pas y avoir de vente au guichet\, l’année s’annonce fortement achalandée. Faites vite !\n\nEn pré-vente à 20 $ jusqu’au 5 juillet 2023.\nTarif régulier à 25$.\n\nhttps://troupeduroyberthe.com
URL:https://www.saint-fabien.ca/event-calendar/vieux-theatre-cafe-resto-chez-juju-troupe-du-roy-berthe/2023-07-06/
LOCATION:Vieux Théâtre\, 112\, 1re Rue\, Saint-Fabien\, Québec\, G0L2Z0\, Canada
CATEGORIES:Culture
GEO:48.2957724;-68.8668237
X-APPLE-STRUCTURED-LOCATION;VALUE=URI;X-ADDRESS=Vieux Théâtre 112 1re Rue Saint-Fabien Québec G0L2Z0 Canada;X-APPLE-RADIUS=500;X-TITLE=112\, 1re Rue:geo:-68.8668237,48.2957724
END:VEVENT
END:VCALENDAR